{"text_format":"1","workbook":"xlsx","n_sheets":8,"sheets":["Ref Score sheet","Team Sheets","Scoring Sheet","Replacements","Whatsapp","Notes","Calculations","Codes"],"not_rendered":{"charts":0,"images":1,"macros":1,"external_links":0,"defined_names":5,"comments":0,"pivot_tables":0},"unopened":[],"bounds":{"document_bytes":16777216,"sheet_cells":100000,"rows_first":2000,"rows_last":500,"rows_between":2000,"halvings":0,"cell_chars":16384,"cell_head_chars":4096},"cells_cut":0,"cells_raw":0,"read":"whole","date_system":"1900"}

{"sheet":"Ref Score sheet","index":0,"n_rows":124,"n_cols":27,"rows_kept":124,"cut":false,"hidden":false,"merged":[[17,15,17,23],[0,15,1,19],[91,3,91,4],[64,5,64,7],[65,5,65,7],[50,3,50,4],[51,3,51,4],[52,3,52,4],[63,5,63,7],[62,5,62,7],[60,5,60,7],[61,5,61,7],[54,5,54,7],[55,5,55,7],[58,5,58,7],[59,5,59,7],[56,5,56,7],[57,5,57,7],[72,3,72,4],[54,3,54,4],[71,3,71,4],[62,3,62,4],[63,3,63,4],[64,3,64,4],[3,16,3,19],[9,9,9,13],[10,9,10,13],[11,9,11,13],[2,16,2,19],[93,3,93,4],[94,3,94,4],[107,3,107,4],[74,3,74,4],[75,3,75,4],[76,3,76,4],[90,3,90,4],[79,3,79,4],[80,3,80,4],[81,3,81,4],[82,3,82,4],[83,3,83,4],[84,3,84,4],[85,3,85,4],[89,3,89,4],[88,3,88,4],[77,3,77,4],[78,3,78,4],[86,3,86,4],[87,3,87,4],[92,3,92,4],[108,3,108,4],[101,3,101,4],[102,3,102,4],[105,3,105,4],[106,3,106,4],[95,3,95,4],[96,3,96,4],[99,3,99,4],[103,3,103,4],[104,3,104,4],[97,3,97,4],[98,3,98,4],[100,3,100,4],[123,3,123,4],[113,3,113,4],[116,3,116,4],[117,3,117,4],[109,3,109,4],[110,3,110,4],[111,3,111,4],[112,3,112,4],[114,3,114,4],[118,3,118,4],[119,3,119,4],[120,3,120,4],[121,3,121,4],[122,3,122,4],[115,3,115,4],[25,3,25,4],[26,3,26,4],[28,3,28,4],[32,3,32,4],[33,3,33,4],[53,3,53,4],[48,3,48,4],[49,3,49,4],[38,3,38,4],[39,3,39,4],[40,3,40,4],[41,3,41,4],[42,3,42,4],[43,3,43,4],[44,3,44,4],[45,3,45,4],[46,3,46,4],[47,3,47,4],[34,3,34,4],[35,3,35,4],[36,3,36,4],[37,3,37,4],[27,3,27,4],[30,3,30,4],[123,11,123,13],[15,8,15,10],[15,11,15,13],[119,11,119,13],[120,11,120,13],[121,11,121,13],[122,11,122,13],[110,11,110,13],[111,11,111,13],[112,11,112,13],[106,11,106,13],[102,11,102,13],[103,11,103,13],[104,11,104,13],[105,11,105,13],[118,11,118,13],[81,11,81,13],[82,11,82,13],[83,11,83,13],[84,11,84,13],[72,11,72,13],[73,11,73,13],[74,11,74,13],[75,11,75,13],[55,3,55,4],[60,3,60,4],[61,3,61,4],[56,3,56,4],[57,3,57,4],[73,3,73,4],[58,3,58,4],[59,3,59,4],[66,3,66,4],[65,3,65,4],[67,3,67,4],[68,3,68,4],[69,3,69,4],[70,3,70,4],[76,11,76,13],[77,11,77,13],[78,11,78,13],[79,11,79,13],[80,11,80,13],[117,11,117,13],[108,11,108,13],[109,11,109,13],[90,11,90,13],[91,11,91,13],[100,11,100,13],[87,11,87,13],[98,11,98,13],[99,11,99,13],[96,11,96,13],[97,11,97,13],[113,11,113,13],[114,11,114,13],[115,11,115,13],[116,11,116,13],[107,11,107,13],[111,8,111,10],[112,8,112,10],[76,8,76,10],[77,8,77,10],[74,8,74,10],[75,8,75,10],[78,8,78,10],[106,8,106,10],[101,8,101,10],[73,8,73,10],[72,8,72,10],[97,8,97,10],[98,8,98,10],[99,8,99,10],[100,8,100,10],[91,8,91,10],[92,8,92,10],[89,8,89,10],[123,5,123,7],[119,5,119,7],[120,5,120,7],[121,5,121,7],[122,5,122,7],[95,8,95,10],[96,8,96,10],[119,8,119,10],[107,8,107,10],[108,8,108,10],[102,8,102,10],[103,8,103,10],[104,8,104,10],[122,8,122,10],[123,8,123,10],[113,8,113,10],[114,8,114,10],[115,8,115,10],[116,8,116,10],[117,8,117,10],[120,8,120,10],[118,8,118,10],[117,5,117,7],[121,8,121,10],[118,5,118,7],[110,5,110,7],[111,5,111,7],[115,5,115,7],[116,5,116,7],[79,8,79,10],[80,8,80,10],[90,8,90,10],[85,8,85,10],[86,8,86,10],[87,8,87,10],[88,8,88,10],[83,8,83,10],[84,8,84,10],[106,5,106,7],[107,5,107,7],[93,8,93,10],[94,8,94,10],[81,8,81,10],[82,8,82,10],[96,5,96,7],[105,8,105,10],[109,8,109,10],[110,8,110,10],[89,5,89,7],[113,5,113,7],[114,5,114,7],[108,5,108,7],[109,5,109,7],[112,5,112,7],[104,5,104,7],[105,5,105,7],[100,5,100,7],[101,5,101,7],[103,5,103,7],[98,5,98,7],[99,5,99,7],[82,5,82,7],[83,5,83,7],[94,5,94,7],[95,5,95,7],[102,5,102,7],[101,11,101,13],[92,11,92,13],[93,11,93,13],[85,11,85,13],[86,11,86,13],[94,11,94,13],[95,11,95,13],[88,11,88,13],[89,11,89,13],[84,5,84,7],[85,5,85,7],[97,5,97,7],[86,5,86,7],[87,5,87,7],[90,5,90,7],[91,5,91,7],[92,5,92,7],[93,5,93,7],[88,5,88,7],[78,5,78,7],[79,5,79,7],[80,5,80,7],[81,5,81,7],[76,5,76,7],[77,5,77,7],[66,5,66,7],[67,5,67,7],[68,5,68,7],[69,5,69,7],[72,5,72,7],[73,5,73,7],[70,5,70,7],[71,5,71,7],[74,5,74,7],[75,5,75,7],[66,11,66,13],[67,11,67,13],[68,11,68,13],[67,8,67,10],[69,11,69,13],[71,8,71,10],[70,8,70,10],[70,11,70,13],[64,11,64,13],[65,11,65,13],[64,8,64,10],[65,8,65,10],[66,8,66,10],[68,8,68,10],[69,8,69,10],[71,11,71,13],[63,11,63,13],[60,8,60,10],[61,8,61,10],[59,11,59,13],[58,8,58,10],[59,8,59,10],[62,8,62,10],[46,11,46,13],[47,11,47,13],[48,11,48,13],[49,11,49,13],[52,11,52,13],[58,11,58,13],[53,11,53,13],[54,11,54,13],[55,11,55,13],[50,11,50,13],[51,11,51,13],[56,11,56,13],[57,11,57,13],[63,8,63,10],[60,11,60,13],[61,11,61,13],[62,11,62,13],[44,11,44,13],[28,11,28,13],[29,11,29,13],[30,11,30,13],[31,11,31,13],[45,11,45,13],[40,11,40,13],[41,11,41,13],[42,11,42,13],[43,11,43,13],[35,11,35,13],[38,11,38,13],[32,11,32,13],[33,11,33,13],[34,11,34,13],[39,11,39,13],[53,8,53,10],[48,8,48,10],[49,8,49,10],[25,8,25,10],[26,8,26,10],[27,8,27,10],[28,8,28,10],[29,8,29,10],[50,8,50,10],[51,8,51,10],[47,8,47,10],[37,8,37,10],[38,8,38,10],[39,8,39,10],[40,8,40,10],[41,8,41,10],[42,8,42,10],[43,8,43,10],[33,8,33,10],[46,8,46,10],[45,8,45,10],[34,8,34,10],[35,8,35,10],[31,8,31,10],[42,5,42,7],[34,5,34,7],[35,5,35,7],[57,8,57,10],[54,8,54,10],[55,8,55,10],[43,5,43,7],[36,5,36,7],[37,5,37,7],[50,5,50,7],[51,5,51,7],[52,5,52,7],[53,5,53,7],[44,8,44,10],[48,5,48,7],[49,5,49,7],[38,5,38,7],[39,5,39,7],[44,5,44,7],[45,5,45,7],[46,5,46,7],[47,5,47,7],[56,8,56,10],[52,8,52,10],[41,5,41,7],[32,8,32,10],[30,8,30,10],[36,8,36,10],[23,11,23,13],[24,11,24,13],[25,11,25,13],[26,11,26,13],[27,11,27,13],[36,11,36,13],[37,11,37,13],[26,5,26,7],[27,5,27,7],[28,5,28,7],[25,5,25,7],[24,5,24,7],[23,8,23,10],[21,11,21,13],[22,11,22,13],[29,5,29,7],[30,5,30,7],[31,5,31,7],[32,5,32,7],[33,5,33,7],[40,5,40,7],[11,3,11,7],[18,3,18,4],[18,5,18,7],[19,3,19,4],[18,8,18,10],[19,8,19,10],[20,8,20,10],[21,8,21,10],[22,8,22,10],[12,9,12,13],[29,3,29,4],[31,3,31,4],[21,3,21,4],[22,3,22,4],[23,3,23,4],[24,3,24,4],[10,0,11,2],[24,8,24,10],[20,3,20,4],[16,3,16,4],[17,3,17,4],[20,5,20,7],[16,5,16,7],[17,5,17,7],[5,9,5,13],[14,3,14,7],[13,3,13,7],[18,11,18,13],[19,11,19,13],[15,3,15,7],[16,11,16,13],[17,11,17,13],[20,11,20,13],[21,5,21,7],[22,5,22,7],[23,5,23,7],[16,8,16,10],[17,8,17,10],[19,5,19,7],[10,3,10,7],[2,3,2,13],[14,0,14,2],[9,0,9,2],[0,5,0,7],[4,0,4,2],[1,0,1,13],[4,3,4,7],[0,9,0,13],[8,0,8,2],[13,0,13,2],[5,0,5,2],[6,0,6,2],[7,0,7,2],[12,0,12,2],[5,3,5,5],[6,3,6,5],[7,3,7,5],[8,3,8,7],[9,3,9,7],[13,9,13,13],[4,8,4,13],[6,9,6,13],[7,9,7,13],[8,9,8,13]]}
[null,null,null,null,null,"SOUTH AFRICAN RUGBY UNION MATCH SCORE SHEET",null,null,null,"SA Rugby Stats 2024 v1",null,null,null,null,null,"Sub/Replace Count"]
[]
[null,null,"e-mail to:","eddieg@sarugby.co.za; mwprugby@gmail.com; mornen@sarugby.co.za; jaco@evolveav.co.za; eugenev@sarugby.co.za; matchcoding@mobii.com; Zingi.Hela@sarugby.co.za",null,null,null,null,null,null,null,null,null,null,{"$f":"Q3","v":0},"H",{"$f":"COUNTIFS($B$16:$B$123,P3,$C$16:$C$123,Codes!$D$1)+COUNTIFS($B$16:$B$123,P3,$C$16:$C$123,Codes!$D$2)+COUNTIFS($B$16:$B$123,P3,$C$16:$C$123,Codes!#REF!)+COUNTIFS($B$16:$B$123,P3,$C$16:$C$123,Codes!$D$3)","v":0}]
[null,null,"Any internet connection problems the final score must be “SMS” shortly after the final whistle to Eddie/Zingi 082 693 5917/072 631 2846",null,null,null,null,null,null,null,null,null,null,null,{"$f":"Q4","v":0},"A",{"$f":"COUNTIFS($B$16:$B$123,P4,$C$16:$C$123,Codes!$D$1)+COUNTIFS($B$16:$B$123,P4,$C$16:$C$123,Codes!$D$2)+COUNTIFS($B$16:$B$123,P4,$C$16:$C$123,+COUNTIFS($B$16:$B$123,P4,$C$16:$C$123,Codes!$D$3))","v":0}]
["Competition:",null,null,null,null,null,null,null,"Match Officials Names:"]
["MATCH DETAILS:",null,null,"Team",null,null,"Half time score","Full time score","Referee :"]
["Home:",null,null,null,null,null,{"$f":"Calculations!AF120","v":0},{"$f":"Calculations!M120","v":0},"TMO :"]
["Away:",null,null,null,null,null,{"$f":"Calculations!BL120","v":0},{"$f":"Calculations!AT120","v":0},"AR 1 :"]
["Date:",null,null,null,null,null,null,null,"AR 2 :"]
["Venue:",null,null,null,null,null,null,null,"RC 4:"]
["Conditions:",null,null,null,null,null,null,null,"RC 5:"]
[null,null,null,null,null,null,null,null,"PMR:"]
["Man of the Match:",null,null,null,null,null,null,null,"SLM:",null,null,null,null,null,null,"Note: SLM replaces the TZM"]
["Statistician Name:",null,null,null,null,null,null,null,"Time K:"]
["EVENT DETAILS",null,null,null,null,null,null,null,"EVENT SCORE"]
["Mins","Team","Event","Number AND name",null,null,null,null,"Home",null,null,"Away"]
[0,null,"FH-S",null,null,{"$f":"IF(AND(B17=\"h\",D17<>\"\"),(VLOOKUP(D17,'Team Sheets'!$B$3:$C$30,2,FALSE)),IF(AND(B17=\"A\",D17<>\"\"),(VLOOKUP(D17,'Team Sheets'!$E$3:$F$30,2,FALSE)),\" \"))","v":" "},null,null,{"$f":"IF(C17=\"FH-E\",Calculations!M12,IF(Calculations!L12=0,\"\",Calculations!M12))","v":""},null,null,{"$f":"IF(C17=\"FH-E\",Calculations!AT12,IF(Calculations!AS12=0,\"\",Calculations!AT12))","v":""},null,null,{"$f":"IF(OR(AA17=\"\",COUNTIF(AA:AA,AA17)=1),\"\",IF(COUNTIF(AA:AA,AA17)>200,0,IF(COUNTIF(AA:AA,AA17)=1,0,COUNTIF(AA:AA,AA17))))","v":""},null,null,null,null,null,null,null,null,null,null,null,{"$f":"IF(OR(C17=\"RT-OFF\",C17=\"RT-ON\",C17=\"RI-Off\",C17=\"RI-On\"),B17&MID(C17,FIND(\"-\",C17,2),3)&D17,\"\")","v":""}]
[null,null,null,null,null,{"$f":"IF(AND(B18=\"h\",D18<>\"\"),(VLOOKUP(D18,'Team Sheets'!$B$3:$C$30,2,FALSE)),IF(AND(B18=\"A\",D18<>\"\"),(VLOOKUP(D18,'Team Sheets'!$E$3:$F$30,2,FALSE)),\" \"))","v":" "},null,null,{"$f":"IF(C18=\"FH-E\",Calculations!M13,IF(Calculations!L13=0,\"\",Calculations!M13))","v":""},null,null,{"$f":"IF(C18=\"FH-E\",Calculations!AT13,IF(Calculations!AS13=0,\"\",Calculations!AT13))","v":""},null,null,"",null,null,null,null,null,null,null,null,null,null,null,{"$f":"IF(OR(C18=\"RT-OFF\",C18=\"RT-ON\",C18=\"RI-Off\",C18=\"RI-On\"),B18&MID(C18,FIND(\"-\",C18,2),3)&D18,\"\")","v":""}]
[null,null,null,null,null,{"$f":"IF(AND(B19=\"h\",D19<>\"\"),(VLOOKUP(D19,'Team Sheets'!$B$3:$C$30,2,FALSE)),IF(AND(B19=\"A\",D19<>\"\"),(VLOOKUP(D19,'Team Sheets'!$E$3:$F$30,2,FALSE)),\" \"))","v":" "},null,null,{"$f":"IF(C19=\"FH-E\",Calculations!M14,IF(Calculations!L14=0,\"\",Calculations!M14))","v":""},null,null,{"$f":"IF(C19=\"FH-E\",Calculations!AT14,IF(Calculations!AS14=0,\"\",Calculations!AT14))","v":""},null,null,"",null,null,null,null,null,null,null,null,null,null,null,""]
[null,null,null,null,null,{"$f":"IF(AND(B20=\"h\",D20<>\"\"),(VLOOKUP(D20,'Team Sheets'!$B$3:$C$30,2,FALSE)),IF(AND(B20=\"A\",D20<>\"\"),(VLOOKUP(D20,'Team Sheets'!$E$3:$F$30,2,FALSE)),\" \"))","v":" "},null,null,{"$f":"IF(C20=\"FH-E\",Calculations!M15,IF(Calculations!L15=0,\"\",Calculations!M15))","v":""},null,null,{"$f":"IF(C20=\"FH-E\",Calculations!AT15,IF(Calculations!AS15=0,\"\",Calculations!AT15))","v":""},null,null,"",null,null,null,null,null,null,null,null,null,null,null,""]
[null,null,null,null,null,{"$f":"IF(AND(B21=\"h\",D21<>\"\"),(VLOOKUP(D21,'Team Sheets'!$B$3:$C$30,2,FALSE)),IF(AND(B21=\"A\",D21<>\"\"),(VLOOKUP(D21,'Team Sheets'!$E$3:$F$30,2,FALSE)),\" \"))","v":" "},null,null,{"$f":"IF(C21=\"FH-E\",Calculations!M16,IF(Calculations!L16=0,\"\",Calculations!M16))","v":""},null,null,{"$f":"IF(C21=\"FH-E\",Calculations!AT16,IF(Calculations!AS16=0,\"\",Calculations!AT16))","v":""},null,null,"",null,null,null,null,null,null,null,null,null,null,null,""]
[null,null,null,null,null,{"$f":"IF(AND(B22=\"h\",D22<>\"\"),(VLOOKUP(D22,'Team Sheets'!$B$3:$C$30,2,FALSE)),IF(AND(B22=\"A\",D22<>\"\"),(VLOOKUP(D22,'Team Sheets'!$E$3:$F$30,2,FALSE)),\" \"))","v":" "},null,null,{"$f":"IF(C22=\"FH-E\",Calculations!M17,IF(Calculations!L17=0,\"\",Calculations!M17))","v":""},null,null,{"$f":"IF(C22=\"FH-E\",Calculations!AT17,IF(Calculations!AS17=0,\"\",Calculations!AT17))","v":""},null,null,"",null,null,null,null,null,null,null,null,null,null,null,""]
[null,null,null,null,null,{"$f":"IF(AND(B23=\"h\",D23<>\"\"),(VLOOKUP(D23,'Team Sheets'!$B$3:$C$30,2,FALSE)),IF(AND(B23=\"A\",D23<>\"\"),(VLOOKUP(D23,'Team Sheets'!$E$3:$F$30,2,FALSE)),\" \"))","v":" "},null,null,{"$f":"IF(C23=\"FH-E\",Calculations!M18,IF(Calculations!L18=0,\"\",Calculations!M18))","v":""},null,null,{"$f":"IF(C23=\"FH-E\",Calculations!AT18,IF(Calculations!AS18=0,\"\",Calculations!AT18))","v":""},null,null,"",null,null,null,null,null,null,null,null,null,null,null,""]
[null,null,null,null,null,{"$f":"IF(AND(B24=\"h\",D24<>\"\"),(VLOOKUP(D24,'Team Sheets'!$B$3:$C$30,2,FALSE)),IF(AND(B24=\"A\",D24<>\"\"),(VLOOKUP(D24,'Team Sheets'!$E$3:$F$30,2,FALSE)),\" \"))","v":" "},null,null,{"$f":"IF(C24=\"FH-E\",Calculations!M19,IF(Calculations!L19=0,\"\",Calculations!M19))","v":""},null,null,{"$f":"IF(C24=\"FH-E\",Calculations!AT19,IF(Calculations!AS19=0,\"\",Calculations!AT19))","v":""},null,null,"",null,null,null,null,null,null,null,null,null,null,null,""]
[null,null,null,null,null,{"$f":"IF(AND(B25=\"h\",D25<>\"\"),(VLOOKUP(D25,'Team Sheets'!$B$3:$C$30,2,FALSE)),IF(AND(B25=\"A\",D25<>\"\"),(VLOOKUP(D25,'Team Sheets'!$E$3:$F$30,2,FALSE)),\" \"))","v":" "},null,null,{"$f":"IF(C25=\"FH-E\",Calculations!M20,IF(Calculations!L20=0,\"\",Calculations!M20))","v":""},null,null,{"$f":"IF(C25=\"FH-E\",Calculations!AT20,IF(Calculations!AS20=0,\"\",Calculations!AT20))","v":""},null,null,"",null,null,null,null,null,null,null,null,null,null,null,""]
[null,null,null,null,null,{"$f":"IF(AND(B26=\"h\",D26<>\"\"),(VLOOKUP(D26,'Team Sheets'!$B$3:$C$30,2,FALSE)),IF(AND(B26=\"A\",D26<>\"\"),(VLOOKUP(D26,'Team Sheets'!$E$3:$F$30,2,FALSE)),\" \"))","v":" "},null,null,{"$f":"IF(C26=\"FH-E\",Calculations!M21,IF(Calculations!L21=0,\"\",Calculations!M21))","v":""},null,null,{"$f":"IF(C26=\"FH-E\",Calculations!AT21,IF(Calculations!AS21=0,\"\",Calculations!AT21))","v":""},null,null,"",null,null,null,null,null,null,null,null,null,null,null,""]
[null,null,null,null,null,{"$f":"IF(AND(B27=\"h\",D27<>\"\"),(VLOOKUP(D27,'Team Sheets'!$B$3:$C$30,2,FALSE)),IF(AND(B27=\"A\",D27<>\"\"),(VLOOKUP(D27,'Team Sheets'!$E$3:$F$30,2,FALSE)),\" \"))","v":" "},null,null,{"$f":"IF(C27=\"FH-E\",Calculations!M22,IF(Calculations!L22=0,\"\",Calculations!M22))","v":""},null,null,{"$f":"IF(C27=\"FH-E\",Calculations!AT22,IF(Calculations!AS22=0,\"\",Calculations!AT22))","v":""},null,null,"",null,null,null,null,null,null,null,null,null,null,null,""]
[null,null,null,null,null,{"$f":"IF(AND(B28=\"h\",D28<>\"\"),(VLOOKUP(D28,'Team Sheets'!$B$3:$C$30,2,FALSE)),IF(AND(B28=\"A\",D28<>\"\"),(VLOOKUP(D28,'Team Sheets'!$E$3:$F$30,2,FALSE)),\" \"))","v":" "},null,null,{"$f":"IF(C28=\"FH-E\",Calculations!M23,IF(Calculations!L23=0,\"\",Calculations!M23))","v":""},null,null,{"$f":"IF(C28=\"FH-E\",Calculations!AT23,IF(Calculations!AS23=0,\"\",Calculations!AT23))","v":""},null,null,"",null,null,null,null,null,null,null,null,null,null,null,""]
[null,null,null,null,null,{"$f":"IF(AND(B29=\"h\",D29<>\"\"),(VLOOKUP(D29,'Team Sheets'!$B$3:$C$30,2,FALSE)),IF(AND(B29=\"A\",D29<>\"\"),(VLOOKUP(D29,'Team Sheets'!$E$3:$F$30,2,FALSE)),\" \"))","v":" "},null,null,{"$f":"IF(C29=\"FH-E\",Calculations!M24,IF(Calculations!L24=0,\"\",Calculations!M24))","v":""},null,null,{"$f":"IF(C29=\"FH-E\",Calculations!AT24,IF(Calculations!AS24=0,\"\",Calculations!AT24))","v":""},null,null,"",null,null,null,null,null,null,null,null,null,null,null,""]
[null,null,null,null,null,{"$f":"IF(AND(B30=\"h\",D30<>\"\"),(VLOOKUP(D30,'Team Sheets'!$B$3:$C$30,2,FALSE)),IF(AND(B30=\"A\",D30<>\"\"),(VLOOKUP(D30,'Team Sheets'!$E$3:$F$30,2,FALSE)),\" \"))","v":" "},null,null,{"$f":"IF(C30=\"FH-E\",Calculations!M25,IF(Calculations!L25=0,\"\",Calculations!M25))","v":""},null,null,{"$f":"IF(C30=\"FH-E\",Calculations!AT25,IF(Calculations!AS25=0,\"\",Calculations!AT25))","v":""},null,null,"",null,null,null,null,null,null,null,null,null,null,null,""]
[null,null,null,null,null,{"$f":"IF(AND(B31=\"h\",D31<>\"\"),(VLOOKUP(D31,'Team Sheets'!$B$3:$C$30,2,FALSE)),IF(AND(B31=\"A\",D31<>\"\"),(VLOOKUP(D31,'Team Sheets'!$E$3:$F$30,2,FALSE)),\" \"))","v":" "},null,null,{"$f":"IF(C31=\"FH-E\",Calculations!M26,IF(Calculations!L26=0,\"\",Calculations!M26))","v":""},null,null,{"$f":"IF(C31=\"FH-E\",Calculations!AT26,IF(Calculations!AS26=0,\"\",Calculations!AT26))","v":""},null,null,"",null,null,null,null,null,null,null,null,null,null,null,""]
[null,null,null,null,null,{"$f":"IF(AND(B32=\"h\",D32<>\"\"),(VLOOKUP(D32,'Team Sheets'!$B$3:$C$30,2,FALSE)),IF(AND(B32=\"A\",D32<>\"\"),(VLOOKUP(D32,'Team Sheets'!$E$3:$F$30,2,FALSE)),\" \"))","v":" "},null,null,{"$f":"IF(C32=\"FH-E\",Calculations!M27,IF(Calculations!L27=0,\"\",Calculations!M27))","v":""},null,null,{"$f":"IF(C32=\"FH-E\",Calculations!AT27,IF(Calculations!AS27=0,\"\",Calculations!AT27))","v":""},null,null,"",null,null,null,null,null,null,null,null,null,null,null,""]
[null,null,null,null,null,{"$f":"IF(AND(B33=\"h\",D33<>\"\"),(VLOOKUP(D33,'Team Sheets'!$B$3:$C$30,2,FALSE)),IF(AND(B33=\"A\",D33<>\"\"),(VLOOKUP(D33,'Team Sheets'!$E$3:$F$30,2,FALSE)),\" \"))","v":" "},null,null,{"$f":"IF(C33=\"FH-E\",Calculations!M28,IF(Calculations!L28=0,\"\",Calculations!M28))","v":""},null,null,{"$f":"IF(C33=\"FH-E\",Calculations!AT28,IF(Calculations!AS28=0,\"\",Calculations!AT28))","v":""},null,null,"",null,null,null,null,null,null,null,null,null,null,null,""]
[null,null,null,null,null,{"$f":"IF(AND(B34=\"h\",D34<>\"\"),(VLOOKUP(D34,'Team Sheets'!$B$3:$C$30,2,FALSE)),IF(AND(B34=\"A\",D34<>\"\"),(VLOOKUP(D34,'Team Sheets'!$E$3:$F$30,2,FALSE)),\" \"))","v":" "},null,null,{"$f":"IF(C34=\"FH-E\",Calculations!M29,IF(Calculations!L29=0,\"\",Calculations!M29))","v":""},null,null,{"$f":"IF(C34=\"FH-E\",Calculations!AT29,IF(Calculations!AS29=0,\"\",Calculations!AT29))","v":""},null,null,"",null,null,null,null,null,null,null,null,null,null,null,""]
[null,null,null,null,null,{"$f":"IF(AND(B35=\"h\",D35<>\"\"),(VLOOKUP(D35,'Team Sheets'!$B$3:$C$30,2,FALSE)),IF(AND(B35=\"A\",D35<>\"\"),(VLOOKUP(D35,'Team Sheets'!$E$3:$F$30,2,FALSE)),\" \"))","v":" "},null,null,{"$f":"IF(C35=\"FH-E\",Calculations!M30,IF(Calculations!L30=0,\"\",Calculations!M30))","v":""},null,null,{"$f":"IF(C35=\"FH-E\",Calculations!AT30,IF(Calculations!AS30=0,\"\",Calculations!AT30))","v":""},null,null,"",null,null,null,null,null,null,null,null,null,null,null,""]
[null,null,null,null,null,{"$f":"IF(AND(B36=\"h\",D36<>\"\"),(VLOOKUP(D36,'Team Sheets'!$B$3:$C$30,2,FALSE)),IF(AND(B36=\"A\",D36<>\"\"),(VLOOKUP(D36,'Team Sheets'!$E$3:$F$30,2,FALSE)),\" \"))","v":" "},null,null,{"$f":"IF(C36=\"FH-E\",Calculations!M31,IF(Calculations!L31=0,\"\",Calculations!M31))","v":""},null,null,{"$f":"IF(C36=\"FH-E\",Calculations!AT31,IF(Calculations!AS31=0,\"\",Calculations!AT31))","v":""},null,null,"",null,null,null,null,null,null,null,null,null,null,null,""]
[null,null,null,null,null,{"$f":"IF(AND(B37=\"h\",D37<>\"\"),(VLOOKUP(D37,'Team Sheets'!$B$3:$C$30,2,FALSE)),IF(AND(B37=\"A\",D37<>\"\"),(VLOOKUP(D37,'Team Sheets'!$E$3:$F$30,2,FALSE)),\" \"))","v":" "},null,null,{"$f":"IF(C37=\"FH-E\",Calculations!M32,IF(Calculations!L32=0,\"\",Calculations!M32))","v":""},null,null,{"$f":"IF(C37=\"FH-E\",Calculations!AT32,IF(Calculations!AS32=0,\"\",Calculations!AT32))","v":""},null,null,"",null,null,null,null,null,null,null,null,null,null,null,""]
[null,null,null,null,null,{"$f":"IF(AND(B38=\"h\",D38<>\"\"),(VLOOKUP(D38,'Team Sheets'!$B$3:$C$30,2,FALSE)),IF(AND(B38=\"A\",D38<>\"\"),(VLOOKUP(D38,'Team Sheets'!$E$3:$F$30,2,FALSE)),\" \"))","v":" "},null,null,{"$f":"IF(C38=\"FH-E\",Calculations!M33,IF(Calculations!L33=0,\"\",Calculations!M33))","v":""},null,null,{"$f":"IF(C38=\"FH-E\",Calculations!AT33,IF(Calculations!AS33=0,\"\",Calculations!AT33))","v":""},null,null,"",null,null,null,null,null,null,null,null,null,null,null,""]
[null,null,null,null,null,{"$f":"IF(AND(B39=\"h\",D39<>\"\"),(VLOOKUP(D39,'Team Sheets'!$B$3:$C$30,2,FALSE)),IF(AND(B39=\"A\",D39<>\"\"),(VLOOKUP(D39,'Team Sheets'!$E$3:$F$30,2,FALSE)),\" \"))","v":" "},null,null,{"$f":"IF(C39=\"FH-E\",Calculations!M34,IF(Calculations!L34=0,\"\",Calculations!M34))","v":""},null,null,{"$f":"IF(C39=\"FH-E\",Calculations!AT34,IF(Calculations!AS34=0,\"\",Calculations!AT34))","v":""},null,null,"",null,null,null,null,null,null,null,null,null,null,null,""]
[null,null,null,null,null,{"$f":"IF(AND(B40=\"h\",D40<>\"\"),(VLOOKUP(D40,'Team Sheets'!$B$3:$C$30,2,FALSE)),IF(AND(B40=\"A\",D40<>\"\"),(VLOOKUP(D40,'Team Sheets'!$E$3:$F$30,2,FALSE)),\" \"))","v":" "},null,null,{"$f":"IF(C40=\"FH-E\",Calculations!M35,IF(Calculations!L35=0,\"\",Calculations!M35))","v":""},null,null,{"$f":"IF(C40=\"FH-E\",Calculations!AT35,IF(Calculations!AS35=0,\"\",Calculations!AT35))","v":""},null,null,"",null,null,null,null,null,null,null,null,null,null,null,""]
[null,null,null,null,null,{"$f":"IF(AND(B41=\"h\",D41<>\"\"),(VLOOKUP(D41,'Team Sheets'!$B$3:$C$30,2,FALSE)),IF(AND(B41=\"A\",D41<>\"\"),(VLOOKUP(D41,'Team Sheets'!$E$3:$F$30,2,FALSE)),\" \"))","v":" "},null,null,{"$f":"IF(C41=\"FH-E\",Calculations!M36,IF(Calculations!L36=0,\"\",Calculations!M36))","v":""},null,null,{"$f":"IF(C41=\"FH-E\",Calculations!AT36,IF(Calculations!AS36=0,\"\",Calculations!AT36))","v":""},null,null,"",null,null,null,null,null,null,null,null,null,null,null,""]
[null,null,null,null,null,{"$f":"IF(AND(B42=\"h\",D42<>\"\"),(VLOOKUP(D42,'Team Sheets'!$B$3:$C$30,2,FALSE)),IF(AND(B42=\"A\",D42<>\"\"),(VLOOKUP(D42,'Team Sheets'!$E$3:$F$30,2,FALSE)),\" \"))","v":" "},null,null,{"$f":"IF(C42=\"FH-E\",Calculations!M37,IF(Calculations!L37=0,\"\",Calculations!M37))","v":""},null,null,{"$f":"IF(C42=\"FH-E\",Calculations!AT37,IF(Calculations!AS37=0,\"\",Calculations!AT37))","v":""},null,null,"",null,null,null,null,null,null,null,null,null,null,null,""]
[null,null,null,null,null,{"$f":"IF(AND(B43=\"h\",D43<>\"\"),(VLOOKUP(D43,'Team Sheets'!$B$3:$C$30,2,FALSE)),IF(AND(B43=\"A\",D43<>\"\"),(VLOOKUP(D43,'Team Sheets'!$E$3:$F$30,2,FALSE)),\" \"))","v":" "},null,null,{"$f":"IF(C43=\"FH-E\",Calculations!M38,IF(Calculations!L38=0,\"\",Calculations!M38))","v":""},null,null,{"$f":"IF(C43=\"FH-E\",Calculations!AT38,IF(Calculations!AS38=0,\"\",Calculations!AT38))","v":""},null,null,"",null,null,null,null,null,null,null,null,null,null,null,""]
[null,null,null,null,null,{"$f":"IF(AND(B44=\"h\",D44<>\"\"),(VLOOKUP(D44,'Team Sheets'!$B$3:$C$30,2,FALSE)),IF(AND(B44=\"A\",D44<>\"\"),(VLOOKUP(D44,'Team Sheets'!$E$3:$F$30,2,FALSE)),\" \"))","v":" "},null,null,{"$f":"IF(C44=\"FH-E\",Calculations!M39,IF(Calculations!L39=0,\"\",Calculations!M39))","v":""},null,null,{"$f":"IF(C44=\"FH-E\",Calculations!AT39,IF(Calculations!AS39=0,\"\",Calculations!AT39))","v":""},null,null,"",null,null,null,null,null,null,null,null,null,null,null,""]
[null,null,null,null,null,{"$f":"IF(AND(B45=\"h\",D45<>\"\"),(VLOOKUP(D45,'Team Sheets'!$B$3:$C$30,2,FALSE)),IF(AND(B45=\"A\",D45<>\"\"),(VLOOKUP(D45,'Team Sheets'!$E$3:$F$30,2,FALSE)),\" \"))","v":" "},null,null,{"$f":"IF(C45=\"FH-E\",Calculations!M40,IF(Calculations!L40=0,\"\",Calculations!M40))","v":""},null,null,{"$f":"IF(C45=\"FH-E\",Calculations!AT40,IF(Calculations!AS40=0,\"\",Calculations!AT40))","v":""},null,null,"",null,null,null,null,null,null,null,null,null,null,null,""]
[null,null,null,null,null,{"$f":"IF(AND(B46=\"h\",D46<>\"\"),(VLOOKUP(D46,'Team Sheets'!$B$3:$C$30,2,FALSE)),IF(AND(B46=\"A\",D46<>\"\"),(VLOOKUP(D46,'Team Sheets'!$E$3:$F$30,2,FALSE)),\" \"))","v":" "},null,null,{"$f":"IF(C46=\"FH-E\",Calculations!M41,IF(Calculations!L41=0,\"\",Calculations!M41))","v":""},null,null,{"$f":"IF(C46=\"FH-E\",Calculations!AT41,IF(Calculations!AS41=0,\"\",Calculations!AT41))","v":""},null,null,"",null,null,null,null,null,null,null,null,null,null,null,""]
[null,null,null,null,null,{"$f":"IF(AND(B47=\"h\",D47<>\"\"),(VLOOKUP(D47,'Team Sheets'!$B$3:$C$30,2,FALSE)),IF(AND(B47=\"A\",D47<>\"\"),(VLOOKUP(D47,'Team Sheets'!$E$3:$F$30,2,FALSE)),\" \"))","v":" "},null,null,{"$f":"IF(C47=\"FH-E\",Calculations!M42,IF(Calculations!L42=0,\"\",Calculations!M42))","v":""},null,null,{"$f":"IF(C47=\"FH-E\",Calculations!AT42,IF(Calculations!AS42=0,\"\",Calculations!AT42))","v":""},null,null,"",null,null,null,null,null,null,null,null,null,null,null,""]
[null,null,null,null,null,{"$f":"IF(AND(B48=\"h\",D48<>\"\"),(VLOOKUP(D48,'Team Sheets'!$B$3:$C$30,2,FALSE)),IF(AND(B48=\"A\",D48<>\"\"),(VLOOKUP(D48,'Team Sheets'!$E$3:$F$30,2,FALSE)),\" \"))","v":" "},null,null,{"$f":"IF(C48=\"FH-E\",Calculations!M43,IF(Calculations!L43=0,\"\",Calculations!M43))","v":""},null,null,{"$f":"IF(C48=\"FH-E\",Calculations!AT43,IF(Calculations!AS43=0,\"\",Calculations!AT43))","v":""},null,null,"",null,null,null,null,null,null,null,null,null,null,null,""]
[null,null,null,null,null,{"$f":"IF(AND(B49=\"h\",D49<>\"\"),(VLOOKUP(D49,'Team Sheets'!$B$3:$C$30,2,FALSE)),IF(AND(B49=\"A\",D49<>\"\"),(VLOOKUP(D49,'Team Sheets'!$E$3:$F$30,2,FALSE)),\" \"))","v":" "},null,null,{"$f":"IF(C49=\"FH-E\",Calculations!M44,IF(Calculations!L44=0,\"\",Calculations!M44))","v":""},null,null,{"$f":"IF(C49=\"FH-E\",Calculations!AT44,IF(Calculations!AS44=0,\"\",Calculations!AT44))","v":""},null,null,{"$f":"IF(OR(AA49=\"\",COUNTIF(AA:AA,AA49)=1),\"\",IF(COUNTIF(AA:AA,AA49)>200,0,IF(COUNTIF(AA:AA,AA49)=1,0,COUNTIF(AA:AA,AA49))))","v":""},null,null,null,null,null,null,null,null,null,null,null,""]
[null,null,null,null,null,{"$f":"IF(AND(B50=\"h\",D50<>\"\"),(VLOOKUP(D50,'Team Sheets'!$B$3:$C$30,2,FALSE)),IF(AND(B50=\"A\",D50<>\"\"),(VLOOKUP(D50,'Team Sheets'!$E$3:$F$30,2,FALSE)),\" \"))","v":" "},null,null,{"$f":"IF(C50=\"FH-E\",Calculations!M45,IF(Calculations!L45=0,\"\",Calculations!M45))","v":""},null,null,{"$f":"IF(C50=\"FH-E\",Calculations!AT45,IF(Calculations!AS45=0,\"\",Calculations!AT45))","v":""},null,null,"",null,null,null,null,null,null,null,null,null,null,null,""]
[null,null,null,null,null,{"$f":"IF(AND(B51=\"h\",D51<>\"\"),(VLOOKUP(D51,'Team Sheets'!$B$3:$C$30,2,FALSE)),IF(AND(B51=\"A\",D51<>\"\"),(VLOOKUP(D51,'Team Sheets'!$E$3:$F$30,2,FALSE)),\" \"))","v":" "},null,null,{"$f":"IF(C51=\"FH-E\",Calculations!M46,IF(Calculations!L46=0,\"\",Calculations!M46))","v":""},null,null,{"$f":"IF(C51=\"FH-E\",Calculations!AT46,IF(Calculations!AS46=0,\"\",Calculations!AT46))","v":""},null,null,"",null,null,null,null,null,null,null,null,null,null,null,""]
[null,null,null,null,null,{"$f":"IF(AND(B52=\"h\",D52<>\"\"),(VLOOKUP(D52,'Team Sheets'!$B$3:$C$30,2,FALSE)),IF(AND(B52=\"A\",D52<>\"\"),(VLOOKUP(D52,'Team Sheets'!$E$3:$F$30,2,FALSE)),\" \"))","v":" "},null,null,{"$f":"IF(C52=\"FH-E\",Calculations!M47,IF(Calculations!L47=0,\"\",Calculations!M47))","v":""},null,null,{"$f":"IF(C52=\"FH-E\",Calculations!AT47,IF(Calculations!AS47=0,\"\",Calculations!AT47))","v":""},null,null,"",null,null,null,null,null,null,null,null,null,null,null,""]
[null,null,null,null,null,{"$f":"IF(AND(B53=\"h\",D53<>\"\"),(VLOOKUP(D53,'Team Sheets'!$B$3:$C$30,2,FALSE)),IF(AND(B53=\"A\",D53<>\"\"),(VLOOKUP(D53,'Team Sheets'!$E$3:$F$30,2,FALSE)),\" \"))","v":" "},null,null,{"$f":"IF(C53=\"FH-E\",Calculations!M48,IF(Calculations!L48=0,\"\",Calculations!M48))","v":""},null,null,{"$f":"IF(C53=\"FH-E\",Calculations!AT48,IF(Calculations!AS48=0,\"\",Calculations!AT48))","v":""},null,null,"",null,null,null,null,null,null,null,null,null,null,null,""]
[null,null,null,null,null,{"$f":"IF(AND(B54=\"h\",D54<>\"\"),(VLOOKUP(D54,'Team Sheets'!$B$3:$C$30,2,FALSE)),IF(AND(B54=\"A\",D54<>\"\"),(VLOOKUP(D54,'Team Sheets'!$E$3:$F$30,2,FALSE)),\" \"))","v":" "},null,null,{"$f":"IF(C54=\"FH-E\",Calculations!M49,IF(Calculations!L49=0,\"\",Calculations!M49))","v":""},null,null,{"$f":"IF(C54=\"FH-E\",Calculations!AT49,IF(Calculations!AS49=0,\"\",Calculations!AT49))","v":""},null,null,"",null,null,null,null,null,null,null,null,null,null,null,""]
[null,null,null,null,null,{"$f":"IF(AND(B55=\"h\",D55<>\"\"),(VLOOKUP(D55,'Team Sheets'!$B$3:$C$30,2,FALSE)),IF(AND(B55=\"A\",D55<>\"\"),(VLOOKUP(D55,'Team Sheets'!$E$3:$F$30,2,FALSE)),\" \"))","v":" "},null,null,{"$f":"IF(C55=\"FH-E\",Calculations!M50,IF(Calculations!L50=0,\"\",Calculations!M50))","v":""},null,null,{"$f":"IF(C55=\"FH-E\",Calculations!AT50,IF(Calculations!AS50=0,\"\",Calculations!AT50))","v":""},null,null,"",null,null,null,null,null,null,null,null,null,null,null,""]
[null,null,null,null,null,{"$f":"IF(AND(B56=\"h\",D56<>\"\"),(VLOOKUP(D56,'Team Sheets'!$B$3:$C$30,2,FALSE)),IF(AND(B56=\"A\",D56<>\"\"),(VLOOKUP(D56,'Team Sheets'!$E$3:$F$30,2,FALSE)),\" \"))","v":" "},null,null,{"$f":"IF(C56=\"FH-E\",Calculations!M51,IF(Calculations!L51=0,\"\",Calculations!M51))","v":""},null,null,{"$f":"IF(C56=\"FH-E\",Calculations!AT51,IF(Calculations!AS51=0,\"\",Calculations!AT51))","v":""},null,null,"",null,null,null,null,null,null,null,null,null,null,null,""]
[null,null,null,null,null,{"$f":"IF(AND(B57=\"h\",D57<>\"\"),(VLOOKUP(D57,'Team Sheets'!$B$3:$C$30,2,FALSE)),IF(AND(B57=\"A\",D57<>\"\"),(VLOOKUP(D57,'Team Sheets'!$E$3:$F$30,2,FALSE)),\" \"))","v":" "},null,null,{"$f":"IF(C57=\"FH-E\",Calculations!M52,IF(Calculations!L52=0,\"\",Calculations!M52))","v":""},null,null,{"$f":"IF(C57=\"FH-E\",Calculations!AT52,IF(Calculations!AS52=0,\"\",Calculations!AT52))","v":""},null,null,"",null,null,null,null,null,null,null,null,null,null,null,""]
[null,null,null,null,null,{"$f":"IF(AND(B58=\"h\",D58<>\"\"),(VLOOKUP(D58,'Team Sheets'!$B$3:$C$30,2,FALSE)),IF(AND(B58=\"A\",D58<>\"\"),(VLOOKUP(D58,'Team Sheets'!$E$3:$F$30,2,FALSE)),\" \"))","v":" "},null,null,{"$f":"IF(C58=\"FH-E\",Calculations!M53,IF(Calculations!L53=0,\"\",Calculations!M53))","v":""},null,null,{"$f":"IF(C58=\"FH-E\",Calculations!AT53,IF(Calculations!AS53=0,\"\",Calculations!AT53))","v":""},null,null,"",null,null,null,null,null,null,null,null,null,null,null,""]
[null,null,null,null,null,{"$f":"IF(AND(B59=\"h\",D59<>\"\"),(VLOOKUP(D59,'Team Sheets'!$B$3:$C$30,2,FALSE)),IF(AND(B59=\"A\",D59<>\"\"),(VLOOKUP(D59,'Team Sheets'!$E$3:$F$30,2,FALSE)),\" \"))","v":" "},null,null,{"$f":"IF(C59=\"FH-E\",Calculations!M54,IF(Calculations!L54=0,\"\",Calculations!M54))","v":""},null,null,{"$f":"IF(C59=\"FH-E\",Calculations!AT54,IF(Calculations!AS54=0,\"\",Calculations!AT54))","v":""},null,null,"",null,null,null,null,null,null,null,null,null,null,null,""]
[null,null,null,null,null,{"$f":"IF(AND(B60=\"h\",D60<>\"\"),(VLOOKUP(D60,'Team Sheets'!$B$3:$C$30,2,FALSE)),IF(AND(B60=\"A\",D60<>\"\"),(VLOOKUP(D60,'Team Sheets'!$E$3:$F$30,2,FALSE)),\" \"))","v":" "},null,null,{"$f":"IF(C60=\"FH-E\",Calculations!M55,IF(Calculations!L55=0,\"\",Calculations!M55))","v":""},null,null,{"$f":"IF(C60=\"FH-E\",Calculations!AT55,IF(Calculations!AS55=0,\"\",Calculations!AT55))","v":""},null,null,"",null,null,null,null,null,null,null,null,null,null,null,""]
[null,null,null,null,null,{"$f":"IF(AND(B61=\"h\",D61<>\"\"),(VLOOKUP(D61,'Team Sheets'!$B$3:$C$30,2,FALSE)),IF(AND(B61=\"A\",D61<>\"\"),(VLOOKUP(D61,'Team Sheets'!$E$3:$F$30,2,FALSE)),\" \"))","v":" "},null,null,{"$f":"IF(C61=\"FH-E\",Calculations!M56,IF(Calculations!L56=0,\"\",Calculations!M56))","v":""},null,null,{"$f":"IF(C61=\"FH-E\",Calculations!AT56,IF(Calculations!AS56=0,\"\",Calculations!AT56))","v":""},null,null,"",null,null,null,null,null,null,null,null,null,null,null,""]
[null,null,null,null,null,{"$f":"IF(AND(B62=\"h\",D62<>\"\"),(VLOOKUP(D62,'Team Sheets'!$B$3:$C$30,2,FALSE)),IF(AND(B62=\"A\",D62<>\"\"),(VLOOKUP(D62,'Team Sheets'!$E$3:$F$30,2,FALSE)),\" \"))","v":" "},null,null,{"$f":"IF(C62=\"FH-E\",Calculations!M57,IF(Calculations!L57=0,\"\",Calculations!M57))","v":""},null,null,{"$f":"IF(C62=\"FH-E\",Calculations!AT57,IF(Calculations!AS57=0,\"\",Calculations!AT57))","v":""},null,null,"",null,null,null,null,null,null,null,null,null,null,null,""]
[null,null,null,null,null,{"$f":"IF(AND(B63=\"h\",D63<>\"\"),(VLOOKUP(D63,'Team Sheets'!$B$3:$C$30,2,FALSE)),IF(AND(B63=\"A\",D63<>\"\"),(VLOOKUP(D63,'Team Sheets'!$E$3:$F$30,2,FALSE)),\" \"))","v":" "},null,null,{"$f":"IF(C63=\"FH-E\",Calculations!M58,IF(Calculations!L58=0,\"\",Calculations!M58))","v":""},null,null,{"$f":"IF(C63=\"FH-E\",Calculations!AT58,IF(Calculations!AS58=0,\"\",Calculations!AT58))","v":""},null,null,"",null,null,null,null,null,null,null,null,null,null,null,""]
[null,null,null,null,null,{"$f":"IF(AND(B64=\"h\",D64<>\"\"),(VLOOKUP(D64,'Team Sheets'!$B$3:$C$30,2,FALSE)),IF(AND(B64=\"A\",D64<>\"\"),(VLOOKUP(D64,'Team Sheets'!$E$3:$F$30,2,FALSE)),\" \"))","v":" "},null,null,{"$f":"IF(C64=\"FH-E\",Calculations!M59,IF(Calculations!L59=0,\"\",Calculations!M59))","v":""},null,null,{"$f":"IF(C64=\"FH-E\",Calculations!AT59,IF(Calculations!AS59=0,\"\",Calculations!AT59))","v":""},null,null,"",null,null,null,null,null,null,null,null,null,null,null,""]
[null,null,null,null,null,{"$f":"IF(AND(B65=\"h\",D65<>\"\"),(VLOOKUP(D65,'Team Sheets'!$B$3:$C$30,2,FALSE)),IF(AND(B65=\"A\",D65<>\"\"),(VLOOKUP(D65,'Team Sheets'!$E$3:$F$30,2,FALSE)),\" \"))","v":" "},null,null,{"$f":"IF(C65=\"FH-E\",Calculations!M60,IF(Calculations!L60=0,\"\",Calculations!M60))","v":""},null,null,{"$f":"IF(C65=\"FH-E\",Calculations!AT60,IF(Calculations!AS60=0,\"\",Calculations!AT60))","v":""},null,null,"",null,null,null,null,null,null,null,null,null,null,null,""]
[null,null,null,null,null,{"$f":"IF(AND(B66=\"h\",D66<>\"\"),(VLOOKUP(D66,'Team Sheets'!$B$3:$C$30,2,FALSE)),IF(AND(B66=\"A\",D66<>\"\"),(VLOOKUP(D66,'Team Sheets'!$E$3:$F$30,2,FALSE)),\" \"))","v":" "},null,null,{"$f":"IF(C66=\"FH-E\",Calculations!M61,IF(Calculations!L61=0,\"\",Calculations!M61))","v":""},null,null,{"$f":"IF(C66=\"FH-E\",Calculations!AT61,IF(Calculations!AS61=0,\"\",Calculations!AT61))","v":""},null,null,"",null,null,null,null,null,null,null,null,null,null,null,""]
[null,null,null,null,null,{"$f":"IF(AND(B67=\"h\",D67<>\"\"),(VLOOKUP(D67,'Team Sheets'!$B$3:$C$30,2,FALSE)),IF(AND(B67=\"A\",D67<>\"\"),(VLOOKUP(D67,'Team Sheets'!$E$3:$F$30,2,FALSE)),\" \"))","v":" "},null,null,{"$f":"IF(C67=\"FH-E\",Calculations!M62,IF(Calculations!L62=0,\"\",Calculations!M62))","v":""},null,null,{"$f":"IF(C67=\"FH-E\",Calculations!AT62,IF(Calculations!AS62=0,\"\",Calculations!AT62))","v":""},null,null,"",null,null,null,null,null,null,null,null,null,null,null,""]
[null,null,null,null,null,{"$f":"IF(AND(B68=\"h\",D68<>\"\"),(VLOOKUP(D68,'Team Sheets'!$B$3:$C$30,2,FALSE)),IF(AND(B68=\"A\",D68<>\"\"),(VLOOKUP(D68,'Team Sheets'!$E$3:$F$30,2,FALSE)),\" \"))","v":" "},null,null,{"$f":"IF(C68=\"FH-E\",Calculations!M63,IF(Calculations!L63=0,\"\",Calculations!M63))","v":""},null,null,{"$f":"IF(C68=\"FH-E\",Calculations!AT63,IF(Calculations!AS63=0,\"\",Calculations!AT63))","v":""},null,null,"",null,null,null,null,null,null,null,null,null,null,null,""]
[null,null,null,null,null,{"$f":"IF(AND(B69=\"h\",D69<>\"\"),(VLOOKUP(D69,'Team Sheets'!$B$3:$C$30,2,FALSE)),IF(AND(B69=\"A\",D69<>\"\"),(VLOOKUP(D69,'Team Sheets'!$E$3:$F$30,2,FALSE)),\" \"))","v":" "},null,null,{"$f":"IF(C69=\"FH-E\",Calculations!M64,IF(Calculations!L64=0,\"\",Calculations!M64))","v":""},null,null,{"$f":"IF(C69=\"FH-E\",Calculations!AT64,IF(Calculations!AS64=0,\"\",Calculations!AT64))","v":""},null,null,"",null,null,null,null,null,null,null,null,null,null,null,""]
[null,null,null,null,null,{"$f":"IF(AND(B70=\"h\",D70<>\"\"),(VLOOKUP(D70,'Team Sheets'!$B$3:$C$30,2,FALSE)),IF(AND(B70=\"A\",D70<>\"\"),(VLOOKUP(D70,'Team Sheets'!$E$3:$F$30,2,FALSE)),\" \"))","v":" "},null,null,{"$f":"IF(C70=\"FH-E\",Calculations!M65,IF(Calculations!L65=0,\"\",Calculations!M65))","v":""},null,null,{"$f":"IF(C70=\"FH-E\",Calculations!AT65,IF(Calculations!AS65=0,\"\",Calculations!AT65))","v":""},null,null,"",null,null,null,null,null,null,null,null,null,null,null,""]
[null,null,null,null,null,{"$f":"IF(AND(B71=\"h\",D71<>\"\"),(VLOOKUP(D71,'Team Sheets'!$B$3:$C$30,2,FALSE)),IF(AND(B71=\"A\",D71<>\"\"),(VLOOKUP(D71,'Team Sheets'!$E$3:$F$30,2,FALSE)),\" \"))","v":" "},null,null,{"$f":"IF(C71=\"FH-E\",Calculations!M66,IF(Calculations!L66=0,\"\",Calculations!M66))","v":""},null,null,{"$f":"IF(C71=\"FH-E\",Calculations!AT66,IF(Calculations!AS66=0,\"\",Calculations!AT66))","v":""},null,null,"",null,null,null,null,null,null,null,null,null,null,null,""]
[null,null,null,null,null,{"$f":"IF(AND(B72=\"h\",D72<>\"\"),(VLOOKUP(D72,'Team Sheets'!$B$3:$C$30,2,FALSE)),IF(AND(B72=\"A\",D72<>\"\"),(VLOOKUP(D72,'Team Sheets'!$E$3:$F$30,2,FALSE)),\" \"))","v":" "},null,null,{"$f":"IF(C72=\"FH-E\",Calculations!M67,IF(Calculations!L67=0,\"\",Calculations!M67))","v":""},null,null,{"$f":"IF(C72=\"FH-E\",Calculations!AT67,IF(Calculations!AS67=0,\"\",Calculations!AT67))","v":""},null,null,"",null,null,null,null,null,null,null,null,null,null,null,""]
[null,null,null,null,null,{"$f":"IF(AND(B73=\"h\",D73<>\"\"),(VLOOKUP(D73,'Team Sheets'!$B$3:$C$30,2,FALSE)),IF(AND(B73=\"A\",D73<>\"\"),(VLOOKUP(D73,'Team Sheets'!$E$3:$F$30,2,FALSE)),\" \"))","v":" "},null,null,{"$f":"IF(C73=\"FH-E\",Calculations!M68,IF(Calculations!L68=0,\"\",Calculations!M68))","v":""},null,null,{"$f":"IF(C73=\"FH-E\",Calculations!AT68,IF(Calculations!AS68=0,\"\",Calculations!AT68))","v":""},null,null,"",null,null,null,null,null,null,null,null,null,null,null,""]
[null,null,null,null,null,{"$f":"IF(AND(B74=\"h\",D74<>\"\"),(VLOOKUP(D74,'Team Sheets'!$B$3:$C$30,2,FALSE)),IF(AND(B74=\"A\",D74<>\"\"),(VLOOKUP(D74,'Team Sheets'!$E$3:$F$30,2,FALSE)),\" \"))","v":" "},null,null,{"$f":"IF(C74=\"FH-E\",Calculations!M69,IF(Calculations!L69=0,\"\",Calculations!M69))","v":""},null,null,{"$f":"IF(C74=\"FH-E\",Calculations!AT69,IF(Calculations!AS69=0,\"\",Calculations!AT69))","v":""},null,null,"",null,null,null,null,null,null,null,null,null,null,null,""]
[null,null,null,null,null,{"$f":"IF(AND(B75=\"h\",D75<>\"\"),(VLOOKUP(D75,'Team Sheets'!$B$3:$C$30,2,FALSE)),IF(AND(B75=\"A\",D75<>\"\"),(VLOOKUP(D75,'Team Sheets'!$E$3:$F$30,2,FALSE)),\" \"))","v":" "},null,null,{"$f":"IF(C75=\"FH-E\",Calculations!M70,IF(Calculations!L70=0,\"\",Calculations!M70))","v":""},null,null,{"$f":"IF(C75=\"FH-E\",Calculations!AT70,IF(Calculations!AS70=0,\"\",Calculations!AT70))","v":""},null,null,"",null,null,null,null,null,null,null,null,null,null,null,""]
[null,null,null,null,null,{"$f":"IF(AND(B76=\"h\",D76<>\"\"),(VLOOKUP(D76,'Team Sheets'!$B$3:$C$30,2,FALSE)),IF(AND(B76=\"A\",D76<>\"\"),(VLOOKUP(D76,'Team Sheets'!$E$3:$F$30,2,FALSE)),\" \"))","v":" "},null,null,{"$f":"IF(C76=\"FH-E\",Calculations!M71,IF(Calculations!L71=0,\"\",Calculations!M71))","v":""},null,null,{"$f":"IF(C76=\"FH-E\",Calculations!AT71,IF(Calculations!AS71=0,\"\",Calculations!AT71))","v":""},null,null,"",null,null,null,null,null,null,null,null,null,null,null,""]
[null,null,null,null,null,{"$f":"IF(AND(B77=\"h\",D77<>\"\"),(VLOOKUP(D77,'Team Sheets'!$B$3:$C$30,2,FALSE)),IF(AND(B77=\"A\",D77<>\"\"),(VLOOKUP(D77,'Team Sheets'!$E$3:$F$30,2,FALSE)),\" \"))","v":" "},null,null,{"$f":"IF(C77=\"FH-E\",Calculations!M72,IF(Calculations!L72=0,\"\",Calculations!M72))","v":""},null,null,{"$f":"IF(C77=\"FH-E\",Calculations!AT72,IF(Calculations!AS72=0,\"\",Calculations!AT72))","v":""},null,null,"",null,null,null,null,null,null,null,null,null,null,null,""]
[null,null,null,null,null,{"$f":"IF(AND(B78=\"h\",D78<>\"\"),(VLOOKUP(D78,'Team Sheets'!$B$3:$C$30,2,FALSE)),IF(AND(B78=\"A\",D78<>\"\"),(VLOOKUP(D78,'Team Sheets'!$E$3:$F$30,2,FALSE)),\" \"))","v":" "},null,null,{"$f":"IF(C78=\"FH-E\",Calculations!M73,IF(Calculations!L73=0,\"\",Calculations!M73))","v":""},null,null,{"$f":"IF(C78=\"FH-E\",Calculations!AT73,IF(Calculations!AS73=0,\"\",Calculations!AT73))","v":""},null,null,"",null,null,null,null,null,null,null,null,null,null,null,""]
[null,null,null,null,null,{"$f":"IF(AND(B79=\"h\",D79<>\"\"),(VLOOKUP(D79,'Team Sheets'!$B$3:$C$30,2,FALSE)),IF(AND(B79=\"A\",D79<>\"\"),(VLOOKUP(D79,'Team Sheets'!$E$3:$F$30,2,FALSE)),\" \"))","v":" "},null,null,{"$f":"IF(C79=\"FH-E\",Calculations!M74,IF(Calculations!L74=0,\"\",Calculations!M74))","v":""},null,null,{"$f":"IF(C79=\"FH-E\",Calculations!AT74,IF(Calculations!AS74=0,\"\",Calculations!AT74))","v":""},null,null,"",null,null,null,null,null,null,null,null,null,null,null,""]
[null,null,null,null,null,{"$f":"IF(AND(B80=\"h\",D80<>\"\"),(VLOOKUP(D80,'Team Sheets'!$B$3:$C$30,2,FALSE)),IF(AND(B80=\"A\",D80<>\"\"),(VLOOKUP(D80,'Team Sheets'!$E$3:$F$30,2,FALSE)),\" \"))","v":" "},null,null,{"$f":"IF(C80=\"FH-E\",Calculations!M75,IF(Calculations!L75=0,\"\",Calculations!M75))","v":""},null,null,{"$f":"IF(C80=\"FH-E\",Calculations!AT75,IF(Calculations!AS75=0,\"\",Calculations!AT75))","v":""},null,null,"",null,null,null,null,null,null,null,null,null,null,null,""]
[null,null,null,null,null,{"$f":"IF(AND(B81=\"h\",D81<>\"\"),(VLOOKUP(D81,'Team Sheets'!$B$3:$C$30,2,FALSE)),IF(AND(B81=\"A\",D81<>\"\"),(VLOOKUP(D81,'Team Sheets'!$E$3:$F$30,2,FALSE)),\" \"))","v":" "},null,null,{"$f":"IF(C81=\"FH-E\",Calculations!M76,IF(Calculations!L76=0,\"\",Calculations!M76))","v":""},null,null,{"$f":"IF(C81=\"FH-E\",Calculations!AT76,IF(Calculations!AS76=0,\"\",Calculations!AT76))","v":""},null,null,{"$f":"IF(OR(AA81=\"\",COUNTIF(AA:AA,AA81)=1),\"\",IF(COUNTIF(AA:AA,AA81)>200,0,IF(COUNTIF(AA:AA,AA81)=1,0,COUNTIF(AA:AA,AA81))))","v":""},null,null,null,null,null,null,null,null,null,null,null,""]
[null,null,null,null,null,{"$f":"IF(AND(B82=\"h\",D82<>\"\"),(VLOOKUP(D82,'Team Sheets'!$B$3:$C$30,2,FALSE)),IF(AND(B82=\"A\",D82<>\"\"),(VLOOKUP(D82,'Team Sheets'!$E$3:$F$30,2,FALSE)),\" \"))","v":" "},null,null,{"$f":"IF(C82=\"FH-E\",Calculations!M77,IF(Calculations!L77=0,\"\",Calculations!M77))","v":""},null,null,{"$f":"IF(C82=\"FH-E\",Calculations!AT77,IF(Calculations!AS77=0,\"\",Calculations!AT77))","v":""},null,null,"",null,null,null,null,null,null,null,null,null,null,null,{"$f":"IF(OR(C82=\"RT-OFF\",C82=\"RT-ON\",C82=\"RI-Off\",C82=\"RI-On\"),B82&MID(C82,FIND(\"-\",C82,2),3)&D82,\"\")","v":""}]
[null,null,null,null,null,{"$f":"IF(AND(B83=\"h\",D83<>\"\"),(VLOOKUP(D83,'Team Sheets'!$B$3:$C$30,2,FALSE)),IF(AND(B83=\"A\",D83<>\"\"),(VLOOKUP(D83,'Team Sheets'!$E$3:$F$30,2,FALSE)),\" \"))","v":" "},null,null,{"$f":"IF(C83=\"FH-E\",Calculations!M78,IF(Calculations!L78=0,\"\",Calculations!M78))","v":""},null,null,{"$f":"IF(C83=\"FH-E\",Calculations!AT78,IF(Calculations!AS78=0,\"\",Calculations!AT78))","v":""},null,null,"",null,null,null,null,null,null,null,null,null,null,null,""]
[null,null,null,null,null,{"$f":"IF(AND(B84=\"h\",D84<>\"\"),(VLOOKUP(D84,'Team Sheets'!$B$3:$C$30,2,FALSE)),IF(AND(B84=\"A\",D84<>\"\"),(VLOOKUP(D84,'Team Sheets'!$E$3:$F$30,2,FALSE)),\" \"))","v":" "},null,null,{"$f":"IF(C84=\"FH-E\",Calculations!M79,IF(Calculations!L79=0,\"\",Calculations!M79))","v":""},null,null,{"$f":"IF(C84=\"FH-E\",Calculations!AT79,IF(Calculations!AS79=0,\"\",Calculations!AT79))","v":""},null,null,"",null,null,null,null,null,null,null,null,null,null,null,""]
[null,null,null,null,null,{"$f":"IF(AND(B85=\"h\",D85<>\"\"),(VLOOKUP(D85,'Team Sheets'!$B$3:$C$30,2,FALSE)),IF(AND(B85=\"A\",D85<>\"\"),(VLOOKUP(D85,'Team Sheets'!$E$3:$F$30,2,FALSE)),\" \"))","v":" "},null,null,{"$f":"IF(C85=\"FH-E\",Calculations!M80,IF(Calculations!L80=0,\"\",Calculations!M80))","v":""},null,null,{"$f":"IF(C85=\"FH-E\",Calculations!AT80,IF(Calculations!AS80=0,\"\",Calculations!AT80))","v":""},null,null,"",null,null,null,null,null,null,null,null,null,null,null,""]
[null,null,null,null,null,{"$f":"IF(AND(B86=\"h\",D86<>\"\"),(VLOOKUP(D86,'Team Sheets'!$B$3:$C$30,2,FALSE)),IF(AND(B86=\"A\",D86<>\"\"),(VLOOKUP(D86,'Team Sheets'!$E$3:$F$30,2,FALSE)),\" \"))","v":" "},null,null,{"$f":"IF(C86=\"FH-E\",Calculations!M81,IF(Calculations!L81=0,\"\",Calculations!M81))","v":""},null,null,{"$f":"IF(C86=\"FH-E\",Calculations!AT81,IF(Calculations!AS81=0,\"\",Calculations!AT81))","v":""},null,null,"",null,null,null,null,null,null,null,null,null,null,null,""]
[null,null,null,null,null,{"$f":"IF(AND(B87=\"h\",D87<>\"\"),(VLOOKUP(D87,'Team Sheets'!$B$3:$C$30,2,FALSE)),IF(AND(B87=\"A\",D87<>\"\"),(VLOOKUP(D87,'Team Sheets'!$E$3:$F$30,2,FALSE)),\" \"))","v":" "},null,null,{"$f":"IF(C87=\"FH-E\",Calculations!M82,IF(Calculations!L82=0,\"\",Calculations!M82))","v":""},null,null,{"$f":"IF(C87=\"FH-E\",Calculations!AT82,IF(Calculations!AS82=0,\"\",Calculations!AT82))","v":""},null,null,"",null,null,null,null,null,null,null,null,null,null,null,""]
[null,null,null,null,null,{"$f":"IF(AND(B88=\"h\",D88<>\"\"),(VLOOKUP(D88,'Team Sheets'!$B$3:$C$30,2,FALSE)),IF(AND(B88=\"A\",D88<>\"\"),(VLOOKUP(D88,'Team Sheets'!$E$3:$F$30,2,FALSE)),\" \"))","v":" "},null,null,{"$f":"IF(C88=\"FH-E\",Calculations!M83,IF(Calculations!L83=0,\"\",Calculations!M83))","v":""},null,null,{"$f":"IF(C88=\"FH-E\",Calculations!AT83,IF(Calculations!AS83=0,\"\",Calculations!AT83))","v":""},null,null,"",null,null,null,null,null,null,null,null,null,null,null,""]
[null,null,null,null,null,{"$f":"IF(AND(B89=\"h\",D89<>\"\"),(VLOOKUP(D89,'Team Sheets'!$B$3:$C$30,2,FALSE)),IF(AND(B89=\"A\",D89<>\"\"),(VLOOKUP(D89,'Team Sheets'!$E$3:$F$30,2,FALSE)),\" \"))","v":" "},null,null,{"$f":"IF(C89=\"FH-E\",Calculations!M84,IF(Calculations!L84=0,\"\",Calculations!M84))","v":""},null,null,{"$f":"IF(C89=\"FH-E\",Calculations!AT84,IF(Calculations!AS84=0,\"\",Calculations!AT84))","v":""},null,null,"",null,null,null,null,null,null,null,null,null,null,null,""]
[null,null,null,null,null,{"$f":"IF(AND(B90=\"h\",D90<>\"\"),(VLOOKUP(D90,'Team Sheets'!$B$3:$C$30,2,FALSE)),IF(AND(B90=\"A\",D90<>\"\"),(VLOOKUP(D90,'Team Sheets'!$E$3:$F$30,2,FALSE)),\" \"))","v":" "},null,null,{"$f":"IF(C90=\"FH-E\",Calculations!M85,IF(Calculations!L85=0,\"\",Calculations!M85))","v":""},null,null,{"$f":"IF(C90=\"FH-E\",Calculations!AT85,IF(Calculations!AS85=0,\"\",Calculations!AT85))","v":""},null,null,"",null,null,null,null,null,null,null,null,null,null,null,""]
[null,null,null,null,null,{"$f":"IF(AND(B91=\"h\",D91<>\"\"),(VLOOKUP(D91,'Team Sheets'!$B$3:$C$30,2,FALSE)),IF(AND(B91=\"A\",D91<>\"\"),(VLOOKUP(D91,'Team Sheets'!$E$3:$F$30,2,FALSE)),\" \"))","v":" "},null,null,{"$f":"IF(C91=\"FH-E\",Calculations!M86,IF(Calculations!L86=0,\"\",Calculations!M86))","v":""},null,null,{"$f":"IF(C91=\"FH-E\",Calculations!AT86,IF(Calculations!AS86=0,\"\",Calculations!AT86))","v":""},null,null,"",null,null,null,null,null,null,null,null,null,null,null,""]
[null,null,null,null,null,{"$f":"IF(AND(B92=\"h\",D92<>\"\"),(VLOOKUP(D92,'Team Sheets'!$B$3:$C$30,2,FALSE)),IF(AND(B92=\"A\",D92<>\"\"),(VLOOKUP(D92,'Team Sheets'!$E$3:$F$30,2,FALSE)),\" \"))","v":" "},null,null,{"$f":"IF(C92=\"FH-E\",Calculations!M87,IF(Calculations!L87=0,\"\",Calculations!M87))","v":""},null,null,{"$f":"IF(C92=\"FH-E\",Calculations!AT87,IF(Calculations!AS87=0,\"\",Calculations!AT87))","v":""},null,null,"",null,null,null,null,null,null,null,null,null,null,null,""]
[null,null,null,null,null,{"$f":"IF(AND(B93=\"h\",D93<>\"\"),(VLOOKUP(D93,'Team Sheets'!$B$3:$C$30,2,FALSE)),IF(AND(B93=\"A\",D93<>\"\"),(VLOOKUP(D93,'Team Sheets'!$E$3:$F$30,2,FALSE)),\" \"))","v":" "},null,null,{"$f":"IF(C93=\"FH-E\",Calculations!M88,IF(Calculations!L88=0,\"\",Calculations!M88))","v":""},null,null,{"$f":"IF(C93=\"FH-E\",Calculations!AT88,IF(Calculations!AS88=0,\"\",Calculations!AT88))","v":""},null,null,"",null,null,null,null,null,null,null,null,null,null,null,""]
[null,null,null,null,null,{"$f":"IF(AND(B94=\"h\",D94<>\"\"),(VLOOKUP(D94,'Team Sheets'!$B$3:$C$30,2,FALSE)),IF(AND(B94=\"A\",D94<>\"\"),(VLOOKUP(D94,'Team Sheets'!$E$3:$F$30,2,FALSE)),\" \"))","v":" "},null,null,{"$f":"IF(C94=\"FH-E\",Calculations!M89,IF(Calculations!L89=0,\"\",Calculations!M89))","v":""},null,null,{"$f":"IF(C94=\"FH-E\",Calculations!AT89,IF(Calculations!AS89=0,\"\",Calculations!AT89))","v":""},null,null,"",null,null,null,null,null,null,null,null,null,null,null,""]
[null,null,null,null,null,{"$f":"IF(AND(B95=\"h\",D95<>\"\"),(VLOOKUP(D95,'Team Sheets'!$B$3:$C$30,2,FALSE)),IF(AND(B95=\"A\",D95<>\"\"),(VLOOKUP(D95,'Team Sheets'!$E$3:$F$30,2,FALSE)),\" \"))","v":" "},null,null,{"$f":"IF(C95=\"FH-E\",Calculations!M90,IF(Calculations!L90=0,\"\",Calculations!M90))","v":""},null,null,{"$f":"IF(C95=\"FH-E\",Calculations!AT90,IF(Calculations!AS90=0,\"\",Calculations!AT90))","v":""},null,null,"",null,null,null,null,null,null,null,null,null,null,null,""]
[null,null,null,null,null,{"$f":"IF(AND(B96=\"h\",D96<>\"\"),(VLOOKUP(D96,'Team Sheets'!$B$3:$C$30,2,FALSE)),IF(AND(B96=\"A\",D96<>\"\"),(VLOOKUP(D96,'Team Sheets'!$E$3:$F$30,2,FALSE)),\" \"))","v":" "},null,null,{"$f":"IF(C96=\"FH-E\",Calculations!M91,IF(Calculations!L91=0,\"\",Calculations!M91))","v":""},null,null,{"$f":"IF(C96=\"FH-E\",Calculations!AT91,IF(Calculations!AS91=0,\"\",Calculations!AT91))","v":""},null,null,"",null,null,null,null,null,null,null,null,null,null,null,""]
[null,null,null,null,null,{"$f":"IF(AND(B97=\"h\",D97<>\"\"),(VLOOKUP(D97,'Team Sheets'!$B$3:$C$30,2,FALSE)),IF(AND(B97=\"A\",D97<>\"\"),(VLOOKUP(D97,'Team Sheets'!$E$3:$F$30,2,FALSE)),\" \"))","v":" "},null,null,{"$f":"IF(C97=\"FH-E\",Calculations!M92,IF(Calculations!L92=0,\"\",Calculations!M92))","v":""},null,null,{"$f":"IF(C97=\"FH-E\",Calculations!AT92,IF(Calculations!AS92=0,\"\",Calculations!AT92))","v":""},null,null,"",null,null,null,null,null,null,null,null,null,null,null,""]
[null,null,null,null,null,{"$f":"IF(AND(B98=\"h\",D98<>\"\"),(VLOOKUP(D98,'Team Sheets'!$B$3:$C$30,2,FALSE)),IF(AND(B98=\"A\",D98<>\"\"),(VLOOKUP(D98,'Team Sheets'!$E$3:$F$30,2,FALSE)),\" \"))","v":" "},null,null,{"$f":"IF(C98=\"FH-E\",Calculations!M93,IF(Calculations!L93=0,\"\",Calculations!M93))","v":""},null,null,{"$f":"IF(C98=\"FH-E\",Calculations!AT93,IF(Calculations!AS93=0,\"\",Calculations!AT93))","v":""},null,null,"",null,null,null,null,null,null,null,null,null,null,null,""]
[null,null,null,null,null,{"$f":"IF(AND(B99=\"h\",D99<>\"\"),(VLOOKUP(D99,'Team Sheets'!$B$3:$C$30,2,FALSE)),IF(AND(B99=\"A\",D99<>\"\"),(VLOOKUP(D99,'Team Sheets'!$E$3:$F$30,2,FALSE)),\" \"))","v":" "},null,null,{"$f":"IF(C99=\"FH-E\",Calculations!M94,IF(Calculations!L94=0,\"\",Calculations!M94))","v":""},null,null,{"$f":"IF(C99=\"FH-E\",Calculations!AT94,IF(Calculations!AS94=0,\"\",Calculations!AT94))","v":""},null,null,"",null,null,null,null,null,null,null,null,null,null,null,""]
[null,null,null,null,null,{"$f":"IF(AND(B100=\"h\",D100<>\"\"),(VLOOKUP(D100,'Team Sheets'!$B$3:$C$30,2,FALSE)),IF(AND(B100=\"A\",D100<>\"\"),(VLOOKUP(D100,'Team Sheets'!$E$3:$F$30,2,FALSE)),\" \"))","v":" "},null,null,{"$f":"IF(C100=\"FH-E\",Calculations!M95,IF(Calculations!L95=0,\"\",Calculations!M95))","v":""},null,null,{"$f":"IF(C100=\"FH-E\",Calculations!AT95,IF(Calculations!AS95=0,\"\",Calculations!AT95))","v":""},null,null,"",null,null,null,null,null,null,null,null,null,null,null,""]
[null,null,null,null,null,{"$f":"IF(AND(B101=\"h\",D101<>\"\"),(VLOOKUP(D101,'Team Sheets'!$B$3:$C$30,2,FALSE)),IF(AND(B101=\"A\",D101<>\"\"),(VLOOKUP(D101,'Team Sheets'!$E$3:$F$30,2,FALSE)),\" \"))","v":" "},null,null,{"$f":"IF(C101=\"FH-E\",Calculations!M96,IF(Calculations!L96=0,\"\",Calculations!M96))","v":""},null,null,{"$f":"IF(C101=\"FH-E\",Calculations!AT96,IF(Calculations!AS96=0,\"\",Calculations!AT96))","v":""},null,null,"",null,null,null,null,null,null,null,null,null,null,null,""]
[null,null,null,null,null,{"$f":"IF(AND(B102=\"h\",D102<>\"\"),(VLOOKUP(D102,'Team Sheets'!$B$3:$C$30,2,FALSE)),IF(AND(B102=\"A\",D102<>\"\"),(VLOOKUP(D102,'Team Sheets'!$E$3:$F$30,2,FALSE)),\" \"))","v":" "},null,null,{"$f":"IF(C102=\"FH-E\",Calculations!M97,IF(Calculations!L97=0,\"\",Calculations!M97))","v":""},null,null,{"$f":"IF(C102=\"FH-E\",Calculations!AT97,IF(Calculations!AS97=0,\"\",Calculations!AT97))","v":""},null,null,"",null,null,null,null,null,null,null,null,null,null,null,""]
[null,null,null,null,null,{"$f":"IF(AND(B103=\"h\",D103<>\"\"),(VLOOKUP(D103,'Team Sheets'!$B$3:$C$30,2,FALSE)),IF(AND(B103=\"A\",D103<>\"\"),(VLOOKUP(D103,'Team Sheets'!$E$3:$F$30,2,FALSE)),\" \"))","v":" "},null,null,{"$f":"IF(C103=\"FH-E\",Calculations!M98,IF(Calculations!L98=0,\"\",Calculations!M98))","v":""},null,null,{"$f":"IF(C103=\"FH-E\",Calculations!AT98,IF(Calculations!AS98=0,\"\",Calculations!AT98))","v":""},null,null,"",null,null,null,null,null,null,null,null,null,null,null,""]
[null,null,null,null,null,{"$f":"IF(AND(B104=\"h\",D104<>\"\"),(VLOOKUP(D104,'Team Sheets'!$B$3:$C$30,2,FALSE)),IF(AND(B104=\"A\",D104<>\"\"),(VLOOKUP(D104,'Team Sheets'!$E$3:$F$30,2,FALSE)),\" \"))","v":" "},null,null,{"$f":"IF(C104=\"FH-E\",Calculations!M99,IF(Calculations!L99=0,\"\",Calculations!M99))","v":""},null,null,{"$f":"IF(C104=\"FH-E\",Calculations!AT99,IF(Calculations!AS99=0,\"\",Calculations!AT99))","v":""},null,null,"",null,null,null,null,null,null,null,null,null,null,null,""]
[null,null,null,null,null,{"$f":"IF(AND(B105=\"h\",D105<>\"\"),(VLOOKUP(D105,'Team Sheets'!$B$3:$C$30,2,FALSE)),IF(AND(B105=\"A\",D105<>\"\"),(VLOOKUP(D105,'Team Sheets'!$E$3:$F$30,2,FALSE)),\" \"))","v":" "},null,null,{"$f":"IF(C105=\"FH-E\",Calculations!M100,IF(Calculations!L100=0,\"\",Calculations!M100))","v":""},null,null,{"$f":"IF(C105=\"FH-E\",Calculations!AT100,IF(Calculations!AS100=0,\"\",Calculations!AT100))","v":""},null,null,"",null,null,null,null,null,null,null,null,null,null,null,""]
[null,null,null,null,null,{"$f":"IF(AND(B106=\"h\",D106<>\"\"),(VLOOKUP(D106,'Team Sheets'!$B$3:$C$30,2,FALSE)),IF(AND(B106=\"A\",D106<>\"\"),(VLOOKUP(D106,'Team Sheets'!$E$3:$F$30,2,FALSE)),\" \"))","v":" "},null,null,{"$f":"IF(C106=\"FH-E\",Calculations!M101,IF(Calculations!L101=0,\"\",Calculations!M101))","v":""},null,null,{"$f":"IF(C106=\"FH-E\",Calculations!AT101,IF(Calculations!AS101=0,\"\",Calculations!AT101))","v":""},null,null,"",null,null,null,null,null,null,null,null,null,null,null,""]
[null,null,null,null,null,{"$f":"IF(AND(B107=\"h\",D107<>\"\"),(VLOOKUP(D107,'Team Sheets'!$B$3:$C$30,2,FALSE)),IF(AND(B107=\"A\",D107<>\"\"),(VLOOKUP(D107,'Team Sheets'!$E$3:$F$30,2,FALSE)),\" \"))","v":" "},null,null,{"$f":"IF(C107=\"FH-E\",Calculations!M102,IF(Calculations!L102=0,\"\",Calculations!M102))","v":""},null,null,{"$f":"IF(C107=\"FH-E\",Calculations!AT102,IF(Calculations!AS102=0,\"\",Calculations!AT102))","v":""},null,null,"",null,null,null,null,null,null,null,null,null,null,null,""]
[null,null,null,null,null,{"$f":"IF(AND(B108=\"h\",D108<>\"\"),(VLOOKUP(D108,'Team Sheets'!$B$3:$C$30,2,FALSE)),IF(AND(B108=\"A\",D108<>\"\"),(VLOOKUP(D108,'Team Sheets'!$E$3:$F$30,2,FALSE)),\" \"))","v":" "},null,null,{"$f":"IF(C108=\"FH-E\",Calculations!M103,IF(Calculations!L103=0,\"\",Calculations!M103))","v":""},null,null,{"$f":"IF(C108=\"FH-E\",Calculations!AT103,IF(Calculations!AS103=0,\"\",Calculations!AT103))","v":""},null,null,"",null,null,null,null,null,null,null,null,null,null,null,""]
[null,null,null,null,null,{"$f":"IF(AND(B109=\"h\",D109<>\"\"),(VLOOKUP(D109,'Team Sheets'!$B$3:$C$30,2,FALSE)),IF(AND(B109=\"A\",D109<>\"\"),(VLOOKUP(D109,'Team Sheets'!$E$3:$F$30,2,FALSE)),\" \"))","v":" "},null,null,{"$f":"IF(C109=\"FH-E\",Calculations!M104,IF(Calculations!L104=0,\"\",Calculations!M104))","v":""},null,null,{"$f":"IF(C109=\"FH-E\",Calculations!AT104,IF(Calculations!AS104=0,\"\",Calculations!AT104))","v":""},null,null,"",null,null,null,null,null,null,null,null,null,null,null,""]
[null,null,null,null,null,{"$f":"IF(AND(B110=\"h\",D110<>\"\"),(VLOOKUP(D110,'Team Sheets'!$B$3:$C$30,2,FALSE)),IF(AND(B110=\"A\",D110<>\"\"),(VLOOKUP(D110,'Team Sheets'!$E$3:$F$30,2,FALSE)),\" \"))","v":" "},null,null,{"$f":"IF(C110=\"FH-E\",Calculations!M105,IF(Calculations!L105=0,\"\",Calculations!M105))","v":""},null,null,{"$f":"IF(C110=\"FH-E\",Calculations!AT105,IF(Calculations!AS105=0,\"\",Calculations!AT105))","v":""},null,null,"",null,null,null,null,null,null,null,null,null,null,null,""]
[null,null,null,null,null,{"$f":"IF(AND(B111=\"h\",D111<>\"\"),(VLOOKUP(D111,'Team Sheets'!$B$3:$C$30,2,FALSE)),IF(AND(B111=\"A\",D111<>\"\"),(VLOOKUP(D111,'Team Sheets'!$E$3:$F$30,2,FALSE)),\" \"))","v":" "},null,null,{"$f":"IF(C111=\"FH-E\",Calculations!M106,IF(Calculations!L106=0,\"\",Calculations!M106))","v":""},null,null,{"$f":"IF(C111=\"FH-E\",Calculations!AT106,IF(Calculations!AS106=0,\"\",Calculations!AT106))","v":""},null,null,"",null,null,null,null,null,null,null,null,null,null,null,""]
[null,null,null,null,null,{"$f":"IF(AND(B112=\"h\",D112<>\"\"),(VLOOKUP(D112,'Team Sheets'!$B$3:$C$30,2,FALSE)),IF(AND(B112=\"A\",D112<>\"\"),(VLOOKUP(D112,'Team Sheets'!$E$3:$F$30,2,FALSE)),\" \"))","v":" "},null,null,{"$f":"IF(C112=\"FH-E\",Calculations!M107,IF(Calculations!L107=0,\"\",Calculations!M107))","v":""},null,null,{"$f":"IF(C112=\"FH-E\",Calculations!AT107,IF(Calculations!AS107=0,\"\",Calculations!AT107))","v":""},null,null,"",null,null,null,null,null,null,null,null,null,null,null,""]
[null,null,null,null,null,{"$f":"IF(AND(B113=\"h\",D113<>\"\"),(VLOOKUP(D113,'Team Sheets'!$B$3:$C$30,2,FALSE)),IF(AND(B113=\"A\",D113<>\"\"),(VLOOKUP(D113,'Team Sheets'!$E$3:$F$30,2,FALSE)),\" \"))","v":" "},null,null,{"$f":"IF(C113=\"FH-E\",Calculations!M108,IF(Calculations!L108=0,\"\",Calculations!M108))","v":""},null,null,{"$f":"IF(C113=\"FH-E\",Calculations!AT108,IF(Calculations!AS108=0,\"\",Calculations!AT108))","v":""},null,null,{"$f":"IF(OR(AA113=\"\",COUNTIF(AA:AA,AA113)=1),\"\",IF(COUNTIF(AA:AA,AA113)>200,0,IF(COUNTIF(AA:AA,AA113)=1,0,COUNTIF(AA:AA,AA113))))","v":""},null,null,null,null,null,null,null,null,null,null,null,""]
[null,null,null,null,null,{"$f":"IF(AND(B114=\"h\",D114<>\"\"),(VLOOKUP(D114,'Team Sheets'!$B$3:$C$30,2,FALSE)),IF(AND(B114=\"A\",D114<>\"\"),(VLOOKUP(D114,'Team Sheets'!$E$3:$F$30,2,FALSE)),\" \"))","v":" "},null,null,{"$f":"IF(C114=\"FH-E\",Calculations!M109,IF(Calculations!L109=0,\"\",Calculations!M109))","v":""},null,null,{"$f":"IF(C114=\"FH-E\",Calculations!AT109,IF(Calculations!AS109=0,\"\",Calculations!AT109))","v":""},null,null,"",null,null,null,null,null,null,null,null,null,null,null,""]
[null,null,null,null,null,{"$f":"IF(AND(B115=\"h\",D115<>\"\"),(VLOOKUP(D115,'Team Sheets'!$B$3:$C$30,2,FALSE)),IF(AND(B115=\"A\",D115<>\"\"),(VLOOKUP(D115,'Team Sheets'!$E$3:$F$30,2,FALSE)),\" \"))","v":" "},null,null,{"$f":"IF(C115=\"FH-E\",Calculations!M110,IF(Calculations!L110=0,\"\",Calculations!M110))","v":""},null,null,{"$f":"IF(C115=\"FH-E\",Calculations!AT110,IF(Calculations!AS110=0,\"\",Calculations!AT110))","v":""},null,null,"",null,null,null,null,null,null,null,null,null,null,null,""]
[null,null,null,null,null,{"$f":"IF(AND(B116=\"h\",D116<>\"\"),(VLOOKUP(D116,'Team Sheets'!$B$3:$C$30,2,FALSE)),IF(AND(B116=\"A\",D116<>\"\"),(VLOOKUP(D116,'Team Sheets'!$E$3:$F$30,2,FALSE)),\" \"))","v":" "},null,null,{"$f":"IF(C116=\"FH-E\",Calculations!M111,IF(Calculations!L111=0,\"\",Calculations!M111))","v":""},null,null,{"$f":"IF(C116=\"FH-E\",Calculations!AT111,IF(Calculations!AS111=0,\"\",Calculations!AT111))","v":""},null,null,"",null,null,null,null,null,null,null,null,null,null,null,""]
[null,null,null,null,null,{"$f":"IF(AND(B117=\"h\",D117<>\"\"),(VLOOKUP(D117,'Team Sheets'!$B$3:$C$30,2,FALSE)),IF(AND(B117=\"A\",D117<>\"\"),(VLOOKUP(D117,'Team Sheets'!$E$3:$F$30,2,FALSE)),\" \"))","v":" "},null,null,{"$f":"IF(C117=\"FH-E\",Calculations!M112,IF(Calculations!L112=0,\"\",Calculations!M112))","v":""},null,null,{"$f":"IF(C117=\"FH-E\",Calculations!AT112,IF(Calculations!AS112=0,\"\",Calculations!AT112))","v":""},null,null,"",null,null,null,null,null,null,null,null,null,null,null,""]
[null,null,null,null,null,{"$f":"IF(AND(B118=\"h\",D118<>\"\"),(VLOOKUP(D118,'Team Sheets'!$B$3:$C$30,2,FALSE)),IF(AND(B118=\"A\",D118<>\"\"),(VLOOKUP(D118,'Team Sheets'!$E$3:$F$30,2,FALSE)),\" \"))","v":" "},null,null,{"$f":"IF(C118=\"FH-E\",Calculations!M113,IF(Calculations!L113=0,\"\",Calculations!M113))","v":""},null,null,{"$f":"IF(C118=\"FH-E\",Calculations!AT113,IF(Calculations!AS113=0,\"\",Calculations!AT113))","v":""},null,null,"",null,null,null,null,null,null,null,null,null,null,null,""]
[null,null,null,null,null,{"$f":"IF(AND(B119=\"h\",D119<>\"\"),(VLOOKUP(D119,'Team Sheets'!$B$3:$C$30,2,FALSE)),IF(AND(B119=\"A\",D119<>\"\"),(VLOOKUP(D119,'Team Sheets'!$E$3:$F$30,2,FALSE)),\" \"))","v":" "},null,null,{"$f":"IF(C119=\"FH-E\",Calculations!M114,IF(Calculations!L114=0,\"\",Calculations!M114))","v":""},null,null,{"$f":"IF(C119=\"FH-E\",Calculations!AT114,IF(Calculations!AS114=0,\"\",Calculations!AT114))","v":""},null,null,"",null,null,null,null,null,null,null,null,null,null,null,""]
[null,null,null,null,null,{"$f":"IF(AND(B120=\"h\",D120<>\"\"),(VLOOKUP(D120,'Team Sheets'!$B$3:$C$30,2,FALSE)),IF(AND(B120=\"A\",D120<>\"\"),(VLOOKUP(D120,'Team Sheets'!$E$3:$F$30,2,FALSE)),\" \"))","v":" "},null,null,{"$f":"IF(C120=\"FH-E\",Calculations!M115,IF(Calculations!L115=0,\"\",Calculations!M115))","v":""},null,null,{"$f":"IF(C120=\"FH-E\",Calculations!AT115,IF(Calculations!AS115=0,\"\",Calculations!AT115))","v":""},null,null,"",null,null,null,null,null,null,null,null,null,null,null,""]
[null,null,null,null,null,{"$f":"IF(AND(B121=\"h\",D121<>\"\"),(VLOOKUP(D121,'Team Sheets'!$B$3:$C$30,2,FALSE)),IF(AND(B121=\"A\",D121<>\"\"),(VLOOKUP(D121,'Team Sheets'!$E$3:$F$30,2,FALSE)),\" \"))","v":" "},null,null,{"$f":"IF(C121=\"FH-E\",Calculations!M116,IF(Calculations!L116=0,\"\",Calculations!M116))","v":""},null,null,{"$f":"IF(C121=\"FH-E\",Calculations!AT116,IF(Calculations!AS116=0,\"\",Calculations!AT116))","v":""},null,null,"",null,null,null,null,null,null,null,null,null,null,null,""]
[null,null,null,null,null,{"$f":"IF(AND(B122=\"h\",D122<>\"\"),(VLOOKUP(D122,'Team Sheets'!$B$3:$C$30,2,FALSE)),IF(AND(B122=\"A\",D122<>\"\"),(VLOOKUP(D122,'Team Sheets'!$E$3:$F$30,2,FALSE)),\" \"))","v":" "},null,null,{"$f":"IF(C122=\"FH-E\",Calculations!M117,IF(Calculations!L117=0,\"\",Calculations!M117))","v":""},null,null,{"$f":"IF(C122=\"FH-E\",Calculations!AT117,IF(Calculations!AS117=0,\"\",Calculations!AT117))","v":""},null,null,"",null,null,null,null,null,null,null,null,null,null,null,""]
[null,null,null,null,null,{"$f":"IF(AND(B123=\"h\",D123<>\"\"),(VLOOKUP(D123,'Team Sheets'!$B$3:$C$30,2,FALSE)),IF(AND(B123=\"A\",D123<>\"\"),(VLOOKUP(D123,'Team Sheets'!$E$3:$F$30,2,FALSE)),\" \"))","v":" "},null,null,{"$f":"IF(C123=\"FH-E\",Calculations!M118,IF(Calculations!L118=0,\"\",Calculations!M118))","v":""},null,null,{"$f":"IF(C123=\"FH-E\",Calculations!AT118,IF(Calculations!AS118=0,\"\",Calculations!AT118))","v":""},null,null,"",null,null,null,null,null,null,null,null,null,null,null,""]
[null,null,null,null,null,{"$f":"IF(AND(B124=\"h\",D124<>\"\"),(VLOOKUP(D124,'Team Sheets'!$B$3:$C$30,2,FALSE)),IF(AND(B124=\"A\",D124<>\"\"),(VLOOKUP(D124,'Team Sheets'!$E$3:$F$30,2,FALSE)),\" \"))","v":" "},null,null,{"$f":"IF(C124=\"FH-E\",Calculations!M119,IF(Calculations!L119=0,\"\",Calculations!M119))","v":""},null,null,{"$f":"IF(C124=\"FH-E\",Calculations!AT119,IF(Calculations!AS119=0,\"\",Calculations!AT119))","v":""},null,null,"",null,null,null,null,null,null,null,null,null,null,null,""]

{"sheet":"Team Sheets","index":1,"n_rows":30,"n_cols":10,"rows_kept":30,"cut":false,"hidden":false,"merged":[[0,1,0,5]]}
[null,"Run-on Teams",null,null,null,null,null,"Summary"]
[null,"HOME TEAM",null,null,"AWAY TEAM",null,null,null,"H","A"]
[null,1,null,null,1,null,null,"Tries",{"$f":"Calculations!$B$120","v":0},{"$f":"Calculations!$AI$120","v":0}]
[null,2,null,null,2,null,null,"Penalty Tries",{"$f":"Calculations!$C$120","v":0},{"$f":"Calculations!$AJ$120","v":0}]
[null,3,null,null,3,null,null,"Conversions",{"$f":"Calculations!$D$120","v":0},{"$f":"Calculations!$AK$120","v":0}]
[null,4,null,null,4,null,null,"Penalties",{"$f":"Calculations!$E$120","v":0},{"$f":"Calculations!$AL$120","v":0}]
[null,5,null,null,5,null,null,"Drop Goals",{"$f":"Calculations!$F$120","v":0},{"$f":"Calculations!$AM$120","v":0}]
[null,6,null,null,6,null,null,"Blood Bin - Off",{"$f":"Calculations!$P$120","v":0},{"$f":"Calculations!$AV$120","v":0}]
[null,7,null,null,7,null,null,"Blood Bin - On",{"$f":"Calculations!$Q$120","v":0},{"$f":"Calculations!$AW$120","v":0}]
[null,8,null,null,8,null,null,"Blood Bin Return - Off",{"$f":"Calculations!$R$120","v":0},{"$f":"Calculations!$AX$120","v":0}]
[null,9,null,null,9,null,null,"Blood Bin Return - On",{"$f":"Calculations!$S$120","v":0},{"$f":"Calculations!$AY$120","v":0}]
[null,10,null,null,10,null,null,"Injury - Off",{"$f":"Calculations!$T$120","v":0},{"$f":"Calculations!$AZ$120","v":0}]
[null,11,null,null,11,null,null,"Injury - On",{"$f":"Calculations!$U$120","v":0},{"$f":"Calculations!$AZ$120","v":0}]
[null,12,null,null,12,null,null,"Concussion - Off",{"$f":"Calculations!V120","v":0},{"$f":"Calculations!BB120","v":0}]
[null,13,null,null,13,null,null,"Concussion - On",{"$f":"Calculations!W120","v":0},{"$f":"Calculations!BC120","v":0}]
[null,14,null,null,14,null,null,"Replacements - Off",{"$f":"Calculations!$X$120","v":0},{"$f":"Calculations!$BD$120","v":0}]
[null,15,null,null,15,null,null,"Replacements - On",{"$f":"Calculations!$Y$120","v":0},{"$f":"Calculations!$BE$120","v":0}]
[null,16,null,null,16,null,null,"Red Card",{"$f":"Calculations!$Z$120","v":0},{"$f":"Calculations!$BF$120","v":0}]
[null,17,null,null,17,null,null,"Yellow Card",{"$f":"Calculations!$AB$120","v":0},{"$f":"Calculations!$BH$120","v":0}]
[null,18,null,null,18,null,null,"2nd Yellow Card",{"$f":"Calculations!$AC$120","v":0},{"$f":"Calculations!$BI$120","v":0}]
[null,19,null,null,19]
[null,20,null,null,20]
[null,21,null,null,21]
[null,22,null,null,22]
[null,23,null,null,23]
[null,24,null,null,24]
[null,25,null,null,25]
[null,26,null,null,26]
[null,27,null,null,27]
[null,28,null,null,28]

{"sheet":"Scoring Sheet","index":2,"n_rows":31,"n_cols":16,"rows_kept":31,"cut":false,"hidden":false,"merged":[[0,3,0,7],[0,11,0,15]]}
[null,null,"Home Team Final Score",{"$f":"(D31*5)+(E31*2)+(F31*3)+(G31*3)+(H31*7)","v":0},null,null,null,null,null,null,"Away Team Final Score",{"$f":"(L31*5)+(M31*2)+(N31*3)+(O31*3)+(P31*7)","v":0}]
[null,null,{"$f":"'Ref Score sheet'!D7","v":0},"T","C","P","DG","PT",null,null,{"$f":"'Ref Score sheet'!D8","v":0},"T","C","P","DG","PT"]
[null,{"$f":"'Team Sheets'!B3","v":1},{"$f":"IF('Team Sheets'!C3=\"\",\"\",'Team Sheets'!C3)","v":""},{"$f":"COUNTIFS('Ref Score sheet'!$B$17:$B$124,\"H\",'Ref Score sheet'!$C$17:$C$124,$D$2,'Ref Score sheet'!$D$17:$D$124,B3)","v":0},{"$f":"COUNTIFS('Ref Score sheet'!$B$17:$B$124,\"H\",'Ref Score sheet'!$C$17:$C$124,$E$2,'Ref Score sheet'!$D$17:$D$124,B3)","v":0},{"$f":"COUNTIFS('Ref Score sheet'!$B$17:$B$124,\"H\",'Ref Score sheet'!$C$17:$C$124,$F$2,'Ref Score sheet'!$D$17:$D$124,B3)","v":0},{"$f":"COUNTIFS('Ref Score sheet'!$B$17:$B$124,\"H\",'Ref Score sheet'!$C$17:$C$124,$G$2,'Ref Score sheet'!$D$17:$D$124,B3)","v":0},{"$f":"COUNTIFS('Ref Score sheet'!$B$17:$B$124,\"H\",'Ref Score sheet'!$C$17:$C$124,$H$2)","v":0},null,{"$f":"'Team Sheets'!E3","v":1},{"$f":"IF('Team Sheets'!F3=\"\",\"\",'Team Sheets'!F3)","v":""},{"$f":"COUNTIFS('Ref Score sheet'!$B$17:$B$124,\"A\",'Ref Score sheet'!$C$17:$C$124,$L$2,'Ref Score sheet'!$D$17:$D$124,J3)","v":0},{"$f":"COUNTIFS('Ref Score sheet'!$B$17:$B$124,\"A\",'Ref Score sheet'!$C$17:$C$124,$M$2,'Ref Score sheet'!$D$17:$D$124,J3)","v":0},{"$f":"COUNTIFS('Ref Score sheet'!$B$17:$B$124,\"A\",'Ref Score sheet'!$C$17:$C$124,$N$2,'Ref Score sheet'!$D$17:$D$124,J3)","v":0},{"$f":"COUNTIFS('Ref Score sheet'!$B$17:$B$124,\"A\",'Ref Score sheet'!$C$17:$C$124,$O$2,'Ref Score sheet'!$D$17:$D$124,J3)","v":0},{"$f":"COUNTIFS('Ref Score sheet'!$B$17:$B$124,\"A\",'Ref Score sheet'!$C$17:$C$124,$P$2)","v":0}]
[null,{"$f":"'Team Sheets'!B4","v":2},{"$f":"IF('Team Sheets'!C4=\"\",\"\",'Team Sheets'!C4)","v":""},{"$f":"COUNTIFS('Ref Score sheet'!$B$17:$B$124,\"H\",'Ref Score sheet'!$C$17:$C$124,$D$2,'Ref Score sheet'!$D$17:$D$124,B4)","v":0},{"$f":"COUNTIFS('Ref Score sheet'!$B$17:$B$124,\"H\",'Ref Score sheet'!$C$17:$C$124,$E$2,'Ref Score sheet'!$D$17:$D$124,B4)","v":0},{"$f":"COUNTIFS('Ref Score sheet'!$B$17:$B$124,\"H\",'Ref Score sheet'!$C$17:$C$124,$F$2,'Ref Score sheet'!$D$17:$D$124,B4)","v":0},{"$f":"COUNTIFS('Ref Score sheet'!$B$17:$B$124,\"H\",'Ref Score sheet'!$C$17:$C$124,$G$2,'Ref Score sheet'!$D$17:$D$124,B4)","v":0},null,null,{"$f":"'Team Sheets'!E4","v":2},{"$f":"IF('Team Sheets'!F4=\"\",\"\",'Team Sheets'!F4)","v":""},{"$f":"COUNTIFS('Ref Score sheet'!$B$17:$B$124,\"A\",'Ref Score sheet'!$C$17:$C$124,$L$2,'Ref Score sheet'!$D$17:$D$124,J4)","v":0},{"$f":"COUNTIFS('Ref Score sheet'!$B$17:$B$124,\"A\",'Ref Score sheet'!$C$17:$C$124,$M$2,'Ref Score sheet'!$D$17:$D$124,J4)","v":0},{"$f":"COUNTIFS('Ref Score sheet'!$B$17:$B$124,\"A\",'Ref Score sheet'!$C$17:$C$124,$N$2,'Ref Score sheet'!$D$17:$D$124,J4)","v":0},{"$f":"COUNTIFS('Ref Score sheet'!$B$17:$B$124,\"A\",'Ref Score sheet'!$C$17:$C$124,$O$2,'Ref Score sheet'!$D$17:$D$124,J4)","v":0}]
[null,{"$f":"'Team Sheets'!B5","v":3},{"$f":"IF('Team Sheets'!C5=\"\",\"\",'Team Sheets'!C5)","v":""},{"$f":"COUNTIFS('Ref Score sheet'!$B$17:$B$124,\"H\",'Ref Score sheet'!$C$17:$C$124,$D$2,'Ref Score sheet'!$D$17:$D$124,B5)","v":0},{"$f":"COUNTIFS('Ref Score sheet'!$B$17:$B$124,\"H\",'Ref Score sheet'!$C$17:$C$124,$E$2,'Ref Score sheet'!$D$17:$D$124,B5)","v":0},{"$f":"COUNTIFS('Ref Score sheet'!$B$17:$B$124,\"H\",'Ref Score sheet'!$C$17:$C$124,$F$2,'Ref Score sheet'!$D$17:$D$124,B5)","v":0},{"$f":"COUNTIFS('Ref Score sheet'!$B$17:$B$124,\"H\",'Ref Score sheet'!$C$17:$C$124,$G$2,'Ref Score sheet'!$D$17:$D$124,B5)","v":0},null,null,{"$f":"'Team Sheets'!E5","v":3},{"$f":"IF('Team Sheets'!F5=\"\",\"\",'Team Sheets'!F5)","v":""},{"$f":"COUNTIFS('Ref Score sheet'!$B$17:$B$124,\"A\",'Ref Score sheet'!$C$17:$C$124,$L$2,'Ref Score sheet'!$D$17:$D$124,J5)","v":0},{"$f":"COUNTIFS('Ref Score sheet'!$B$17:$B$124,\"A\",'Ref Score sheet'!$C$17:$C$124,$M$2,'Ref Score sheet'!$D$17:$D$124,J5)","v":0},{"$f":"COUNTIFS('Ref Score sheet'!$B$17:$B$124,\"A\",'Ref Score sheet'!$C$17:$C$124,$N$2,'Ref Score sheet'!$D$17:$D$124,J5)","v":0},{"$f":"COUNTIFS('Ref Score sheet'!$B$17:$B$124,\"A\",'Ref Score sheet'!$C$17:$C$124,$O$2,'Ref Score sheet'!$D$17:$D$124,J5)","v":0}]
[null,{"$f":"'Team Sheets'!B6","v":4},{"$f":"IF('Team Sheets'!C6=\"\",\"\",'Team Sheets'!C6)","v":""},{"$f":"COUNTIFS('Ref Score sheet'!$B$17:$B$124,\"H\",'Ref Score sheet'!$C$17:$C$124,$D$2,'Ref Score sheet'!$D$17:$D$124,B6)","v":0},{"$f":"COUNTIFS('Ref Score sheet'!$B$17:$B$124,\"H\",'Ref Score sheet'!$C$17:$C$124,$E$2,'Ref Score sheet'!$D$17:$D$124,B6)","v":0},{"$f":"COUNTIFS('Ref Score sheet'!$B$17:$B$124,\"H\",'Ref Score sheet'!$C$17:$C$124,$F$2,'Ref Score sheet'!$D$17:$D$124,B6)","v":0},{"$f":"COUNTIFS('Ref Score sheet'!$B$17:$B$124,\"H\",'Ref Score sheet'!$C$17:$C$124,$G$2,'Ref Score sheet'!$D$17:$D$124,B6)","v":0},null,null,{"$f":"'Team Sheets'!E6","v":4},{"$f":"IF('Team Sheets'!F6=\"\",\"\",'Team Sheets'!F6)","v":""},{"$f":"COUNTIFS('Ref Score sheet'!$B$17:$B$124,\"A\",'Ref Score sheet'!$C$17:$C$124,$L$2,'Ref Score sheet'!$D$17:$D$124,J6)","v":0},{"$f":"COUNTIFS('Ref Score sheet'!$B$17:$B$124,\"A\",'Ref Score sheet'!$C$17:$C$124,$M$2,'Ref Score sheet'!$D$17:$D$124,J6)","v":0},{"$f":"COUNTIFS('Ref Score sheet'!$B$17:$B$124,\"A\",'Ref Score sheet'!$C$17:$C$124,$N$2,'Ref Score sheet'!$D$17:$D$124,J6)","v":0},{"$f":"COUNTIFS('Ref Score sheet'!$B$17:$B$124,\"A\",'Ref Score sheet'!$C$17:$C$124,$O$2,'Ref Score sheet'!$D$17:$D$124,J6)","v":0}]
[null,{"$f":"'Team Sheets'!B7","v":5},{"$f":"IF('Team Sheets'!C7=\"\",\"\",'Team Sheets'!C7)","v":""},{"$f":"COUNTIFS('Ref Score sheet'!$B$17:$B$124,\"H\",'Ref Score sheet'!$C$17:$C$124,$D$2,'Ref Score sheet'!$D$17:$D$124,B7)","v":0},{"$f":"COUNTIFS('Ref Score sheet'!$B$17:$B$124,\"H\",'Ref Score sheet'!$C$17:$C$124,$E$2,'Ref Score sheet'!$D$17:$D$124,B7)","v":0},{"$f":"COUNTIFS('Ref Score sheet'!$B$17:$B$124,\"H\",'Ref Score sheet'!$C$17:$C$124,$F$2,'Ref Score sheet'!$D$17:$D$124,B7)","v":0},{"$f":"COUNTIFS('Ref Score sheet'!$B$17:$B$124,\"H\",'Ref Score sheet'!$C$17:$C$124,$G$2,'Ref Score sheet'!$D$17:$D$124,B7)","v":0},null,null,{"$f":"'Team Sheets'!E7","v":5},{"$f":"IF('Team Sheets'!F7=\"\",\"\",'Team Sheets'!F7)","v":""},{"$f":"COUNTIFS('Ref Score sheet'!$B$17:$B$124,\"A\",'Ref Score sheet'!$C$17:$C$124,$L$2,'Ref Score sheet'!$D$17:$D$124,J7)","v":0},{"$f":"COUNTIFS('Ref Score sheet'!$B$17:$B$124,\"A\",'Ref Score sheet'!$C$17:$C$124,$M$2,'Ref Score sheet'!$D$17:$D$124,J7)","v":0},{"$f":"COUNTIFS('Ref Score sheet'!$B$17:$B$124,\"A\",'Ref Score sheet'!$C$17:$C$124,$N$2,'Ref Score sheet'!$D$17:$D$124,J7)","v":0},{"$f":"COUNTIFS('Ref Score sheet'!$B$17:$B$124,\"A\",'Ref Score sheet'!$C$17:$C$124,$O$2,'Ref Score sheet'!$D$17:$D$124,J7)","v":0}]
[null,{"$f":"'Team Sheets'!B8","v":6},{"$f":"IF('Team Sheets'!C8=\"\",\"\",'Team Sheets'!C8)","v":""},{"$f":"COUNTIFS('Ref Score sheet'!$B$17:$B$124,\"H\",'Ref Score sheet'!$C$17:$C$124,$D$2,'Ref Score sheet'!$D$17:$D$124,B8)","v":0},{"$f":"COUNTIFS('Ref Score sheet'!$B$17:$B$124,\"H\",'Ref Score sheet'!$C$17:$C$124,$E$2,'Ref Score sheet'!$D$17:$D$124,B8)","v":0},{"$f":"COUNTIFS('Ref Score sheet'!$B$17:$B$124,\"H\",'Ref Score sheet'!$C$17:$C$124,$F$2,'Ref Score sheet'!$D$17:$D$124,B8)","v":0},{"$f":"COUNTIFS('Ref Score sheet'!$B$17:$B$124,\"H\",'Ref Score sheet'!$C$17:$C$124,$G$2,'Ref Score sheet'!$D$17:$D$124,B8)","v":0},null,null,{"$f":"'Team Sheets'!E8","v":6},{"$f":"IF('Team Sheets'!F8=\"\",\"\",'Team Sheets'!F8)","v":""},{"$f":"COUNTIFS('Ref Score sheet'!$B$17:$B$124,\"A\",'Ref Score sheet'!$C$17:$C$124,$L$2,'Ref Score sheet'!$D$17:$D$124,J8)","v":0},{"$f":"COUNTIFS('Ref Score sheet'!$B$17:$B$124,\"A\",'Ref Score sheet'!$C$17:$C$124,$M$2,'Ref Score sheet'!$D$17:$D$124,J8)","v":0},{"$f":"COUNTIFS('Ref Score sheet'!$B$17:$B$124,\"A\",'Ref Score sheet'!$C$17:$C$124,$N$2,'Ref Score sheet'!$D$17:$D$124,J8)","v":0},{"$f":"COUNTIFS('Ref Score sheet'!$B$17:$B$124,\"A\",'Ref Score sheet'!$C$17:$C$124,$O$2,'Ref Score sheet'!$D$17:$D$124,J8)","v":0}]
[null,{"$f":"'Team Sheets'!B9","v":7},{"$f":"IF('Team Sheets'!C9=\"\",\"\",'Team Sheets'!C9)","v":""},{"$f":"COUNTIFS('Ref Score sheet'!$B$17:$B$124,\"H\",'Ref Score sheet'!$C$17:$C$124,$D$2,'Ref Score sheet'!$D$17:$D$124,B9)","v":0},{"$f":"COUNTIFS('Ref Score sheet'!$B$17:$B$124,\"H\",'Ref Score sheet'!$C$17:$C$124,$E$2,'Ref Score sheet'!$D$17:$D$124,B9)","v":0},{"$f":"COUNTIFS('Ref Score sheet'!$B$17:$B$124,\"H\",'Ref Score sheet'!$C$17:$C$124,$F$2,'Ref Score sheet'!$D$17:$D$124,B9)","v":0},{"$f":"COUNTIFS('Ref Score sheet'!$B$17:$B$124,\"H\",'Ref Score sheet'!$C$17:$C$124,$G$2,'Ref Score sheet'!$D$17:$D$124,B9)","v":0},null,null,{"$f":"'Team Sheets'!E9","v":7},{"$f":"IF('Team Sheets'!F9=\"\",\"\",'Team Sheets'!F9)","v":""},{"$f":"COUNTIFS('Ref Score sheet'!$B$17:$B$124,\"A\",'Ref Score sheet'!$C$17:$C$124,$L$2,'Ref Score sheet'!$D$17:$D$124,J9)","v":0},{"$f":"COUNTIFS('Ref Score sheet'!$B$17:$B$124,\"A\",'Ref Score sheet'!$C$17:$C$124,$M$2,'Ref Score sheet'!$D$17:$D$124,J9)","v":0},{"$f":"COUNTIFS('Ref Score sheet'!$B$17:$B$124,\"A\",'Ref Score sheet'!$C$17:$C$124,$N$2,'Ref Score sheet'!$D$17:$D$124,J9)","v":0},{"$f":"COUNTIFS('Ref Score sheet'!$B$17:$B$124,\"A\",'Ref Score sheet'!$C$17:$C$124,$O$2,'Ref Score sheet'!$D$17:$D$124,J9)","v":0}]
[null,{"$f":"'Team Sheets'!B10","v":8},{"$f":"IF('Team Sheets'!C10=\"\",\"\",'Team Sheets'!C10)","v":""},{"$f":"COUNTIFS('Ref Score sheet'!$B$17:$B$124,\"H\",'Ref Score sheet'!$C$17:$C$124,$D$2,'Ref Score sheet'!$D$17:$D$124,B10)","v":0},{"$f":"COUNTIFS('Ref Score sheet'!$B$17:$B$124,\"H\",'Ref Score sheet'!$C$17:$C$124,$E$2,'Ref Score sheet'!$D$17:$D$124,B10)","v":0},{"$f":"COUNTIFS('Ref Score sheet'!$B$17:$B$124,\"H\",'Ref Score sheet'!$C$17:$C$124,$F$2,'Ref Score sheet'!$D$17:$D$124,B10)","v":0},{"$f":"COUNTIFS('Ref Score sheet'!$B$17:$B$124,\"H\",'Ref Score sheet'!$C$17:$C$124,$G$2,'Ref Score sheet'!$D$17:$D$124,B10)","v":0},null,null,{"$f":"'Team Sheets'!E10","v":8},{"$f":"IF('Team Sheets'!F10=\"\",\"\",'Team Sheets'!F10)","v":""},{"$f":"COUNTIFS('Ref Score sheet'!$B$17:$B$124,\"A\",'Ref Score sheet'!$C$17:$C$124,$L$2,'Ref Score sheet'!$D$17:$D$124,J10)","v":0},{"$f":"COUNTIFS('Ref Score sheet'!$B$17:$B$124,\"A\",'Ref Score sheet'!$C$17:$C$124,$M$2,'Ref Score sheet'!$D$17:$D$124,J10)","v":0},{"$f":"COUNTIFS('Ref Score sheet'!$B$17:$B$124,\"A\",'Ref Score sheet'!$C$17:$C$124,$N$2,'Ref Score sheet'!$D$17:$D$124,J10)","v":0},{"$f":"COUNTIFS('Ref Score sheet'!$B$17:$B$124,\"A\",'Ref Score sheet'!$C$17:$C$124,$O$2,'Ref Score sheet'!$D$17:$D$124,J10)","v":0}]
[null,{"$f":"'Team Sheets'!B11","v":9},{"$f":"IF('Team Sheets'!C11=\"\",\"\",'Team Sheets'!C11)","v":""},{"$f":"COUNTIFS('Ref Score sheet'!$B$17:$B$124,\"H\",'Ref Score sheet'!$C$17:$C$124,$D$2,'Ref Score sheet'!$D$17:$D$124,B11)","v":0},{"$f":"COUNTIFS('Ref Score sheet'!$B$17:$B$124,\"H\",'Ref Score sheet'!$C$17:$C$124,$E$2,'Ref Score sheet'!$D$17:$D$124,B11)","v":0},{"$f":"COUNTIFS('Ref Score sheet'!$B$17:$B$124,\"H\",'Ref Score sheet'!$C$17:$C$124,$F$2,'Ref Score sheet'!$D$17:$D$124,B11)","v":0},{"$f":"COUNTIFS('Ref Score sheet'!$B$17:$B$124,\"H\",'Ref Score sheet'!$C$17:$C$124,$G$2,'Ref Score sheet'!$D$17:$D$124,B11)","v":0},null,null,{"$f":"'Team Sheets'!E11","v":9},{"$f":"IF('Team Sheets'!F11=\"\",\"\",'Team Sheets'!F11)","v":""},{"$f":"COUNTIFS('Ref Score sheet'!$B$17:$B$124,\"A\",'Ref Score sheet'!$C$17:$C$124,$L$2,'Ref Score sheet'!$D$17:$D$124,J11)","v":0},{"$f":"COUNTIFS('Ref Score sheet'!$B$17:$B$124,\"A\",'Ref Score sheet'!$C$17:$C$124,$M$2,'Ref Score sheet'!$D$17:$D$124,J11)","v":0},{"$f":"COUNTIFS('Ref Score sheet'!$B$17:$B$124,\"A\",'Ref Score sheet'!$C$17:$C$124,$N$2,'Ref Score sheet'!$D$17:$D$124,J11)","v":0},{"$f":"COUNTIFS('Ref Score sheet'!$B$17:$B$124,\"A\",'Ref Score sheet'!$C$17:$C$124,$O$2,'Ref Score sheet'!$D$17:$D$124,J11)","v":0}]
[null,{"$f":"'Team Sheets'!B12","v":10},{"$f":"IF('Team Sheets'!C12=\"\",\"\",'Team Sheets'!C12)","v":""},{"$f":"COUNTIFS('Ref Score sheet'!$B$17:$B$124,\"H\",'Ref Score sheet'!$C$17:$C$124,$D$2,'Ref Score sheet'!$D$17:$D$124,B12)","v":0},{"$f":"COUNTIFS('Ref Score sheet'!$B$17:$B$124,\"H\",'Ref Score sheet'!$C$17:$C$124,$E$2,'Ref Score sheet'!$D$17:$D$124,B12)","v":0},{"$f":"COUNTIFS('Ref Score sheet'!$B$17:$B$124,\"H\",'Ref Score sheet'!$C$17:$C$124,$F$2,'Ref Score sheet'!$D$17:$D$124,B12)","v":0},{"$f":"COUNTIFS('Ref Score sheet'!$B$17:$B$124,\"H\",'Ref Score sheet'!$C$17:$C$124,$G$2,'Ref Score sheet'!$D$17:$D$124,B12)","v":0},null,null,{"$f":"'Team Sheets'!E12","v":10},{"$f":"IF('Team Sheets'!F12=\"\",\"\",'Team Sheets'!F12)","v":""},{"$f":"COUNTIFS('Ref Score sheet'!$B$17:$B$124,\"A\",'Ref Score sheet'!$C$17:$C$124,$L$2,'Ref Score sheet'!$D$17:$D$124,J12)","v":0},{"$f":"COUNTIFS('Ref Score sheet'!$B$17:$B$124,\"A\",'Ref Score sheet'!$C$17:$C$124,$M$2,'Ref Score sheet'!$D$17:$D$124,J12)","v":0},{"$f":"COUNTIFS('Ref Score sheet'!$B$17:$B$124,\"A\",'Ref Score sheet'!$C$17:$C$124,$N$2,'Ref Score sheet'!$D$17:$D$124,J12)","v":0},{"$f":"COUNTIFS('Ref Score sheet'!$B$17:$B$124,\"A\",'Ref Score sheet'!$C$17:$C$124,$O$2,'Ref Score sheet'!$D$17:$D$124,J12)","v":0}]
[null,{"$f":"'Team Sheets'!B13","v":11},{"$f":"IF('Team Sheets'!C13=\"\",\"\",'Team Sheets'!C13)","v":""},{"$f":"COUNTIFS('Ref Score sheet'!$B$17:$B$124,\"H\",'Ref Score sheet'!$C$17:$C$124,$D$2,'Ref Score sheet'!$D$17:$D$124,B13)","v":0},{"$f":"COUNTIFS('Ref Score sheet'!$B$17:$B$124,\"H\",'Ref Score sheet'!$C$17:$C$124,$E$2,'Ref Score sheet'!$D$17:$D$124,B13)","v":0},{"$f":"COUNTIFS('Ref Score sheet'!$B$17:$B$124,\"H\",'Ref Score sheet'!$C$17:$C$124,$F$2,'Ref Score sheet'!$D$17:$D$124,B13)","v":0},{"$f":"COUNTIFS('Ref Score sheet'!$B$17:$B$124,\"H\",'Ref Score sheet'!$C$17:$C$124,$G$2,'Ref Score sheet'!$D$17:$D$124,B13)","v":0},null,null,{"$f":"'Team Sheets'!E13","v":11},{"$f":"IF('Team Sheets'!F13=\"\",\"\",'Team Sheets'!F13)","v":""},{"$f":"COUNTIFS('Ref Score sheet'!$B$17:$B$124,\"A\",'Ref Score sheet'!$C$17:$C$124,$L$2,'Ref Score sheet'!$D$17:$D$124,J13)","v":0},{"$f":"COUNTIFS('Ref Score sheet'!$B$17:$B$124,\"A\",'Ref Score sheet'!$C$17:$C$124,$M$2,'Ref Score sheet'!$D$17:$D$124,J13)","v":0},{"$f":"COUNTIFS('Ref Score sheet'!$B$17:$B$124,\"A\",'Ref Score sheet'!$C$17:$C$124,$N$2,'Ref Score sheet'!$D$17:$D$124,J13)","v":0},{"$f":"COUNTIFS('Ref Score sheet'!$B$17:$B$124,\"A\",'Ref Score sheet'!$C$17:$C$124,$O$2,'Ref Score sheet'!$D$17:$D$124,J13)","v":0}]
[null,{"$f":"'Team Sheets'!B14","v":12},{"$f":"IF('Team Sheets'!C14=\"\",\"\",'Team Sheets'!C14)","v":""},{"$f":"COUNTIFS('Ref Score sheet'!$B$17:$B$124,\"H\",'Ref Score sheet'!$C$17:$C$124,$D$2,'Ref Score sheet'!$D$17:$D$124,B14)","v":0},{"$f":"COUNTIFS('Ref Score sheet'!$B$17:$B$124,\"H\",'Ref Score sheet'!$C$17:$C$124,$E$2,'Ref Score sheet'!$D$17:$D$124,B14)","v":0},{"$f":"COUNTIFS('Ref Score sheet'!$B$17:$B$124,\"H\",'Ref Score sheet'!$C$17:$C$124,$F$2,'Ref Score sheet'!$D$17:$D$124,B14)","v":0},{"$f":"COUNTIFS('Ref Score sheet'!$B$17:$B$124,\"H\",'Ref Score sheet'!$C$17:$C$124,$G$2,'Ref Score sheet'!$D$17:$D$124,B14)","v":0},null,null,{"$f":"'Team Sheets'!E14","v":12},{"$f":"IF('Team Sheets'!F14=\"\",\"\",'Team Sheets'!F14)","v":""},{"$f":"COUNTIFS('Ref Score sheet'!$B$17:$B$124,\"A\",'Ref Score sheet'!$C$17:$C$124,$L$2,'Ref Score sheet'!$D$17:$D$124,J14)","v":0},{"$f":"COUNTIFS('Ref Score sheet'!$B$17:$B$124,\"A\",'Ref Score sheet'!$C$17:$C$124,$M$2,'Ref Score sheet'!$D$17:$D$124,J14)","v":0},{"$f":"COUNTIFS('Ref Score sheet'!$B$17:$B$124,\"A\",'Ref Score sheet'!$C$17:$C$124,$N$2,'Ref Score sheet'!$D$17:$D$124,J14)","v":0},{"$f":"COUNTIFS('Ref Score sheet'!$B$17:$B$124,\"A\",'Ref Score sheet'!$C$17:$C$124,$O$2,'Ref Score sheet'!$D$17:$D$124,J14)","v":0}]
[null,{"$f":"'Team Sheets'!B15","v":13},{"$f":"IF('Team Sheets'!C15=\"\",\"\",'Team Sheets'!C15)","v":""},{"$f":"COUNTIFS('Ref Score sheet'!$B$17:$B$124,\"H\",'Ref Score sheet'!$C$17:$C$124,$D$2,'Ref Score sheet'!$D$17:$D$124,B15)","v":0},{"$f":"COUNTIFS('Ref Score sheet'!$B$17:$B$124,\"H\",'Ref Score sheet'!$C$17:$C$124,$E$2,'Ref Score sheet'!$D$17:$D$124,B15)","v":0},{"$f":"COUNTIFS('Ref Score sheet'!$B$17:$B$124,\"H\",'Ref Score sheet'!$C$17:$C$124,$F$2,'Ref Score sheet'!$D$17:$D$124,B15)","v":0},{"$f":"COUNTIFS('Ref Score sheet'!$B$17:$B$124,\"H\",'Ref Score sheet'!$C$17:$C$124,$G$2,'Ref Score sheet'!$D$17:$D$124,B15)","v":0},null,null,{"$f":"'Team Sheets'!E15","v":13},{"$f":"IF('Team Sheets'!F15=\"\",\"\",'Team Sheets'!F15)","v":""},{"$f":"COUNTIFS('Ref Score sheet'!$B$17:$B$124,\"A\",'Ref Score sheet'!$C$17:$C$124,$L$2,'Ref Score sheet'!$D$17:$D$124,J15)","v":0},{"$f":"COUNTIFS('Ref Score sheet'!$B$17:$B$124,\"A\",'Ref Score sheet'!$C$17:$C$124,$M$2,'Ref Score sheet'!$D$17:$D$124,J15)","v":0},{"$f":"COUNTIFS('Ref Score sheet'!$B$17:$B$124,\"A\",'Ref Score sheet'!$C$17:$C$124,$N$2,'Ref Score sheet'!$D$17:$D$124,J15)","v":0},{"$f":"COUNTIFS('Ref Score sheet'!$B$17:$B$124,\"A\",'Ref Score sheet'!$C$17:$C$124,$O$2,'Ref Score sheet'!$D$17:$D$124,J15)","v":0}]
[null,{"$f":"'Team Sheets'!B16","v":14},{"$f":"IF('Team Sheets'!C16=\"\",\"\",'Team Sheets'!C16)","v":""},{"$f":"COUNTIFS('Ref Score sheet'!$B$17:$B$124,\"H\",'Ref Score sheet'!$C$17:$C$124,$D$2,'Ref Score sheet'!$D$17:$D$124,B16)","v":0},{"$f":"COUNTIFS('Ref Score sheet'!$B$17:$B$124,\"H\",'Ref Score sheet'!$C$17:$C$124,$E$2,'Ref Score sheet'!$D$17:$D$124,B16)","v":0},{"$f":"COUNTIFS('Ref Score sheet'!$B$17:$B$124,\"H\",'Ref Score sheet'!$C$17:$C$124,$F$2,'Ref Score sheet'!$D$17:$D$124,B16)","v":0},{"$f":"COUNTIFS('Ref Score sheet'!$B$17:$B$124,\"H\",'Ref Score sheet'!$C$17:$C$124,$G$2,'Ref Score sheet'!$D$17:$D$124,B16)","v":0},null,null,{"$f":"'Team Sheets'!E16","v":14},{"$f":"IF('Team Sheets'!F16=\"\",\"\",'Team Sheets'!F16)","v":""},{"$f":"COUNTIFS('Ref Score sheet'!$B$17:$B$124,\"A\",'Ref Score sheet'!$C$17:$C$124,$L$2,'Ref Score sheet'!$D$17:$D$124,J16)","v":0},{"$f":"COUNTIFS('Ref Score sheet'!$B$17:$B$124,\"A\",'Ref Score sheet'!$C$17:$C$124,$M$2,'Ref Score sheet'!$D$17:$D$124,J16)","v":0},{"$f":"COUNTIFS('Ref Score sheet'!$B$17:$B$124,\"A\",'Ref Score sheet'!$C$17:$C$124,$N$2,'Ref Score sheet'!$D$17:$D$124,J16)","v":0},{"$f":"COUNTIFS('Ref Score sheet'!$B$17:$B$124,\"A\",'Ref Score sheet'!$C$17:$C$124,$O$2,'Ref Score sheet'!$D$17:$D$124,J16)","v":0}]
[null,{"$f":"'Team Sheets'!B17","v":15},{"$f":"IF('Team Sheets'!C17=\"\",\"\",'Team Sheets'!C17)","v":""},{"$f":"COUNTIFS('Ref Score sheet'!$B$17:$B$124,\"H\",'Ref Score sheet'!$C$17:$C$124,$D$2,'Ref Score sheet'!$D$17:$D$124,B17)","v":0},{"$f":"COUNTIFS('Ref Score sheet'!$B$17:$B$124,\"H\",'Ref Score sheet'!$C$17:$C$124,$E$2,'Ref Score sheet'!$D$17:$D$124,B17)","v":0},{"$f":"COUNTIFS('Ref Score sheet'!$B$17:$B$124,\"H\",'Ref Score sheet'!$C$17:$C$124,$F$2,'Ref Score sheet'!$D$17:$D$124,B17)","v":0},{"$f":"COUNTIFS('Ref Score sheet'!$B$17:$B$124,\"H\",'Ref Score sheet'!$C$17:$C$124,$G$2,'Ref Score sheet'!$D$17:$D$124,B17)","v":0},null,null,{"$f":"'Team Sheets'!E17","v":15},{"$f":"IF('Team Sheets'!F17=\"\",\"\",'Team Sheets'!F17)","v":""},{"$f":"COUNTIFS('Ref Score sheet'!$B$17:$B$124,\"A\",'Ref Score sheet'!$C$17:$C$124,$L$2,'Ref Score sheet'!$D$17:$D$124,J17)","v":0},{"$f":"COUNTIFS('Ref Score sheet'!$B$17:$B$124,\"A\",'Ref Score sheet'!$C$17:$C$124,$M$2,'Ref Score sheet'!$D$17:$D$124,J17)","v":0},{"$f":"COUNTIFS('Ref Score sheet'!$B$17:$B$124,\"A\",'Ref Score sheet'!$C$17:$C$124,$N$2,'Ref Score sheet'!$D$17:$D$124,J17)","v":0},{"$f":"COUNTIFS('Ref Score sheet'!$B$17:$B$124,\"A\",'Ref Score sheet'!$C$17:$C$124,$O$2,'Ref Score sheet'!$D$17:$D$124,J17)","v":0}]
[null,{"$f":"'Team Sheets'!B18","v":16},{"$f":"IF('Team Sheets'!C18=\"\",\"\",'Team Sheets'!C18)","v":""},{"$f":"COUNTIFS('Ref Score sheet'!$B$17:$B$124,\"H\",'Ref Score sheet'!$C$17:$C$124,$D$2,'Ref Score sheet'!$D$17:$D$124,B18)","v":0},{"$f":"COUNTIFS('Ref Score sheet'!$B$17:$B$124,\"H\",'Ref Score sheet'!$C$17:$C$124,$E$2,'Ref Score sheet'!$D$17:$D$124,B18)","v":0},{"$f":"COUNTIFS('Ref Score sheet'!$B$17:$B$124,\"H\",'Ref Score sheet'!$C$17:$C$124,$F$2,'Ref Score sheet'!$D$17:$D$124,B18)","v":0},{"$f":"COUNTIFS('Ref Score sheet'!$B$17:$B$124,\"H\",'Ref Score sheet'!$C$17:$C$124,$G$2,'Ref Score sheet'!$D$17:$D$124,B18)","v":0},null,null,{"$f":"'Team Sheets'!E18","v":16},{"$f":"IF('Team Sheets'!F18=\"\",\"\",'Team Sheets'!F18)","v":""},{"$f":"COUNTIFS('Ref Score sheet'!$B$17:$B$124,\"A\",'Ref Score sheet'!$C$17:$C$124,$L$2,'Ref Score sheet'!$D$17:$D$124,J18)","v":0},{"$f":"COUNTIFS('Ref Score sheet'!$B$17:$B$124,\"A\",'Ref Score sheet'!$C$17:$C$124,$M$2,'Ref Score sheet'!$D$17:$D$124,J18)","v":0},{"$f":"COUNTIFS('Ref Score sheet'!$B$17:$B$124,\"A\",'Ref Score sheet'!$C$17:$C$124,$N$2,'Ref Score sheet'!$D$17:$D$124,J18)","v":0},{"$f":"COUNTIFS('Ref Score sheet'!$B$17:$B$124,\"A\",'Ref Score sheet'!$C$17:$C$124,$O$2,'Ref Score sheet'!$D$17:$D$124,J18)","v":0}]
[null,{"$f":"'Team Sheets'!B19","v":17},{"$f":"IF('Team Sheets'!C19=\"\",\"\",'Team Sheets'!C19)","v":""},{"$f":"COUNTIFS('Ref Score sheet'!$B$17:$B$124,\"H\",'Ref Score sheet'!$C$17:$C$124,$D$2,'Ref Score sheet'!$D$17:$D$124,B19)","v":0},{"$f":"COUNTIFS('Ref Score sheet'!$B$17:$B$124,\"H\",'Ref Score sheet'!$C$17:$C$124,$E$2,'Ref Score sheet'!$D$17:$D$124,B19)","v":0},{"$f":"COUNTIFS('Ref Score sheet'!$B$17:$B$124,\"H\",'Ref Score sheet'!$C$17:$C$124,$F$2,'Ref Score sheet'!$D$17:$D$124,B19)","v":0},{"$f":"COUNTIFS('Ref Score sheet'!$B$17:$B$124,\"H\",'Ref Score sheet'!$C$17:$C$124,$G$2,'Ref Score sheet'!$D$17:$D$124,B19)","v":0},null,null,{"$f":"'Team Sheets'!E19","v":17},{"$f":"IF('Team Sheets'!F19=\"\",\"\",'Team Sheets'!F19)","v":""},{"$f":"COUNTIFS('Ref Score sheet'!$B$17:$B$124,\"A\",'Ref Score sheet'!$C$17:$C$124,$L$2,'Ref Score sheet'!$D$17:$D$124,J19)","v":0},{"$f":"COUNTIFS('Ref Score sheet'!$B$17:$B$124,\"A\",'Ref Score sheet'!$C$17:$C$124,$M$2,'Ref Score sheet'!$D$17:$D$124,J19)","v":0},{"$f":"COUNTIFS('Ref Score sheet'!$B$17:$B$124,\"A\",'Ref Score sheet'!$C$17:$C$124,$N$2,'Ref Score sheet'!$D$17:$D$124,J19)","v":0},{"$f":"COUNTIFS('Ref Score sheet'!$B$17:$B$124,\"A\",'Ref Score sheet'!$C$17:$C$124,$O$2,'Ref Score sheet'!$D$17:$D$124,J19)","v":0}]
[null,{"$f":"'Team Sheets'!B20","v":18},{"$f":"IF('Team Sheets'!C20=\"\",\"\",'Team Sheets'!C20)","v":""},{"$f":"COUNTIFS('Ref Score sheet'!$B$17:$B$124,\"H\",'Ref Score sheet'!$C$17:$C$124,$D$2,'Ref Score sheet'!$D$17:$D$124,B20)","v":0},{"$f":"COUNTIFS('Ref Score sheet'!$B$17:$B$124,\"H\",'Ref Score sheet'!$C$17:$C$124,$E$2,'Ref Score sheet'!$D$17:$D$124,B20)","v":0},{"$f":"COUNTIFS('Ref Score sheet'!$B$17:$B$124,\"H\",'Ref Score sheet'!$C$17:$C$124,$F$2,'Ref Score sheet'!$D$17:$D$124,B20)","v":0},{"$f":"COUNTIFS('Ref Score sheet'!$B$17:$B$124,\"H\",'Ref Score sheet'!$C$17:$C$124,$G$2,'Ref Score sheet'!$D$17:$D$124,B20)","v":0},null,null,{"$f":"'Team Sheets'!E20","v":18},{"$f":"IF('Team Sheets'!F20=\"\",\"\",'Team Sheets'!F20)","v":""},{"$f":"COUNTIFS('Ref Score sheet'!$B$17:$B$124,\"A\",'Ref Score sheet'!$C$17:$C$124,$L$2,'Ref Score sheet'!$D$17:$D$124,J20)","v":0},{"$f":"COUNTIFS('Ref Score sheet'!$B$17:$B$124,\"A\",'Ref Score sheet'!$C$17:$C$124,$M$2,'Ref Score sheet'!$D$17:$D$124,J20)","v":0},{"$f":"COUNTIFS('Ref Score sheet'!$B$17:$B$124,\"A\",'Ref Score sheet'!$C$17:$C$124,$N$2,'Ref Score sheet'!$D$17:$D$124,J20)","v":0},{"$f":"COUNTIFS('Ref Score sheet'!$B$17:$B$124,\"A\",'Ref Score sheet'!$C$17:$C$124,$O$2,'Ref Score sheet'!$D$17:$D$124,J20)","v":0}]
[null,{"$f":"'Team Sheets'!B21","v":19},{"$f":"IF('Team Sheets'!C21=\"\",\"\",'Team Sheets'!C21)","v":""},{"$f":"COUNTIFS('Ref Score sheet'!$B$17:$B$124,\"H\",'Ref Score sheet'!$C$17:$C$124,$D$2,'Ref Score sheet'!$D$17:$D$124,B21)","v":0},{"$f":"COUNTIFS('Ref Score sheet'!$B$17:$B$124,\"H\",'Ref Score sheet'!$C$17:$C$124,$E$2,'Ref Score sheet'!$D$17:$D$124,B21)","v":0},{"$f":"COUNTIFS('Ref Score sheet'!$B$17:$B$124,\"H\",'Ref Score sheet'!$C$17:$C$124,$F$2,'Ref Score sheet'!$D$17:$D$124,B21)","v":0},{"$f":"COUNTIFS('Ref Score sheet'!$B$17:$B$124,\"H\",'Ref Score sheet'!$C$17:$C$124,$G$2,'Ref Score sheet'!$D$17:$D$124,B21)","v":0},null,null,{"$f":"'Team Sheets'!E21","v":19},{"$f":"IF('Team Sheets'!F21=\"\",\"\",'Team Sheets'!F21)","v":""},{"$f":"COUNTIFS('Ref Score sheet'!$B$17:$B$124,\"A\",'Ref Score sheet'!$C$17:$C$124,$L$2,'Ref Score sheet'!$D$17:$D$124,J21)","v":0},{"$f":"COUNTIFS('Ref Score sheet'!$B$17:$B$124,\"A\",'Ref Score sheet'!$C$17:$C$124,$M$2,'Ref Score sheet'!$D$17:$D$124,J21)","v":0},{"$f":"COUNTIFS('Ref Score sheet'!$B$17:$B$124,\"A\",'Ref Score sheet'!$C$17:$C$124,$N$2,'Ref Score sheet'!$D$17:$D$124,J21)","v":0},{"$f":"COUNTIFS('Ref Score sheet'!$B$17:$B$124,\"A\",'Ref Score sheet'!$C$17:$C$124,$O$2,'Ref Score sheet'!$D$17:$D$124,J21)","v":0}]
[null,{"$f":"'Team Sheets'!B22","v":20},{"$f":"IF('Team Sheets'!C22=\"\",\"\",'Team Sheets'!C22)","v":""},{"$f":"COUNTIFS('Ref Score sheet'!$B$17:$B$124,\"H\",'Ref Score sheet'!$C$17:$C$124,$D$2,'Ref Score sheet'!$D$17:$D$124,B22)","v":0},{"$f":"COUNTIFS('Ref Score sheet'!$B$17:$B$124,\"H\",'Ref Score sheet'!$C$17:$C$124,$E$2,'Ref Score sheet'!$D$17:$D$124,B22)","v":0},{"$f":"COUNTIFS('Ref Score sheet'!$B$17:$B$124,\"H\",'Ref Score sheet'!$C$17:$C$124,$F$2,'Ref Score sheet'!$D$17:$D$124,B22)","v":0},{"$f":"COUNTIFS('Ref Score sheet'!$B$17:$B$124,\"H\",'Ref Score sheet'!$C$17:$C$124,$G$2,'Ref Score sheet'!$D$17:$D$124,B22)","v":0},null,null,{"$f":"'Team Sheets'!E22","v":20},{"$f":"IF('Team Sheets'!F22=\"\",\"\",'Team Sheets'!F22)","v":""},{"$f":"COUNTIFS('Ref Score sheet'!$B$17:$B$124,\"A\",'Ref Score sheet'!$C$17:$C$124,$L$2,'Ref Score sheet'!$D$17:$D$124,J22)","v":0},{"$f":"COUNTIFS('Ref Score sheet'!$B$17:$B$124,\"A\",'Ref Score sheet'!$C$17:$C$124,$M$2,'Ref Score sheet'!$D$17:$D$124,J22)","v":0},{"$f":"COUNTIFS('Ref Score sheet'!$B$17:$B$124,\"A\",'Ref Score sheet'!$C$17:$C$124,$N$2,'Ref Score sheet'!$D$17:$D$124,J22)","v":0},{"$f":"COUNTIFS('Ref Score sheet'!$B$17:$B$124,\"A\",'Ref Score sheet'!$C$17:$C$124,$O$2,'Ref Score sheet'!$D$17:$D$124,J22)","v":0}]
[null,{"$f":"'Team Sheets'!B23","v":21},{"$f":"IF('Team Sheets'!C23=\"\",\"\",'Team Sheets'!C23)","v":""},{"$f":"COUNTIFS('Ref Score sheet'!$B$17:$B$124,\"H\",'Ref Score sheet'!$C$17:$C$124,$D$2,'Ref Score sheet'!$D$17:$D$124,B23)","v":0},{"$f":"COUNTIFS('Ref Score sheet'!$B$17:$B$124,\"H\",'Ref Score sheet'!$C$17:$C$124,$E$2,'Ref Score sheet'!$D$17:$D$124,B23)","v":0},{"$f":"COUNTIFS('Ref Score sheet'!$B$17:$B$124,\"H\",'Ref Score sheet'!$C$17:$C$124,$F$2,'Ref Score sheet'!$D$17:$D$124,B23)","v":0},{"$f":"COUNTIFS('Ref Score sheet'!$B$17:$B$124,\"H\",'Ref Score sheet'!$C$17:$C$124,$G$2,'Ref Score sheet'!$D$17:$D$124,B23)","v":0},null,null,{"$f":"'Team Sheets'!E23","v":21},{"$f":"IF('Team Sheets'!F23=\"\",\"\",'Team Sheets'!F23)","v":""},{"$f":"COUNTIFS('Ref Score sheet'!$B$17:$B$124,\"A\",'Ref Score sheet'!$C$17:$C$124,$L$2,'Ref Score sheet'!$D$17:$D$124,J23)","v":0},{"$f":"COUNTIFS('Ref Score sheet'!$B$17:$B$124,\"A\",'Ref Score sheet'!$C$17:$C$124,$M$2,'Ref Score sheet'!$D$17:$D$124,J23)","v":0},{"$f":"COUNTIFS('Ref Score sheet'!$B$17:$B$124,\"A\",'Ref Score sheet'!$C$17:$C$124,$N$2,'Ref Score sheet'!$D$17:$D$124,J23)","v":0},{"$f":"COUNTIFS('Ref Score sheet'!$B$17:$B$124,\"A\",'Ref Score sheet'!$C$17:$C$124,$O$2,'Ref Score sheet'!$D$17:$D$124,J23)","v":0}]
[null,{"$f":"'Team Sheets'!B24","v":22},{"$f":"IF('Team Sheets'!C24=\"\",\"\",'Team Sheets'!C24)","v":""},{"$f":"COUNTIFS('Ref Score sheet'!$B$17:$B$124,\"H\",'Ref Score sheet'!$C$17:$C$124,$D$2,'Ref Score sheet'!$D$17:$D$124,B24)","v":0},{"$f":"COUNTIFS('Ref Score sheet'!$B$17:$B$124,\"H\",'Ref Score sheet'!$C$17:$C$124,$E$2,'Ref Score sheet'!$D$17:$D$124,B24)","v":0},{"$f":"COUNTIFS('Ref Score sheet'!$B$17:$B$124,\"H\",'Ref Score sheet'!$C$17:$C$124,$F$2,'Ref Score sheet'!$D$17:$D$124,B24)","v":0},{"$f":"COUNTIFS('Ref Score sheet'!$B$17:$B$124,\"H\",'Ref Score sheet'!$C$17:$C$124,$G$2,'Ref Score sheet'!$D$17:$D$124,B24)","v":0},null,null,{"$f":"'Team Sheets'!E24","v":22},{"$f":"IF('Team Sheets'!F24=\"\",\"\",'Team Sheets'!F24)","v":""},{"$f":"COUNTIFS('Ref Score sheet'!$B$17:$B$124,\"A\",'Ref Score sheet'!$C$17:$C$124,$L$2,'Ref Score sheet'!$D$17:$D$124,J24)","v":0},{"$f":"COUNTIFS('Ref Score sheet'!$B$17:$B$124,\"A\",'Ref Score sheet'!$C$17:$C$124,$M$2,'Ref Score sheet'!$D$17:$D$124,J24)","v":0},{"$f":"COUNTIFS('Ref Score sheet'!$B$17:$B$124,\"A\",'Ref Score sheet'!$C$17:$C$124,$N$2,'Ref Score sheet'!$D$17:$D$124,J24)","v":0},{"$f":"COUNTIFS('Ref Score sheet'!$B$17:$B$124,\"A\",'Ref Score sheet'!$C$17:$C$124,$O$2,'Ref Score sheet'!$D$17:$D$124,J24)","v":0}]
[null,{"$f":"'Team Sheets'!B25","v":23},{"$f":"IF('Team Sheets'!C25=\"\",\"\",'Team Sheets'!C25)","v":""},{"$f":"COUNTIFS('Ref Score sheet'!$B$17:$B$124,\"H\",'Ref Score sheet'!$C$17:$C$124,$D$2,'Ref Score sheet'!$D$17:$D$124,B25)","v":0},{"$f":"COUNTIFS('Ref Score sheet'!$B$17:$B$124,\"H\",'Ref Score sheet'!$C$17:$C$124,$E$2,'Ref Score sheet'!$D$17:$D$124,B25)","v":0},{"$f":"COUNTIFS('Ref Score sheet'!$B$17:$B$124,\"H\",'Ref Score sheet'!$C$17:$C$124,$F$2,'Ref Score sheet'!$D$17:$D$124,B25)","v":0},{"$f":"COUNTIFS('Ref Score sheet'!$B$17:$B$124,\"H\",'Ref Score sheet'!$C$17:$C$124,$G$2,'Ref Score sheet'!$D$17:$D$124,B25)","v":0},null,null,{"$f":"'Team Sheets'!E25","v":23},{"$f":"IF('Team Sheets'!F25=\"\",\"\",'Team Sheets'!F25)","v":""},{"$f":"COUNTIFS('Ref Score sheet'!$B$17:$B$124,\"A\",'Ref Score sheet'!$C$17:$C$124,$L$2,'Ref Score sheet'!$D$17:$D$124,J25)","v":0},{"$f":"COUNTIFS('Ref Score sheet'!$B$17:$B$124,\"A\",'Ref Score sheet'!$C$17:$C$124,$M$2,'Ref Score sheet'!$D$17:$D$124,J25)","v":0},{"$f":"COUNTIFS('Ref Score sheet'!$B$17:$B$124,\"A\",'Ref Score sheet'!$C$17:$C$124,$N$2,'Ref Score sheet'!$D$17:$D$124,J25)","v":0},{"$f":"COUNTIFS('Ref Score sheet'!$B$17:$B$124,\"A\",'Ref Score sheet'!$C$17:$C$124,$O$2,'Ref Score sheet'!$D$17:$D$124,J25)","v":0}]
[null,{"$f":"'Team Sheets'!B26","v":24},{"$f":"IF('Team Sheets'!C26=\"\",\"\",'Team Sheets'!C26)","v":""},{"$f":"COUNTIFS('Ref Score sheet'!$B$17:$B$124,\"H\",'Ref Score sheet'!$C$17:$C$124,$D$2,'Ref Score sheet'!$D$17:$D$124,B26)","v":0},{"$f":"COUNTIFS('Ref Score sheet'!$B$17:$B$124,\"H\",'Ref Score sheet'!$C$17:$C$124,$E$2,'Ref Score sheet'!$D$17:$D$124,B26)","v":0},{"$f":"COUNTIFS('Ref Score sheet'!$B$17:$B$124,\"H\",'Ref Score sheet'!$C$17:$C$124,$F$2,'Ref Score sheet'!$D$17:$D$124,B26)","v":0},{"$f":"COUNTIFS('Ref Score sheet'!$B$17:$B$124,\"H\",'Ref Score sheet'!$C$17:$C$124,$G$2,'Ref Score sheet'!$D$17:$D$124,B26)","v":0},null,null,{"$f":"'Team Sheets'!E26","v":24},{"$f":"IF('Team Sheets'!F26=\"\",\"\",'Team Sheets'!F26)","v":""},{"$f":"COUNTIFS('Ref Score sheet'!$B$17:$B$124,\"A\",'Ref Score sheet'!$C$17:$C$124,$L$2,'Ref Score sheet'!$D$17:$D$124,J26)","v":0},{"$f":"COUNTIFS('Ref Score sheet'!$B$17:$B$124,\"A\",'Ref Score sheet'!$C$17:$C$124,$M$2,'Ref Score sheet'!$D$17:$D$124,J26)","v":0},{"$f":"COUNTIFS('Ref Score sheet'!$B$17:$B$124,\"A\",'Ref Score sheet'!$C$17:$C$124,$N$2,'Ref Score sheet'!$D$17:$D$124,J26)","v":0},{"$f":"COUNTIFS('Ref Score sheet'!$B$17:$B$124,\"A\",'Ref Score sheet'!$C$17:$C$124,$O$2,'Ref Score sheet'!$D$17:$D$124,J26)","v":0}]
[null,{"$f":"'Team Sheets'!B27","v":25},{"$f":"IF('Team Sheets'!C27=\"\",\"\",'Team Sheets'!C27)","v":""},{"$f":"COUNTIFS('Ref Score sheet'!$B$17:$B$124,\"H\",'Ref Score sheet'!$C$17:$C$124,$D$2,'Ref Score sheet'!$D$17:$D$124,B27)","v":0},{"$f":"COUNTIFS('Ref Score sheet'!$B$17:$B$124,\"H\",'Ref Score sheet'!$C$17:$C$124,$E$2,'Ref Score sheet'!$D$17:$D$124,B27)","v":0},{"$f":"COUNTIFS('Ref Score sheet'!$B$17:$B$124,\"H\",'Ref Score sheet'!$C$17:$C$124,$F$2,'Ref Score sheet'!$D$17:$D$124,B27)","v":0},{"$f":"COUNTIFS('Ref Score sheet'!$B$17:$B$124,\"H\",'Ref Score sheet'!$C$17:$C$124,$G$2,'Ref Score sheet'!$D$17:$D$124,B27)","v":0},null,null,{"$f":"'Team Sheets'!E27","v":25},{"$f":"IF('Team Sheets'!F27=\"\",\"\",'Team Sheets'!F27)","v":""},{"$f":"COUNTIFS('Ref Score sheet'!$B$17:$B$124,\"A\",'Ref Score sheet'!$C$17:$C$124,$L$2,'Ref Score sheet'!$D$17:$D$124,J27)","v":0},{"$f":"COUNTIFS('Ref Score sheet'!$B$17:$B$124,\"A\",'Ref Score sheet'!$C$17:$C$124,$M$2,'Ref Score sheet'!$D$17:$D$124,J27)","v":0},{"$f":"COUNTIFS('Ref Score sheet'!$B$17:$B$124,\"A\",'Ref Score sheet'!$C$17:$C$124,$N$2,'Ref Score sheet'!$D$17:$D$124,J27)","v":0},{"$f":"COUNTIFS('Ref Score sheet'!$B$17:$B$124,\"A\",'Ref Score sheet'!$C$17:$C$124,$O$2,'Ref Score sheet'!$D$17:$D$124,J27)","v":0}]
[null,{"$f":"'Team Sheets'!B28","v":26},{"$f":"IF('Team Sheets'!C28=\"\",\"\",'Team Sheets'!C28)","v":""},{"$f":"COUNTIFS('Ref Score sheet'!$B$17:$B$124,\"H\",'Ref Score sheet'!$C$17:$C$124,$D$2,'Ref Score sheet'!$D$17:$D$124,B28)","v":0},{"$f":"COUNTIFS('Ref Score sheet'!$B$17:$B$124,\"H\",'Ref Score sheet'!$C$17:$C$124,$E$2,'Ref Score sheet'!$D$17:$D$124,B28)","v":0},{"$f":"COUNTIFS('Ref Score sheet'!$B$17:$B$124,\"H\",'Ref Score sheet'!$C$17:$C$124,$F$2,'Ref Score sheet'!$D$17:$D$124,B28)","v":0},{"$f":"COUNTIFS('Ref Score sheet'!$B$17:$B$124,\"H\",'Ref Score sheet'!$C$17:$C$124,$G$2,'Ref Score sheet'!$D$17:$D$124,B28)","v":0},null,null,{"$f":"'Team Sheets'!E28","v":26},{"$f":"IF('Team Sheets'!F28=\"\",\"\",'Team Sheets'!F28)","v":""},{"$f":"COUNTIFS('Ref Score sheet'!$B$17:$B$124,\"A\",'Ref Score sheet'!$C$17:$C$124,$L$2,'Ref Score sheet'!$D$17:$D$124,J28)","v":0},{"$f":"COUNTIFS('Ref Score sheet'!$B$17:$B$124,\"A\",'Ref Score sheet'!$C$17:$C$124,$M$2,'Ref Score sheet'!$D$17:$D$124,J28)","v":0},{"$f":"COUNTIFS('Ref Score sheet'!$B$17:$B$124,\"A\",'Ref Score sheet'!$C$17:$C$124,$N$2,'Ref Score sheet'!$D$17:$D$124,J28)","v":0},{"$f":"COUNTIFS('Ref Score sheet'!$B$17:$B$124,\"A\",'Ref Score sheet'!$C$17:$C$124,$O$2,'Ref Score sheet'!$D$17:$D$124,J28)","v":0}]
[null,{"$f":"'Team Sheets'!B29","v":27},{"$f":"IF('Team Sheets'!C29=\"\",\"\",'Team Sheets'!C29)","v":""},{"$f":"COUNTIFS('Ref Score sheet'!$B$17:$B$124,\"H\",'Ref Score sheet'!$C$17:$C$124,$D$2,'Ref Score sheet'!$D$17:$D$124,B29)","v":0},{"$f":"COUNTIFS('Ref Score sheet'!$B$17:$B$124,\"H\",'Ref Score sheet'!$C$17:$C$124,$E$2,'Ref Score sheet'!$D$17:$D$124,B29)","v":0},{"$f":"COUNTIFS('Ref Score sheet'!$B$17:$B$124,\"H\",'Ref Score sheet'!$C$17:$C$124,$F$2,'Ref Score sheet'!$D$17:$D$124,B29)","v":0},{"$f":"COUNTIFS('Ref Score sheet'!$B$17:$B$124,\"H\",'Ref Score sheet'!$C$17:$C$124,$G$2,'Ref Score sheet'!$D$17:$D$124,B29)","v":0},null,null,{"$f":"'Team Sheets'!E29","v":27},{"$f":"IF('Team Sheets'!F29=\"\",\"\",'Team Sheets'!F29)","v":""},{"$f":"COUNTIFS('Ref Score sheet'!$B$17:$B$124,\"A\",'Ref Score sheet'!$C$17:$C$124,$L$2,'Ref Score sheet'!$D$17:$D$124,J29)","v":0},{"$f":"COUNTIFS('Ref Score sheet'!$B$17:$B$124,\"A\",'Ref Score sheet'!$C$17:$C$124,$M$2,'Ref Score sheet'!$D$17:$D$124,J29)","v":0},{"$f":"COUNTIFS('Ref Score sheet'!$B$17:$B$124,\"A\",'Ref Score sheet'!$C$17:$C$124,$N$2,'Ref Score sheet'!$D$17:$D$124,J29)","v":0},{"$f":"COUNTIFS('Ref Score sheet'!$B$17:$B$124,\"A\",'Ref Score sheet'!$C$17:$C$124,$O$2,'Ref Score sheet'!$D$17:$D$124,J29)","v":0}]
[null,{"$f":"'Team Sheets'!B30","v":28},{"$f":"IF('Team Sheets'!C30=\"\",\"\",'Team Sheets'!C30)","v":""},{"$f":"COUNTIFS('Ref Score sheet'!$B$17:$B$124,\"H\",'Ref Score sheet'!$C$17:$C$124,$D$2,'Ref Score sheet'!$D$17:$D$124,B30)","v":0},{"$f":"COUNTIFS('Ref Score sheet'!$B$17:$B$124,\"H\",'Ref Score sheet'!$C$17:$C$124,$E$2,'Ref Score sheet'!$D$17:$D$124,B30)","v":0},{"$f":"COUNTIFS('Ref Score sheet'!$B$17:$B$124,\"H\",'Ref Score sheet'!$C$17:$C$124,$F$2,'Ref Score sheet'!$D$17:$D$124,B30)","v":0},{"$f":"COUNTIFS('Ref Score sheet'!$B$17:$B$124,\"H\",'Ref Score sheet'!$C$17:$C$124,$G$2,'Ref Score sheet'!$D$17:$D$124,B30)","v":0},null,null,{"$f":"'Team Sheets'!E30","v":28},{"$f":"IF('Team Sheets'!F30=\"\",\"\",'Team Sheets'!F30)","v":""},{"$f":"COUNTIFS('Ref Score sheet'!$B$17:$B$124,\"A\",'Ref Score sheet'!$C$17:$C$124,$L$2,'Ref Score sheet'!$D$17:$D$124,J30)","v":0},{"$f":"COUNTIFS('Ref Score sheet'!$B$17:$B$124,\"A\",'Ref Score sheet'!$C$17:$C$124,$M$2,'Ref Score sheet'!$D$17:$D$124,J30)","v":0},{"$f":"COUNTIFS('Ref Score sheet'!$B$17:$B$124,\"A\",'Ref Score sheet'!$C$17:$C$124,$N$2,'Ref Score sheet'!$D$17:$D$124,J30)","v":0},{"$f":"COUNTIFS('Ref Score sheet'!$B$17:$B$124,\"A\",'Ref Score sheet'!$C$17:$C$124,$O$2,'Ref Score sheet'!$D$17:$D$124,J30)","v":0}]
[null,null,null,{"$f":"SUM(D3:D30)","v":0},{"$f":"SUM(E3:E30)","v":0},0,0,0,null,null,null,{"$f":"SUM(L3:L30)","v":0},0,0,0,0]

{"sheet":"Replacements","index":3,"n_rows":29,"n_cols":14,"rows_kept":29,"cut":false,"hidden":false,"merged":[]}
[null,"Home Team",null,"RT-OFF","CON-Off","RI-OFF","HIA-Off",null,"AWAY TEAM",null,"RT-OFF","CON-Off","RI-OFF","HIA-Off"]
[null,{"$f":"'Team Sheets'!B3","v":1},{"$f":"IF('Team Sheets'!C3=\"\",\"\",'Team Sheets'!C3)","v":""},{"$f":"COUNTIFS('Ref Score sheet'!$B$17:$B$124,\"H\",'Ref Score sheet'!$C$17:$C$124,$D$1,'Ref Score sheet'!$D$17:$D$124,$B2)","v":0},{"$f":"COUNTIFS('Ref Score sheet'!$B$17:$B$124,\"H\",'Ref Score sheet'!$C$17:$C$124,$E$1,'Ref Score sheet'!$D$17:$D$124,$B2)","v":0},{"$f":"COUNTIFS('Ref Score sheet'!$B$17:$B$124,\"H\",'Ref Score sheet'!$C$17:$C$124,$F$1,'Ref Score sheet'!$D$17:$D$124,$B2)","v":0},{"$f":"COUNTIFS('Ref Score sheet'!$B$17:$B$124,\"H\",'Ref Score sheet'!$C$17:$C$124,$G$1,'Ref Score sheet'!$D$17:$D$124,$B2)","v":0},null,{"$f":"'Team Sheets'!E3","v":1},{"$f":"IF('Team Sheets'!F3=\"\",\"\",'Team Sheets'!F3)","v":""},{"$f":"COUNTIFS('Ref Score sheet'!$B$17:$B$124,\"A\",'Ref Score sheet'!$C$17:$C$124,$K$1,'Ref Score sheet'!$D$17:$D$124,I2)","v":0},{"$f":"COUNTIFS('Ref Score sheet'!$B$17:$B$124,\"A\",'Ref Score sheet'!$C$17:$C$124,$L$1,'Ref Score sheet'!$D$17:$D$124,I2)","v":0},{"$f":"COUNTIFS('Ref Score sheet'!$B$17:$B$124,\"A\",'Ref Score sheet'!$C$17:$C$124,$M$1,'Ref Score sheet'!$D$17:$D$124,I2)","v":0},{"$f":"COUNTIFS('Ref Score sheet'!$B$17:$B$124,\"A\",'Ref Score sheet'!$C$17:$C$124,$N$1,'Ref Score sheet'!$D$17:$D$124,J2)","v":0}]
[null,{"$f":"'Team Sheets'!B4","v":2},{"$f":"IF('Team Sheets'!C4=\"\",\"\",'Team Sheets'!C4)","v":""},{"$f":"COUNTIFS('Ref Score sheet'!$B$17:$B$124,\"H\",'Ref Score sheet'!$C$17:$C$124,$D$1,'Ref Score sheet'!$D$17:$D$124,$B3)","v":0},{"$f":"COUNTIFS('Ref Score sheet'!$B$17:$B$124,\"H\",'Ref Score sheet'!$C$17:$C$124,$E$1,'Ref Score sheet'!$D$17:$D$124,$B3)","v":0},{"$f":"COUNTIFS('Ref Score sheet'!$B$17:$B$124,\"H\",'Ref Score sheet'!$C$17:$C$124,$F$1,'Ref Score sheet'!$D$17:$D$124,$B3)","v":0},{"$f":"COUNTIFS('Ref Score sheet'!$B$17:$B$124,\"H\",'Ref Score sheet'!$C$17:$C$124,$G$1,'Ref Score sheet'!$D$17:$D$124,$B3)","v":0},null,{"$f":"'Team Sheets'!E4","v":2},{"$f":"IF('Team Sheets'!F4=\"\",\"\",'Team Sheets'!F4)","v":""},{"$f":"COUNTIFS('Ref Score sheet'!$B$17:$B$124,\"A\",'Ref Score sheet'!$C$17:$C$124,$K$1,'Ref Score sheet'!$D$17:$D$124,I3)","v":0},{"$f":"COUNTIFS('Ref Score sheet'!$B$17:$B$124,\"A\",'Ref Score sheet'!$C$17:$C$124,$L$1,'Ref Score sheet'!$D$17:$D$124,I3)","v":0},{"$f":"COUNTIFS('Ref Score sheet'!$B$17:$B$124,\"A\",'Ref Score sheet'!$C$17:$C$124,$M$1,'Ref Score sheet'!$D$17:$D$124,I3)","v":0},{"$f":"COUNTIFS('Ref Score sheet'!$B$17:$B$124,\"A\",'Ref Score sheet'!$C$17:$C$124,$N$1,'Ref Score sheet'!$D$17:$D$124,J3)","v":0}]
[null,{"$f":"'Team Sheets'!B5","v":3},{"$f":"IF('Team Sheets'!C5=\"\",\"\",'Team Sheets'!C5)","v":""},{"$f":"COUNTIFS('Ref Score sheet'!$B$17:$B$124,\"H\",'Ref Score sheet'!$C$17:$C$124,$D$1,'Ref Score sheet'!$D$17:$D$124,$B4)","v":0},{"$f":"COUNTIFS('Ref Score sheet'!$B$17:$B$124,\"H\",'Ref Score sheet'!$C$17:$C$124,$E$1,'Ref Score sheet'!$D$17:$D$124,$B4)","v":0},{"$f":"COUNTIFS('Ref Score sheet'!$B$17:$B$124,\"H\",'Ref Score sheet'!$C$17:$C$124,$F$1,'Ref Score sheet'!$D$17:$D$124,$B4)","v":0},{"$f":"COUNTIFS('Ref Score sheet'!$B$17:$B$124,\"H\",'Ref Score sheet'!$C$17:$C$124,$G$1,'Ref Score sheet'!$D$17:$D$124,$B4)","v":0},null,{"$f":"'Team Sheets'!E5","v":3},{"$f":"IF('Team Sheets'!F5=\"\",\"\",'Team Sheets'!F5)","v":""},{"$f":"COUNTIFS('Ref Score sheet'!$B$17:$B$124,\"A\",'Ref Score sheet'!$C$17:$C$124,$K$1,'Ref Score sheet'!$D$17:$D$124,I4)","v":0},{"$f":"COUNTIFS('Ref Score sheet'!$B$17:$B$124,\"A\",'Ref Score sheet'!$C$17:$C$124,$L$1,'Ref Score sheet'!$D$17:$D$124,I4)","v":0},{"$f":"COUNTIFS('Ref Score sheet'!$B$17:$B$124,\"A\",'Ref Score sheet'!$C$17:$C$124,$M$1,'Ref Score sheet'!$D$17:$D$124,I4)","v":0},{"$f":"COUNTIFS('Ref Score sheet'!$B$17:$B$124,\"A\",'Ref Score sheet'!$C$17:$C$124,$N$1,'Ref Score sheet'!$D$17:$D$124,J4)","v":0}]
[null,{"$f":"'Team Sheets'!B6","v":4},{"$f":"IF('Team Sheets'!C6=\"\",\"\",'Team Sheets'!C6)","v":""},{"$f":"COUNTIFS('Ref Score sheet'!$B$17:$B$124,\"H\",'Ref Score sheet'!$C$17:$C$124,$D$1,'Ref Score sheet'!$D$17:$D$124,$B5)","v":0},{"$f":"COUNTIFS('Ref Score sheet'!$B$17:$B$124,\"H\",'Ref Score sheet'!$C$17:$C$124,$E$1,'Ref Score sheet'!$D$17:$D$124,$B5)","v":0},{"$f":"COUNTIFS('Ref Score sheet'!$B$17:$B$124,\"H\",'Ref Score sheet'!$C$17:$C$124,$F$1,'Ref Score sheet'!$D$17:$D$124,$B5)","v":0},{"$f":"COUNTIFS('Ref Score sheet'!$B$17:$B$124,\"H\",'Ref Score sheet'!$C$17:$C$124,$G$1,'Ref Score sheet'!$D$17:$D$124,$B5)","v":0},null,{"$f":"'Team Sheets'!E6","v":4},{"$f":"IF('Team Sheets'!F6=\"\",\"\",'Team Sheets'!F6)","v":""},{"$f":"COUNTIFS('Ref Score sheet'!$B$17:$B$124,\"A\",'Ref Score sheet'!$C$17:$C$124,$K$1,'Ref Score sheet'!$D$17:$D$124,I5)","v":0},{"$f":"COUNTIFS('Ref Score sheet'!$B$17:$B$124,\"A\",'Ref Score sheet'!$C$17:$C$124,$L$1,'Ref Score sheet'!$D$17:$D$124,I5)","v":0},{"$f":"COUNTIFS('Ref Score sheet'!$B$17:$B$124,\"A\",'Ref Score sheet'!$C$17:$C$124,$M$1,'Ref Score sheet'!$D$17:$D$124,I5)","v":0},{"$f":"COUNTIFS('Ref Score sheet'!$B$17:$B$124,\"A\",'Ref Score sheet'!$C$17:$C$124,$N$1,'Ref Score sheet'!$D$17:$D$124,J5)","v":0}]
[null,{"$f":"'Team Sheets'!B7","v":5},{"$f":"IF('Team Sheets'!C7=\"\",\"\",'Team Sheets'!C7)","v":""},{"$f":"COUNTIFS('Ref Score sheet'!$B$17:$B$124,\"H\",'Ref Score sheet'!$C$17:$C$124,$D$1,'Ref Score sheet'!$D$17:$D$124,$B6)","v":0},{"$f":"COUNTIFS('Ref Score sheet'!$B$17:$B$124,\"H\",'Ref Score sheet'!$C$17:$C$124,$E$1,'Ref Score sheet'!$D$17:$D$124,$B6)","v":0},{"$f":"COUNTIFS('Ref Score sheet'!$B$17:$B$124,\"H\",'Ref Score sheet'!$C$17:$C$124,$F$1,'Ref Score sheet'!$D$17:$D$124,$B6)","v":0},{"$f":"COUNTIFS('Ref Score sheet'!$B$17:$B$124,\"H\",'Ref Score sheet'!$C$17:$C$124,$G$1,'Ref Score sheet'!$D$17:$D$124,$B6)","v":0},null,{"$f":"'Team Sheets'!E7","v":5},{"$f":"IF('Team Sheets'!F7=\"\",\"\",'Team Sheets'!F7)","v":""},{"$f":"COUNTIFS('Ref Score sheet'!$B$17:$B$124,\"A\",'Ref Score sheet'!$C$17:$C$124,$K$1,'Ref Score sheet'!$D$17:$D$124,I6)","v":0},{"$f":"COUNTIFS('Ref Score sheet'!$B$17:$B$124,\"A\",'Ref Score sheet'!$C$17:$C$124,$L$1,'Ref Score sheet'!$D$17:$D$124,I6)","v":0},{"$f":"COUNTIFS('Ref Score sheet'!$B$17:$B$124,\"A\",'Ref Score sheet'!$C$17:$C$124,$M$1,'Ref Score sheet'!$D$17:$D$124,I6)","v":0},{"$f":"COUNTIFS('Ref Score sheet'!$B$17:$B$124,\"A\",'Ref Score sheet'!$C$17:$C$124,$N$1,'Ref Score sheet'!$D$17:$D$124,J6)","v":0}]
[null,{"$f":"'Team Sheets'!B8","v":6},{"$f":"IF('Team Sheets'!C8=\"\",\"\",'Team Sheets'!C8)","v":""},{"$f":"COUNTIFS('Ref Score sheet'!$B$17:$B$124,\"H\",'Ref Score sheet'!$C$17:$C$124,$D$1,'Ref Score sheet'!$D$17:$D$124,$B7)","v":0},{"$f":"COUNTIFS('Ref Score sheet'!$B$17:$B$124,\"H\",'Ref Score sheet'!$C$17:$C$124,$E$1,'Ref Score sheet'!$D$17:$D$124,$B7)","v":0},{"$f":"COUNTIFS('Ref Score sheet'!$B$17:$B$124,\"H\",'Ref Score sheet'!$C$17:$C$124,$F$1,'Ref Score sheet'!$D$17:$D$124,$B7)","v":0},{"$f":"COUNTIFS('Ref Score sheet'!$B$17:$B$124,\"H\",'Ref Score sheet'!$C$17:$C$124,$G$1,'Ref Score sheet'!$D$17:$D$124,$B7)","v":0},null,{"$f":"'Team Sheets'!E8","v":6},{"$f":"IF('Team Sheets'!F8=\"\",\"\",'Team Sheets'!F8)","v":""},{"$f":"COUNTIFS('Ref Score sheet'!$B$17:$B$124,\"A\",'Ref Score sheet'!$C$17:$C$124,$K$1,'Ref Score sheet'!$D$17:$D$124,I7)","v":0},{"$f":"COUNTIFS('Ref Score sheet'!$B$17:$B$124,\"A\",'Ref Score sheet'!$C$17:$C$124,$L$1,'Ref Score sheet'!$D$17:$D$124,I7)","v":0},{"$f":"COUNTIFS('Ref Score sheet'!$B$17:$B$124,\"A\",'Ref Score sheet'!$C$17:$C$124,$M$1,'Ref Score sheet'!$D$17:$D$124,I7)","v":0},{"$f":"COUNTIFS('Ref Score sheet'!$B$17:$B$124,\"A\",'Ref Score sheet'!$C$17:$C$124,$N$1,'Ref Score sheet'!$D$17:$D$124,J7)","v":0}]
[null,{"$f":"'Team Sheets'!B9","v":7},{"$f":"IF('Team Sheets'!C9=\"\",\"\",'Team Sheets'!C9)","v":""},{"$f":"COUNTIFS('Ref Score sheet'!$B$17:$B$124,\"H\",'Ref Score sheet'!$C$17:$C$124,$D$1,'Ref Score sheet'!$D$17:$D$124,$B8)","v":0},{"$f":"COUNTIFS('Ref Score sheet'!$B$17:$B$124,\"H\",'Ref Score sheet'!$C$17:$C$124,$E$1,'Ref Score sheet'!$D$17:$D$124,$B8)","v":0},{"$f":"COUNTIFS('Ref Score sheet'!$B$17:$B$124,\"H\",'Ref Score sheet'!$C$17:$C$124,$F$1,'Ref Score sheet'!$D$17:$D$124,$B8)","v":0},{"$f":"COUNTIFS('Ref Score sheet'!$B$17:$B$124,\"H\",'Ref Score sheet'!$C$17:$C$124,$G$1,'Ref Score sheet'!$D$17:$D$124,$B8)","v":0},null,{"$f":"'Team Sheets'!E9","v":7},{"$f":"IF('Team Sheets'!F9=\"\",\"\",'Team Sheets'!F9)","v":""},{"$f":"COUNTIFS('Ref Score sheet'!$B$17:$B$124,\"A\",'Ref Score sheet'!$C$17:$C$124,$K$1,'Ref Score sheet'!$D$17:$D$124,I8)","v":0},{"$f":"COUNTIFS('Ref Score sheet'!$B$17:$B$124,\"A\",'Ref Score sheet'!$C$17:$C$124,$L$1,'Ref Score sheet'!$D$17:$D$124,I8)","v":0},{"$f":"COUNTIFS('Ref Score sheet'!$B$17:$B$124,\"A\",'Ref Score sheet'!$C$17:$C$124,$M$1,'Ref Score sheet'!$D$17:$D$124,I8)","v":0},{"$f":"COUNTIFS('Ref Score sheet'!$B$17:$B$124,\"A\",'Ref Score sheet'!$C$17:$C$124,$N$1,'Ref Score sheet'!$D$17:$D$124,J8)","v":0}]
[null,{"$f":"'Team Sheets'!B10","v":8},{"$f":"IF('Team Sheets'!C10=\"\",\"\",'Team Sheets'!C10)","v":""},{"$f":"COUNTIFS('Ref Score sheet'!$B$17:$B$124,\"H\",'Ref Score sheet'!$C$17:$C$124,$D$1,'Ref Score sheet'!$D$17:$D$124,$B9)","v":0},{"$f":"COUNTIFS('Ref Score sheet'!$B$17:$B$124,\"H\",'Ref Score sheet'!$C$17:$C$124,$E$1,'Ref Score sheet'!$D$17:$D$124,$B9)","v":0},{"$f":"COUNTIFS('Ref Score sheet'!$B$17:$B$124,\"H\",'Ref Score sheet'!$C$17:$C$124,$F$1,'Ref Score sheet'!$D$17:$D$124,$B9)","v":0},{"$f":"COUNTIFS('Ref Score sheet'!$B$17:$B$124,\"H\",'Ref Score sheet'!$C$17:$C$124,$G$1,'Ref Score sheet'!$D$17:$D$124,$B9)","v":0},null,{"$f":"'Team Sheets'!E10","v":8},{"$f":"IF('Team Sheets'!F10=\"\",\"\",'Team Sheets'!F10)","v":""},{"$f":"COUNTIFS('Ref Score sheet'!$B$17:$B$124,\"A\",'Ref Score sheet'!$C$17:$C$124,$K$1,'Ref Score sheet'!$D$17:$D$124,I9)","v":0},{"$f":"COUNTIFS('Ref Score sheet'!$B$17:$B$124,\"A\",'Ref Score sheet'!$C$17:$C$124,$L$1,'Ref Score sheet'!$D$17:$D$124,I9)","v":0},{"$f":"COUNTIFS('Ref Score sheet'!$B$17:$B$124,\"A\",'Ref Score sheet'!$C$17:$C$124,$M$1,'Ref Score sheet'!$D$17:$D$124,I9)","v":0},{"$f":"COUNTIFS('Ref Score sheet'!$B$17:$B$124,\"A\",'Ref Score sheet'!$C$17:$C$124,$N$1,'Ref Score sheet'!$D$17:$D$124,J9)","v":0}]
[null,{"$f":"'Team Sheets'!B11","v":9},{"$f":"IF('Team Sheets'!C11=\"\",\"\",'Team Sheets'!C11)","v":""},{"$f":"COUNTIFS('Ref Score sheet'!$B$17:$B$124,\"H\",'Ref Score sheet'!$C$17:$C$124,$D$1,'Ref Score sheet'!$D$17:$D$124,$B10)","v":0},{"$f":"COUNTIFS('Ref Score sheet'!$B$17:$B$124,\"H\",'Ref Score sheet'!$C$17:$C$124,$E$1,'Ref Score sheet'!$D$17:$D$124,$B10)","v":0},{"$f":"COUNTIFS('Ref Score sheet'!$B$17:$B$124,\"H\",'Ref Score sheet'!$C$17:$C$124,$F$1,'Ref Score sheet'!$D$17:$D$124,$B10)","v":0},{"$f":"COUNTIFS('Ref Score sheet'!$B$17:$B$124,\"H\",'Ref Score sheet'!$C$17:$C$124,$G$1,'Ref Score sheet'!$D$17:$D$124,$B10)","v":0},null,{"$f":"'Team Sheets'!E11","v":9},{"$f":"IF('Team Sheets'!F11=\"\",\"\",'Team Sheets'!F11)","v":""},{"$f":"COUNTIFS('Ref Score sheet'!$B$17:$B$124,\"A\",'Ref Score sheet'!$C$17:$C$124,$K$1,'Ref Score sheet'!$D$17:$D$124,I10)","v":0},{"$f":"COUNTIFS('Ref Score sheet'!$B$17:$B$124,\"A\",'Ref Score sheet'!$C$17:$C$124,$L$1,'Ref Score sheet'!$D$17:$D$124,I10)","v":0},{"$f":"COUNTIFS('Ref Score sheet'!$B$17:$B$124,\"A\",'Ref Score sheet'!$C$17:$C$124,$M$1,'Ref Score sheet'!$D$17:$D$124,I10)","v":0},{"$f":"COUNTIFS('Ref Score sheet'!$B$17:$B$124,\"A\",'Ref Score sheet'!$C$17:$C$124,$N$1,'Ref Score sheet'!$D$17:$D$124,J10)","v":0}]
[null,{"$f":"'Team Sheets'!B12","v":10},{"$f":"IF('Team Sheets'!C12=\"\",\"\",'Team Sheets'!C12)","v":""},{"$f":"COUNTIFS('Ref Score sheet'!$B$17:$B$124,\"H\",'Ref Score sheet'!$C$17:$C$124,$D$1,'Ref Score sheet'!$D$17:$D$124,$B11)","v":0},{"$f":"COUNTIFS('Ref Score sheet'!$B$17:$B$124,\"H\",'Ref Score sheet'!$C$17:$C$124,$E$1,'Ref Score sheet'!$D$17:$D$124,$B11)","v":0},{"$f":"COUNTIFS('Ref Score sheet'!$B$17:$B$124,\"H\",'Ref Score sheet'!$C$17:$C$124,$F$1,'Ref Score sheet'!$D$17:$D$124,$B11)","v":0},{"$f":"COUNTIFS('Ref Score sheet'!$B$17:$B$124,\"H\",'Ref Score sheet'!$C$17:$C$124,$G$1,'Ref Score sheet'!$D$17:$D$124,$B11)","v":0},null,{"$f":"'Team Sheets'!E12","v":10},{"$f":"IF('Team Sheets'!F12=\"\",\"\",'Team Sheets'!F12)","v":""},{"$f":"COUNTIFS('Ref Score sheet'!$B$17:$B$124,\"A\",'Ref Score sheet'!$C$17:$C$124,$K$1,'Ref Score sheet'!$D$17:$D$124,I11)","v":0},{"$f":"COUNTIFS('Ref Score sheet'!$B$17:$B$124,\"A\",'Ref Score sheet'!$C$17:$C$124,$L$1,'Ref Score sheet'!$D$17:$D$124,I11)","v":0},{"$f":"COUNTIFS('Ref Score sheet'!$B$17:$B$124,\"A\",'Ref Score sheet'!$C$17:$C$124,$M$1,'Ref Score sheet'!$D$17:$D$124,I11)","v":0},{"$f":"COUNTIFS('Ref Score sheet'!$B$17:$B$124,\"A\",'Ref Score sheet'!$C$17:$C$124,$N$1,'Ref Score sheet'!$D$17:$D$124,J11)","v":0}]
[null,{"$f":"'Team Sheets'!B13","v":11},{"$f":"IF('Team Sheets'!C13=\"\",\"\",'Team Sheets'!C13)","v":""},{"$f":"COUNTIFS('Ref Score sheet'!$B$17:$B$124,\"H\",'Ref Score sheet'!$C$17:$C$124,$D$1,'Ref Score sheet'!$D$17:$D$124,$B12)","v":0},{"$f":"COUNTIFS('Ref Score sheet'!$B$17:$B$124,\"H\",'Ref Score sheet'!$C$17:$C$124,$E$1,'Ref Score sheet'!$D$17:$D$124,$B12)","v":0},{"$f":"COUNTIFS('Ref Score sheet'!$B$17:$B$124,\"H\",'Ref Score sheet'!$C$17:$C$124,$F$1,'Ref Score sheet'!$D$17:$D$124,$B12)","v":0},{"$f":"COUNTIFS('Ref Score sheet'!$B$17:$B$124,\"H\",'Ref Score sheet'!$C$17:$C$124,$G$1,'Ref Score sheet'!$D$17:$D$124,$B12)","v":0},null,{"$f":"'Team Sheets'!E13","v":11},{"$f":"IF('Team Sheets'!F13=\"\",\"\",'Team Sheets'!F13)","v":""},{"$f":"COUNTIFS('Ref Score sheet'!$B$17:$B$124,\"A\",'Ref Score sheet'!$C$17:$C$124,$K$1,'Ref Score sheet'!$D$17:$D$124,I12)","v":0},{"$f":"COUNTIFS('Ref Score sheet'!$B$17:$B$124,\"A\",'Ref Score sheet'!$C$17:$C$124,$L$1,'Ref Score sheet'!$D$17:$D$124,I12)","v":0},{"$f":"COUNTIFS('Ref Score sheet'!$B$17:$B$124,\"A\",'Ref Score sheet'!$C$17:$C$124,$M$1,'Ref Score sheet'!$D$17:$D$124,I12)","v":0},{"$f":"COUNTIFS('Ref Score sheet'!$B$17:$B$124,\"A\",'Ref Score sheet'!$C$17:$C$124,$N$1,'Ref Score sheet'!$D$17:$D$124,J12)","v":0}]
[null,{"$f":"'Team Sheets'!B14","v":12},{"$f":"IF('Team Sheets'!C14=\"\",\"\",'Team Sheets'!C14)","v":""},{"$f":"COUNTIFS('Ref Score sheet'!$B$17:$B$124,\"H\",'Ref Score sheet'!$C$17:$C$124,$D$1,'Ref Score sheet'!$D$17:$D$124,$B13)","v":0},{"$f":"COUNTIFS('Ref Score sheet'!$B$17:$B$124,\"H\",'Ref Score sheet'!$C$17:$C$124,$E$1,'Ref Score sheet'!$D$17:$D$124,$B13)","v":0},{"$f":"COUNTIFS('Ref Score sheet'!$B$17:$B$124,\"H\",'Ref Score sheet'!$C$17:$C$124,$F$1,'Ref Score sheet'!$D$17:$D$124,$B13)","v":0},{"$f":"COUNTIFS('Ref Score sheet'!$B$17:$B$124,\"H\",'Ref Score sheet'!$C$17:$C$124,$G$1,'Ref Score sheet'!$D$17:$D$124,$B13)","v":0},null,{"$f":"'Team Sheets'!E14","v":12},{"$f":"IF('Team Sheets'!F14=\"\",\"\",'Team Sheets'!F14)","v":""},{"$f":"COUNTIFS('Ref Score sheet'!$B$17:$B$124,\"A\",'Ref Score sheet'!$C$17:$C$124,$K$1,'Ref Score sheet'!$D$17:$D$124,I13)","v":0},{"$f":"COUNTIFS('Ref Score sheet'!$B$17:$B$124,\"A\",'Ref Score sheet'!$C$17:$C$124,$L$1,'Ref Score sheet'!$D$17:$D$124,I13)","v":0},{"$f":"COUNTIFS('Ref Score sheet'!$B$17:$B$124,\"A\",'Ref Score sheet'!$C$17:$C$124,$M$1,'Ref Score sheet'!$D$17:$D$124,I13)","v":0},{"$f":"COUNTIFS('Ref Score sheet'!$B$17:$B$124,\"A\",'Ref Score sheet'!$C$17:$C$124,$N$1,'Ref Score sheet'!$D$17:$D$124,J13)","v":0}]
[null,{"$f":"'Team Sheets'!B15","v":13},{"$f":"IF('Team Sheets'!C15=\"\",\"\",'Team Sheets'!C15)","v":""},{"$f":"COUNTIFS('Ref Score sheet'!$B$17:$B$124,\"H\",'Ref Score sheet'!$C$17:$C$124,$D$1,'Ref Score sheet'!$D$17:$D$124,$B14)","v":0},{"$f":"COUNTIFS('Ref Score sheet'!$B$17:$B$124,\"H\",'Ref Score sheet'!$C$17:$C$124,$E$1,'Ref Score sheet'!$D$17:$D$124,$B14)","v":0},{"$f":"COUNTIFS('Ref Score sheet'!$B$17:$B$124,\"H\",'Ref Score sheet'!$C$17:$C$124,$F$1,'Ref Score sheet'!$D$17:$D$124,$B14)","v":0},{"$f":"COUNTIFS('Ref Score sheet'!$B$17:$B$124,\"H\",'Ref Score sheet'!$C$17:$C$124,$G$1,'Ref Score sheet'!$D$17:$D$124,$B14)","v":0},null,{"$f":"'Team Sheets'!E15","v":13},{"$f":"IF('Team Sheets'!F15=\"\",\"\",'Team Sheets'!F15)","v":""},{"$f":"COUNTIFS('Ref Score sheet'!$B$17:$B$124,\"A\",'Ref Score sheet'!$C$17:$C$124,$K$1,'Ref Score sheet'!$D$17:$D$124,I14)","v":0},{"$f":"COUNTIFS('Ref Score sheet'!$B$17:$B$124,\"A\",'Ref Score sheet'!$C$17:$C$124,$L$1,'Ref Score sheet'!$D$17:$D$124,I14)","v":0},{"$f":"COUNTIFS('Ref Score sheet'!$B$17:$B$124,\"A\",'Ref Score sheet'!$C$17:$C$124,$M$1,'Ref Score sheet'!$D$17:$D$124,I14)","v":0},{"$f":"COUNTIFS('Ref Score sheet'!$B$17:$B$124,\"A\",'Ref Score sheet'!$C$17:$C$124,$N$1,'Ref Score sheet'!$D$17:$D$124,J14)","v":0}]
[null,{"$f":"'Team Sheets'!B16","v":14},{"$f":"IF('Team Sheets'!C16=\"\",\"\",'Team Sheets'!C16)","v":""},{"$f":"COUNTIFS('Ref Score sheet'!$B$17:$B$124,\"H\",'Ref Score sheet'!$C$17:$C$124,$D$1,'Ref Score sheet'!$D$17:$D$124,$B15)","v":0},{"$f":"COUNTIFS('Ref Score sheet'!$B$17:$B$124,\"H\",'Ref Score sheet'!$C$17:$C$124,$E$1,'Ref Score sheet'!$D$17:$D$124,$B15)","v":0},{"$f":"COUNTIFS('Ref Score sheet'!$B$17:$B$124,\"H\",'Ref Score sheet'!$C$17:$C$124,$F$1,'Ref Score sheet'!$D$17:$D$124,$B15)","v":0},{"$f":"COUNTIFS('Ref Score sheet'!$B$17:$B$124,\"H\",'Ref Score sheet'!$C$17:$C$124,$G$1,'Ref Score sheet'!$D$17:$D$124,$B15)","v":0},null,{"$f":"'Team Sheets'!E16","v":14},{"$f":"IF('Team Sheets'!F16=\"\",\"\",'Team Sheets'!F16)","v":""},{"$f":"COUNTIFS('Ref Score sheet'!$B$17:$B$124,\"A\",'Ref Score sheet'!$C$17:$C$124,$K$1,'Ref Score sheet'!$D$17:$D$124,I15)","v":0},{"$f":"COUNTIFS('Ref Score sheet'!$B$17:$B$124,\"A\",'Ref Score sheet'!$C$17:$C$124,$L$1,'Ref Score sheet'!$D$17:$D$124,I15)","v":0},{"$f":"COUNTIFS('Ref Score sheet'!$B$17:$B$124,\"A\",'Ref Score sheet'!$C$17:$C$124,$M$1,'Ref Score sheet'!$D$17:$D$124,I15)","v":0},{"$f":"COUNTIFS('Ref Score sheet'!$B$17:$B$124,\"A\",'Ref Score sheet'!$C$17:$C$124,$N$1,'Ref Score sheet'!$D$17:$D$124,J15)","v":0}]
[null,{"$f":"'Team Sheets'!B17","v":15},{"$f":"IF('Team Sheets'!C17=\"\",\"\",'Team Sheets'!C17)","v":""},{"$f":"COUNTIFS('Ref Score sheet'!$B$17:$B$124,\"H\",'Ref Score sheet'!$C$17:$C$124,$D$1,'Ref Score sheet'!$D$17:$D$124,$B16)","v":0},{"$f":"COUNTIFS('Ref Score sheet'!$B$17:$B$124,\"H\",'Ref Score sheet'!$C$17:$C$124,$E$1,'Ref Score sheet'!$D$17:$D$124,$B16)","v":0},{"$f":"COUNTIFS('Ref Score sheet'!$B$17:$B$124,\"H\",'Ref Score sheet'!$C$17:$C$124,$F$1,'Ref Score sheet'!$D$17:$D$124,$B16)","v":0},{"$f":"COUNTIFS('Ref Score sheet'!$B$17:$B$124,\"H\",'Ref Score sheet'!$C$17:$C$124,$G$1,'Ref Score sheet'!$D$17:$D$124,$B16)","v":0},null,{"$f":"'Team Sheets'!E17","v":15},{"$f":"IF('Team Sheets'!F17=\"\",\"\",'Team Sheets'!F17)","v":""},{"$f":"COUNTIFS('Ref Score sheet'!$B$17:$B$124,\"A\",'Ref Score sheet'!$C$17:$C$124,$K$1,'Ref Score sheet'!$D$17:$D$124,I16)","v":0},{"$f":"COUNTIFS('Ref Score sheet'!$B$17:$B$124,\"A\",'Ref Score sheet'!$C$17:$C$124,$L$1,'Ref Score sheet'!$D$17:$D$124,I16)","v":0},{"$f":"COUNTIFS('Ref Score sheet'!$B$17:$B$124,\"A\",'Ref Score sheet'!$C$17:$C$124,$M$1,'Ref Score sheet'!$D$17:$D$124,I16)","v":0},{"$f":"COUNTIFS('Ref Score sheet'!$B$17:$B$124,\"A\",'Ref Score sheet'!$C$17:$C$124,$N$1,'Ref Score sheet'!$D$17:$D$124,J16)","v":0}]
[null,{"$f":"'Team Sheets'!B18","v":16},{"$f":"IF('Team Sheets'!C18=\"\",\"\",'Team Sheets'!C18)","v":""},{"$f":"COUNTIFS('Ref Score sheet'!$B$17:$B$124,\"H\",'Ref Score sheet'!$C$17:$C$124,$D$1,'Ref Score sheet'!$D$17:$D$124,$B17)","v":0},{"$f":"COUNTIFS('Ref Score sheet'!$B$17:$B$124,\"H\",'Ref Score sheet'!$C$17:$C$124,$E$1,'Ref Score sheet'!$D$17:$D$124,$B17)","v":0},{"$f":"COUNTIFS('Ref Score sheet'!$B$17:$B$124,\"H\",'Ref Score sheet'!$C$17:$C$124,$F$1,'Ref Score sheet'!$D$17:$D$124,$B17)","v":0},{"$f":"COUNTIFS('Ref Score sheet'!$B$17:$B$124,\"H\",'Ref Score sheet'!$C$17:$C$124,$G$1,'Ref Score sheet'!$D$17:$D$124,$B17)","v":0},null,{"$f":"'Team Sheets'!E18","v":16},{"$f":"IF('Team Sheets'!F18=\"\",\"\",'Team Sheets'!F18)","v":""},{"$f":"COUNTIFS('Ref Score sheet'!$B$17:$B$124,\"A\",'Ref Score sheet'!$C$17:$C$124,$K$1,'Ref Score sheet'!$D$17:$D$124,I17)","v":0},{"$f":"COUNTIFS('Ref Score sheet'!$B$17:$B$124,\"A\",'Ref Score sheet'!$C$17:$C$124,$L$1,'Ref Score sheet'!$D$17:$D$124,I17)","v":0},{"$f":"COUNTIFS('Ref Score sheet'!$B$17:$B$124,\"A\",'Ref Score sheet'!$C$17:$C$124,$M$1,'Ref Score sheet'!$D$17:$D$124,I17)","v":0},{"$f":"COUNTIFS('Ref Score sheet'!$B$17:$B$124,\"A\",'Ref Score sheet'!$C$17:$C$124,$N$1,'Ref Score sheet'!$D$17:$D$124,J17)","v":0}]
[null,{"$f":"'Team Sheets'!B19","v":17},{"$f":"IF('Team Sheets'!C19=\"\",\"\",'Team Sheets'!C19)","v":""},{"$f":"COUNTIFS('Ref Score sheet'!$B$17:$B$124,\"H\",'Ref Score sheet'!$C$17:$C$124,$D$1,'Ref Score sheet'!$D$17:$D$124,$B18)","v":0},{"$f":"COUNTIFS('Ref Score sheet'!$B$17:$B$124,\"H\",'Ref Score sheet'!$C$17:$C$124,$E$1,'Ref Score sheet'!$D$17:$D$124,$B18)","v":0},{"$f":"COUNTIFS('Ref Score sheet'!$B$17:$B$124,\"H\",'Ref Score sheet'!$C$17:$C$124,$F$1,'Ref Score sheet'!$D$17:$D$124,$B18)","v":0},{"$f":"COUNTIFS('Ref Score sheet'!$B$17:$B$124,\"H\",'Ref Score sheet'!$C$17:$C$124,$G$1,'Ref Score sheet'!$D$17:$D$124,$B18)","v":0},null,{"$f":"'Team Sheets'!E19","v":17},{"$f":"IF('Team Sheets'!F19=\"\",\"\",'Team Sheets'!F19)","v":""},{"$f":"COUNTIFS('Ref Score sheet'!$B$17:$B$124,\"A\",'Ref Score sheet'!$C$17:$C$124,$K$1,'Ref Score sheet'!$D$17:$D$124,I18)","v":0},{"$f":"COUNTIFS('Ref Score sheet'!$B$17:$B$124,\"A\",'Ref Score sheet'!$C$17:$C$124,$L$1,'Ref Score sheet'!$D$17:$D$124,I18)","v":0},{"$f":"COUNTIFS('Ref Score sheet'!$B$17:$B$124,\"A\",'Ref Score sheet'!$C$17:$C$124,$M$1,'Ref Score sheet'!$D$17:$D$124,I18)","v":0},{"$f":"COUNTIFS('Ref Score sheet'!$B$17:$B$124,\"A\",'Ref Score sheet'!$C$17:$C$124,$N$1,'Ref Score sheet'!$D$17:$D$124,J18)","v":0}]
[null,{"$f":"'Team Sheets'!B20","v":18},{"$f":"IF('Team Sheets'!C20=\"\",\"\",'Team Sheets'!C20)","v":""},{"$f":"COUNTIFS('Ref Score sheet'!$B$17:$B$124,\"H\",'Ref Score sheet'!$C$17:$C$124,$D$1,'Ref Score sheet'!$D$17:$D$124,$B19)","v":0},{"$f":"COUNTIFS('Ref Score sheet'!$B$17:$B$124,\"H\",'Ref Score sheet'!$C$17:$C$124,$E$1,'Ref Score sheet'!$D$17:$D$124,$B19)","v":0},{"$f":"COUNTIFS('Ref Score sheet'!$B$17:$B$124,\"H\",'Ref Score sheet'!$C$17:$C$124,$F$1,'Ref Score sheet'!$D$17:$D$124,$B19)","v":0},{"$f":"COUNTIFS('Ref Score sheet'!$B$17:$B$124,\"H\",'Ref Score sheet'!$C$17:$C$124,$G$1,'Ref Score sheet'!$D$17:$D$124,$B19)","v":0},null,{"$f":"'Team Sheets'!E20","v":18},{"$f":"IF('Team Sheets'!F20=\"\",\"\",'Team Sheets'!F20)","v":""},{"$f":"COUNTIFS('Ref Score sheet'!$B$17:$B$124,\"A\",'Ref Score sheet'!$C$17:$C$124,$K$1,'Ref Score sheet'!$D$17:$D$124,I19)","v":0},{"$f":"COUNTIFS('Ref Score sheet'!$B$17:$B$124,\"A\",'Ref Score sheet'!$C$17:$C$124,$L$1,'Ref Score sheet'!$D$17:$D$124,I19)","v":0},{"$f":"COUNTIFS('Ref Score sheet'!$B$17:$B$124,\"A\",'Ref Score sheet'!$C$17:$C$124,$M$1,'Ref Score sheet'!$D$17:$D$124,I19)","v":0},{"$f":"COUNTIFS('Ref Score sheet'!$B$17:$B$124,\"A\",'Ref Score sheet'!$C$17:$C$124,$N$1,'Ref Score sheet'!$D$17:$D$124,J19)","v":0}]
[null,{"$f":"'Team Sheets'!B21","v":19},{"$f":"IF('Team Sheets'!C21=\"\",\"\",'Team Sheets'!C21)","v":""},{"$f":"COUNTIFS('Ref Score sheet'!$B$17:$B$124,\"H\",'Ref Score sheet'!$C$17:$C$124,$D$1,'Ref Score sheet'!$D$17:$D$124,$B20)","v":0},{"$f":"COUNTIFS('Ref Score sheet'!$B$17:$B$124,\"H\",'Ref Score sheet'!$C$17:$C$124,$E$1,'Ref Score sheet'!$D$17:$D$124,$B20)","v":0},{"$f":"COUNTIFS('Ref Score sheet'!$B$17:$B$124,\"H\",'Ref Score sheet'!$C$17:$C$124,$F$1,'Ref Score sheet'!$D$17:$D$124,$B20)","v":0},{"$f":"COUNTIFS('Ref Score sheet'!$B$17:$B$124,\"H\",'Ref Score sheet'!$C$17:$C$124,$G$1,'Ref Score sheet'!$D$17:$D$124,$B20)","v":0},null,{"$f":"'Team Sheets'!E21","v":19},{"$f":"IF('Team Sheets'!F21=\"\",\"\",'Team Sheets'!F21)","v":""},{"$f":"COUNTIFS('Ref Score sheet'!$B$17:$B$124,\"A\",'Ref Score sheet'!$C$17:$C$124,$K$1,'Ref Score sheet'!$D$17:$D$124,I20)","v":0},{"$f":"COUNTIFS('Ref Score sheet'!$B$17:$B$124,\"A\",'Ref Score sheet'!$C$17:$C$124,$L$1,'Ref Score sheet'!$D$17:$D$124,I20)","v":0},{"$f":"COUNTIFS('Ref Score sheet'!$B$17:$B$124,\"A\",'Ref Score sheet'!$C$17:$C$124,$M$1,'Ref Score sheet'!$D$17:$D$124,I20)","v":0},{"$f":"COUNTIFS('Ref Score sheet'!$B$17:$B$124,\"A\",'Ref Score sheet'!$C$17:$C$124,$N$1,'Ref Score sheet'!$D$17:$D$124,J20)","v":0}]
[null,{"$f":"'Team Sheets'!B22","v":20},{"$f":"IF('Team Sheets'!C22=\"\",\"\",'Team Sheets'!C22)","v":""},{"$f":"COUNTIFS('Ref Score sheet'!$B$17:$B$124,\"H\",'Ref Score sheet'!$C$17:$C$124,$D$1,'Ref Score sheet'!$D$17:$D$124,$B21)","v":0},{"$f":"COUNTIFS('Ref Score sheet'!$B$17:$B$124,\"H\",'Ref Score sheet'!$C$17:$C$124,$E$1,'Ref Score sheet'!$D$17:$D$124,$B21)","v":0},{"$f":"COUNTIFS('Ref Score sheet'!$B$17:$B$124,\"H\",'Ref Score sheet'!$C$17:$C$124,$F$1,'Ref Score sheet'!$D$17:$D$124,$B21)","v":0},{"$f":"COUNTIFS('Ref Score sheet'!$B$17:$B$124,\"H\",'Ref Score sheet'!$C$17:$C$124,$G$1,'Ref Score sheet'!$D$17:$D$124,$B21)","v":0},null,{"$f":"'Team Sheets'!E22","v":20},{"$f":"IF('Team Sheets'!F22=\"\",\"\",'Team Sheets'!F22)","v":""},{"$f":"COUNTIFS('Ref Score sheet'!$B$17:$B$124,\"A\",'Ref Score sheet'!$C$17:$C$124,$K$1,'Ref Score sheet'!$D$17:$D$124,I21)","v":0},{"$f":"COUNTIFS('Ref Score sheet'!$B$17:$B$124,\"A\",'Ref Score sheet'!$C$17:$C$124,$L$1,'Ref Score sheet'!$D$17:$D$124,I21)","v":0},{"$f":"COUNTIFS('Ref Score sheet'!$B$17:$B$124,\"A\",'Ref Score sheet'!$C$17:$C$124,$M$1,'Ref Score sheet'!$D$17:$D$124,I21)","v":0},{"$f":"COUNTIFS('Ref Score sheet'!$B$17:$B$124,\"A\",'Ref Score sheet'!$C$17:$C$124,$N$1,'Ref Score sheet'!$D$17:$D$124,J21)","v":0}]
[null,{"$f":"'Team Sheets'!B23","v":21},{"$f":"IF('Team Sheets'!C23=\"\",\"\",'Team Sheets'!C23)","v":""},{"$f":"COUNTIFS('Ref Score sheet'!$B$17:$B$124,\"H\",'Ref Score sheet'!$C$17:$C$124,$D$1,'Ref Score sheet'!$D$17:$D$124,$B22)","v":0},{"$f":"COUNTIFS('Ref Score sheet'!$B$17:$B$124,\"H\",'Ref Score sheet'!$C$17:$C$124,$E$1,'Ref Score sheet'!$D$17:$D$124,$B22)","v":0},{"$f":"COUNTIFS('Ref Score sheet'!$B$17:$B$124,\"H\",'Ref Score sheet'!$C$17:$C$124,$F$1,'Ref Score sheet'!$D$17:$D$124,$B22)","v":0},{"$f":"COUNTIFS('Ref Score sheet'!$B$17:$B$124,\"H\",'Ref Score sheet'!$C$17:$C$124,$G$1,'Ref Score sheet'!$D$17:$D$124,$B22)","v":0},null,{"$f":"'Team Sheets'!E23","v":21},{"$f":"IF('Team Sheets'!F23=\"\",\"\",'Team Sheets'!F23)","v":""},{"$f":"COUNTIFS('Ref Score sheet'!$B$17:$B$124,\"A\",'Ref Score sheet'!$C$17:$C$124,$K$1,'Ref Score sheet'!$D$17:$D$124,I22)","v":0},{"$f":"COUNTIFS('Ref Score sheet'!$B$17:$B$124,\"A\",'Ref Score sheet'!$C$17:$C$124,$L$1,'Ref Score sheet'!$D$17:$D$124,I22)","v":0},{"$f":"COUNTIFS('Ref Score sheet'!$B$17:$B$124,\"A\",'Ref Score sheet'!$C$17:$C$124,$M$1,'Ref Score sheet'!$D$17:$D$124,I22)","v":0},{"$f":"COUNTIFS('Ref Score sheet'!$B$17:$B$124,\"A\",'Ref Score sheet'!$C$17:$C$124,$N$1,'Ref Score sheet'!$D$17:$D$124,J22)","v":0}]
[null,{"$f":"'Team Sheets'!B24","v":22},{"$f":"IF('Team Sheets'!C24=\"\",\"\",'Team Sheets'!C24)","v":""},{"$f":"COUNTIFS('Ref Score sheet'!$B$17:$B$124,\"H\",'Ref Score sheet'!$C$17:$C$124,$D$1,'Ref Score sheet'!$D$17:$D$124,$B23)","v":0},{"$f":"COUNTIFS('Ref Score sheet'!$B$17:$B$124,\"H\",'Ref Score sheet'!$C$17:$C$124,$E$1,'Ref Score sheet'!$D$17:$D$124,$B23)","v":0},{"$f":"COUNTIFS('Ref Score sheet'!$B$17:$B$124,\"H\",'Ref Score sheet'!$C$17:$C$124,$F$1,'Ref Score sheet'!$D$17:$D$124,$B23)","v":0},{"$f":"COUNTIFS('Ref Score sheet'!$B$17:$B$124,\"H\",'Ref Score sheet'!$C$17:$C$124,$G$1,'Ref Score sheet'!$D$17:$D$124,$B23)","v":0},null,{"$f":"'Team Sheets'!E24","v":22},{"$f":"IF('Team Sheets'!F24=\"\",\"\",'Team Sheets'!F24)","v":""},{"$f":"COUNTIFS('Ref Score sheet'!$B$17:$B$124,\"A\",'Ref Score sheet'!$C$17:$C$124,$K$1,'Ref Score sheet'!$D$17:$D$124,I23)","v":0},{"$f":"COUNTIFS('Ref Score sheet'!$B$17:$B$124,\"A\",'Ref Score sheet'!$C$17:$C$124,$L$1,'Ref Score sheet'!$D$17:$D$124,I23)","v":0},{"$f":"COUNTIFS('Ref Score sheet'!$B$17:$B$124,\"A\",'Ref Score sheet'!$C$17:$C$124,$M$1,'Ref Score sheet'!$D$17:$D$124,I23)","v":0},{"$f":"COUNTIFS('Ref Score sheet'!$B$17:$B$124,\"A\",'Ref Score sheet'!$C$17:$C$124,$N$1,'Ref Score sheet'!$D$17:$D$124,J23)","v":0}]
[null,{"$f":"'Team Sheets'!B25","v":23},{"$f":"IF('Team Sheets'!C25=\"\",\"\",'Team Sheets'!C25)","v":""},{"$f":"COUNTIFS('Ref Score sheet'!$B$17:$B$124,\"H\",'Ref Score sheet'!$C$17:$C$124,$D$1,'Ref Score sheet'!$D$17:$D$124,$B24)","v":0},{"$f":"COUNTIFS('Ref Score sheet'!$B$17:$B$124,\"H\",'Ref Score sheet'!$C$17:$C$124,$E$1,'Ref Score sheet'!$D$17:$D$124,$B24)","v":0},{"$f":"COUNTIFS('Ref Score sheet'!$B$17:$B$124,\"H\",'Ref Score sheet'!$C$17:$C$124,$F$1,'Ref Score sheet'!$D$17:$D$124,$B24)","v":0},{"$f":"COUNTIFS('Ref Score sheet'!$B$17:$B$124,\"H\",'Ref Score sheet'!$C$17:$C$124,$G$1,'Ref Score sheet'!$D$17:$D$124,$B24)","v":0},null,{"$f":"'Team Sheets'!E25","v":23},{"$f":"IF('Team Sheets'!F25=\"\",\"\",'Team Sheets'!F25)","v":""},{"$f":"COUNTIFS('Ref Score sheet'!$B$17:$B$124,\"A\",'Ref Score sheet'!$C$17:$C$124,$K$1,'Ref Score sheet'!$D$17:$D$124,I24)","v":0},{"$f":"COUNTIFS('Ref Score sheet'!$B$17:$B$124,\"A\",'Ref Score sheet'!$C$17:$C$124,$L$1,'Ref Score sheet'!$D$17:$D$124,I24)","v":0},{"$f":"COUNTIFS('Ref Score sheet'!$B$17:$B$124,\"A\",'Ref Score sheet'!$C$17:$C$124,$M$1,'Ref Score sheet'!$D$17:$D$124,I24)","v":0},{"$f":"COUNTIFS('Ref Score sheet'!$B$17:$B$124,\"A\",'Ref Score sheet'!$C$17:$C$124,$N$1,'Ref Score sheet'!$D$17:$D$124,J24)","v":0}]
[null,{"$f":"'Team Sheets'!B26","v":24},{"$f":"IF('Team Sheets'!C26=\"\",\"\",'Team Sheets'!C26)","v":""},{"$f":"COUNTIFS('Ref Score sheet'!$B$17:$B$124,\"H\",'Ref Score sheet'!$C$17:$C$124,$D$1,'Ref Score sheet'!$D$17:$D$124,$B25)","v":0},{"$f":"COUNTIFS('Ref Score sheet'!$B$17:$B$124,\"H\",'Ref Score sheet'!$C$17:$C$124,$E$1,'Ref Score sheet'!$D$17:$D$124,$B25)","v":0},{"$f":"COUNTIFS('Ref Score sheet'!$B$17:$B$124,\"H\",'Ref Score sheet'!$C$17:$C$124,$F$1,'Ref Score sheet'!$D$17:$D$124,$B25)","v":0},{"$f":"COUNTIFS('Ref Score sheet'!$B$17:$B$124,\"H\",'Ref Score sheet'!$C$17:$C$124,$G$1,'Ref Score sheet'!$D$17:$D$124,$B25)","v":0},null,{"$f":"'Team Sheets'!E26","v":24},{"$f":"IF('Team Sheets'!F26=\"\",\"\",'Team Sheets'!F26)","v":""},{"$f":"COUNTIFS('Ref Score sheet'!$B$17:$B$124,\"A\",'Ref Score sheet'!$C$17:$C$124,$K$1,'Ref Score sheet'!$D$17:$D$124,I25)","v":0},{"$f":"COUNTIFS('Ref Score sheet'!$B$17:$B$124,\"A\",'Ref Score sheet'!$C$17:$C$124,$L$1,'Ref Score sheet'!$D$17:$D$124,I25)","v":0},{"$f":"COUNTIFS('Ref Score sheet'!$B$17:$B$124,\"A\",'Ref Score sheet'!$C$17:$C$124,$M$1,'Ref Score sheet'!$D$17:$D$124,I25)","v":0},{"$f":"COUNTIFS('Ref Score sheet'!$B$17:$B$124,\"A\",'Ref Score sheet'!$C$17:$C$124,$N$1,'Ref Score sheet'!$D$17:$D$124,J25)","v":0}]
[null,{"$f":"'Team Sheets'!B27","v":25},{"$f":"IF('Team Sheets'!C27=\"\",\"\",'Team Sheets'!C27)","v":""},{"$f":"COUNTIFS('Ref Score sheet'!$B$17:$B$124,\"H\",'Ref Score sheet'!$C$17:$C$124,$D$1,'Ref Score sheet'!$D$17:$D$124,$B26)","v":0},{"$f":"COUNTIFS('Ref Score sheet'!$B$17:$B$124,\"H\",'Ref Score sheet'!$C$17:$C$124,$E$1,'Ref Score sheet'!$D$17:$D$124,$B26)","v":0},{"$f":"COUNTIFS('Ref Score sheet'!$B$17:$B$124,\"H\",'Ref Score sheet'!$C$17:$C$124,$F$1,'Ref Score sheet'!$D$17:$D$124,$B26)","v":0},{"$f":"COUNTIFS('Ref Score sheet'!$B$17:$B$124,\"H\",'Ref Score sheet'!$C$17:$C$124,$G$1,'Ref Score sheet'!$D$17:$D$124,$B26)","v":0},null,{"$f":"'Team Sheets'!E27","v":25},{"$f":"IF('Team Sheets'!F27=\"\",\"\",'Team Sheets'!F27)","v":""},{"$f":"COUNTIFS('Ref Score sheet'!$B$17:$B$124,\"A\",'Ref Score sheet'!$C$17:$C$124,$K$1,'Ref Score sheet'!$D$17:$D$124,I26)","v":0},{"$f":"COUNTIFS('Ref Score sheet'!$B$17:$B$124,\"A\",'Ref Score sheet'!$C$17:$C$124,$L$1,'Ref Score sheet'!$D$17:$D$124,I26)","v":0},{"$f":"COUNTIFS('Ref Score sheet'!$B$17:$B$124,\"A\",'Ref Score sheet'!$C$17:$C$124,$M$1,'Ref Score sheet'!$D$17:$D$124,I26)","v":0},{"$f":"COUNTIFS('Ref Score sheet'!$B$17:$B$124,\"A\",'Ref Score sheet'!$C$17:$C$124,$N$1,'Ref Score sheet'!$D$17:$D$124,J26)","v":0}]
[null,{"$f":"'Team Sheets'!B28","v":26},{"$f":"IF('Team Sheets'!C28=\"\",\"\",'Team Sheets'!C28)","v":""},{"$f":"COUNTIFS('Ref Score sheet'!$B$17:$B$124,\"H\",'Ref Score sheet'!$C$17:$C$124,$D$1,'Ref Score sheet'!$D$17:$D$124,$B27)","v":0},{"$f":"COUNTIFS('Ref Score sheet'!$B$17:$B$124,\"H\",'Ref Score sheet'!$C$17:$C$124,$E$1,'Ref Score sheet'!$D$17:$D$124,$B27)","v":0},{"$f":"COUNTIFS('Ref Score sheet'!$B$17:$B$124,\"H\",'Ref Score sheet'!$C$17:$C$124,$F$1,'Ref Score sheet'!$D$17:$D$124,$B27)","v":0},{"$f":"COUNTIFS('Ref Score sheet'!$B$17:$B$124,\"H\",'Ref Score sheet'!$C$17:$C$124,$G$1,'Ref Score sheet'!$D$17:$D$124,$B27)","v":0},null,{"$f":"'Team Sheets'!E28","v":26},{"$f":"IF('Team Sheets'!F28=\"\",\"\",'Team Sheets'!F28)","v":""},{"$f":"COUNTIFS('Ref Score sheet'!$B$17:$B$124,\"A\",'Ref Score sheet'!$C$17:$C$124,$K$1,'Ref Score sheet'!$D$17:$D$124,I27)","v":0},{"$f":"COUNTIFS('Ref Score sheet'!$B$17:$B$124,\"A\",'Ref Score sheet'!$C$17:$C$124,$L$1,'Ref Score sheet'!$D$17:$D$124,I27)","v":0},{"$f":"COUNTIFS('Ref Score sheet'!$B$17:$B$124,\"A\",'Ref Score sheet'!$C$17:$C$124,$M$1,'Ref Score sheet'!$D$17:$D$124,I27)","v":0},{"$f":"COUNTIFS('Ref Score sheet'!$B$17:$B$124,\"A\",'Ref Score sheet'!$C$17:$C$124,$N$1,'Ref Score sheet'!$D$17:$D$124,J27)","v":0}]
[null,{"$f":"'Team Sheets'!B29","v":27},{"$f":"IF('Team Sheets'!C29=\"\",\"\",'Team Sheets'!C29)","v":""},{"$f":"COUNTIFS('Ref Score sheet'!$B$17:$B$124,\"H\",'Ref Score sheet'!$C$17:$C$124,$D$1,'Ref Score sheet'!$D$17:$D$124,$B28)","v":0},{"$f":"COUNTIFS('Ref Score sheet'!$B$17:$B$124,\"H\",'Ref Score sheet'!$C$17:$C$124,$E$1,'Ref Score sheet'!$D$17:$D$124,$B28)","v":0},{"$f":"COUNTIFS('Ref Score sheet'!$B$17:$B$124,\"H\",'Ref Score sheet'!$C$17:$C$124,$F$1,'Ref Score sheet'!$D$17:$D$124,$B28)","v":0},{"$f":"COUNTIFS('Ref Score sheet'!$B$17:$B$124,\"H\",'Ref Score sheet'!$C$17:$C$124,$G$1,'Ref Score sheet'!$D$17:$D$124,$B28)","v":0},null,{"$f":"'Team Sheets'!E29","v":27},{"$f":"IF('Team Sheets'!F29=\"\",\"\",'Team Sheets'!F29)","v":""},{"$f":"COUNTIFS('Ref Score sheet'!$B$17:$B$124,\"A\",'Ref Score sheet'!$C$17:$C$124,$K$1,'Ref Score sheet'!$D$17:$D$124,I28)","v":0},{"$f":"COUNTIFS('Ref Score sheet'!$B$17:$B$124,\"A\",'Ref Score sheet'!$C$17:$C$124,$L$1,'Ref Score sheet'!$D$17:$D$124,I28)","v":0},{"$f":"COUNTIFS('Ref Score sheet'!$B$17:$B$124,\"A\",'Ref Score sheet'!$C$17:$C$124,$M$1,'Ref Score sheet'!$D$17:$D$124,I28)","v":0},{"$f":"COUNTIFS('Ref Score sheet'!$B$17:$B$124,\"A\",'Ref Score sheet'!$C$17:$C$124,$N$1,'Ref Score sheet'!$D$17:$D$124,J28)","v":0}]
[null,{"$f":"'Team Sheets'!B30","v":28},{"$f":"IF('Team Sheets'!C30=\"\",\"\",'Team Sheets'!C30)","v":""},{"$f":"COUNTIFS('Ref Score sheet'!$B$17:$B$124,\"H\",'Ref Score sheet'!$C$17:$C$124,$D$1,'Ref Score sheet'!$D$17:$D$124,$B29)","v":0},{"$f":"COUNTIFS('Ref Score sheet'!$B$17:$B$124,\"H\",'Ref Score sheet'!$C$17:$C$124,$E$1,'Ref Score sheet'!$D$17:$D$124,$B29)","v":0},{"$f":"COUNTIFS('Ref Score sheet'!$B$17:$B$124,\"H\",'Ref Score sheet'!$C$17:$C$124,$F$1,'Ref Score sheet'!$D$17:$D$124,$B29)","v":0},{"$f":"COUNTIFS('Ref Score sheet'!$B$17:$B$124,\"H\",'Ref Score sheet'!$C$17:$C$124,$G$1,'Ref Score sheet'!$D$17:$D$124,$B29)","v":0},null,{"$f":"'Team Sheets'!E30","v":28},{"$f":"IF('Team Sheets'!F30=\"\",\"\",'Team Sheets'!F30)","v":""},{"$f":"COUNTIFS('Ref Score sheet'!$B$17:$B$124,\"A\",'Ref Score sheet'!$C$17:$C$124,$K$1,'Ref Score sheet'!$D$17:$D$124,I29)","v":0},{"$f":"COUNTIFS('Ref Score sheet'!$B$17:$B$124,\"A\",'Ref Score sheet'!$C$17:$C$124,$L$1,'Ref Score sheet'!$D$17:$D$124,I29)","v":0},{"$f":"COUNTIFS('Ref Score sheet'!$B$17:$B$124,\"A\",'Ref Score sheet'!$C$17:$C$124,$M$1,'Ref Score sheet'!$D$17:$D$124,I29)","v":0},{"$f":"COUNTIFS('Ref Score sheet'!$B$17:$B$124,\"A\",'Ref Score sheet'!$C$17:$C$124,$N$1,'Ref Score sheet'!$D$17:$D$124,J29)","v":0}]

{"sheet":"Whatsapp","index":4,"n_rows":3,"n_cols":9,"rows_kept":3,"cut":false,"hidden":false,"merged":[]}
[{"$f":"'Ref Score sheet'!D5","v":0},"T","PT","C","P","DG",null,"Half Time Score","Final Score"]
[{"$f":"'Ref Score sheet'!D7","v":0},{"$f":"Calculations!B120","v":0},{"$f":"Calculations!C120","v":0},{"$f":"Calculations!D120","v":0},{"$f":"Calculations!E120","v":0},{"$f":"Calculations!F120","v":0},null,{"$f":"'Ref Score sheet'!G7","v":0},{"$f":"((B2*5)+(C2*7)+(D2*2)+(E2*3)+(F2*3))","v":0}]
[{"$f":"'Ref Score sheet'!D8","v":0},{"$f":"Calculations!AI120","v":0},{"$f":"Calculations!AJ120","v":0},{"$f":"Calculations!AK120","v":0},{"$f":"Calculations!AL120","v":0},{"$f":"Calculations!AM120","v":0},null,{"$f":"'Ref Score sheet'!G8","v":0},{"$f":"((B3*5)+(C3*7)+(D3*2)+(E3*3)+(F3*3))","v":0}]

{"sheet":"Notes","index":5,"n_rows":61,"n_cols":3,"rows_kept":61,"cut":false,"hidden":false,"merged":[[50,0,51,0],[48,0,49,0],[43,1,43,2],[3,0,10,0],[11,0,20,0],[27,0,33,0],[34,0,38,0],[21,0,26,0],[39,0,42,0],[0,0,0,2],[1,0,1,2],[2,0,2,2],[44,0,45,0],[46,0,47,0]]}
["             Notes on how to fill in Score Sheet"]
["EVENT NOTES"]
["Please keep track of the following events"]
["Scoring","T","Try"]
[null,"PT","Penalty Try - No conversion required"]
[null,"C","Conversion"]
[null,"MC","Missed Conversion"]
[null,"P","Penalty"]
[null,"MP","Missed Penalty"]
[null,"DG","Drop Goal"]
[null,"MDG","Missed Drop Goal"]
["Replacements","BL-Off","Blood Bin -Off"]
[null,"BL-On","Blood Bin -On"]
[null,"BLR-Off","Player who replaced player for blood, goes off"]
[null,"BLR-On","Player that went off for blood returns"]
[null,"RT-OFF","Tactical Replacement - player coming OFF the field"]
[null,"RT-ON","Tactical Replacement - player coming ON to the field"]
[null,"RI-Off","Injury Off"]
[null,"RI-On","Injury Replacement On"]
[null,"FP-Off","Player injured due to foul play - player coming OFF the field"]
[null,"FP-On","Player replacing the injured player due to foul play - player coming ON the field"]
["Front Row Temporary Replacements","FRC-Off","Player going OFF to allow a front row replacement during the sanctioned process"]
[null,"FRC-On","The front row who replaces a carded front row"]
[null,"FRCR-Off","The front row who replaced a carded front row now leaves"]
[null,"FRCR-On","The player who went off to allow a front row replacement during the sanctioned process now comes back on"]
[null,"UCS-Off","Player who has to leave the field as result of uncontested scrum"]
[null,"UCS-On","Player who returns once contested scrums is reinstated after he was sent off\n"]
["Head Injury Assesment","HIA-Off","Player OFF for Head Injury Assessment (HIA)"]
[null,"HIA-On","Player who is temporary replacing the 'HIA-OFF'"]
[null,"HIAR","Player returning from HIA - only after 12 minutes running time"]
[null,"HIAR-Off","The temprorary player (HIA-On) who replaced the 'HIA-OFF' now leaves"]
[null,"CON-Off","Player OFF for Recognise &  Remove or HIA is declared concussed"]
[null,"CON-On","The player who comes on to replace the Recognise &  Remove or HIA player now permanently replaces the Recognise &  Remove or HIA player"]
[null,"TCO","The temporary player (HIA-On) who replaced the 'HIA-OFF' returns and is replaced permanently"]
["Sanctions","RC","Red Card"]
[null,"RC-R","Red Card Replacement"]
[null,"YC","Yellow Card goes off"]
[null,"YC-R","After 10 minutes - YC returns"]
[null,"2nd YC","When a player gets a 2nd YC in the same game"]
["Halfs","FH-S","First Half - START"]
[null,"FH-E","First Half - END"]
[null,"SH-S","Second Half - START"]
[null,"SH-E","Second Half - END"]
[null,"Macro's"]
["Replacements","Ctrl-s","RT-Off and RT-On"]
[null,"Ctrl-i","RI-Off and RI-On"]
["Front Row Temporary Replacements","Ctrl-y","FRC-Off and FRC-On (player going off for front row substitute)"]
[null,"Ctrl-f","FRCR-Off, FRCR-On and YC-R (Front row player who replaced yellow card goes off)"]
["Blood","Ctrl-b","B-Off and B-On"]
[null,"Ctrl-r","BR-Off and BR-On"]
["Concussion","Ctrl-g","CON-off and CON-on"]
[null,"Ctrl-h","CON-off, CON-on and TCO - temporary replacement returns and is replaced by alternative permanent replacement when HIA does not return"]
["Delete a line","Ctrl-Shift-D","Delete a line"]
["Insert a line","Ctrl-Shift-I","Insert a line"]
[null,"NB","Please record the elapsed time (mins)- Counting  UP (1-80 MINS)  "]
[null,null,"Please record Player Number AND Name for each event"]
[null,null,"Please record H / A = Home Away Team for each event"]
[null,null,"Please record the score for event in the HOME / AWAY column"]
[null,null,"Straight after the final whistle: "]
[null,null,"please send to:"]
[null,null,"eddieg@sarugby.co.za; mornen@sarugby.co.za; jaco@evolveav.co.za; eugenev@sarugby.co.za"]

{"sheet":"Calculations","index":6,"n_rows":120,"n_cols":64,"rows_kept":120,"cut":false,"hidden":true,"merged":[[119,61,119,62],[119,29,119,30],[0,33,0,36]]}
["Home Team",null,null,null,null,null,null,null,null,null,null,null,null,null,null,null,null,null,null,null,null,null,null,null,null,null,null,null,null,null,null,null,null,"Away Team"]
[]
[]
[]
[]
[]
[]
[]
[]
[]
[null,"Try","Penalty Try","Conversion","Penalty","Drop Goal","try","PT","con","Pen","Drop",null,"Points",null,null,"Blood Off","Blood On","Blood Return Off","Blood Return  On","Injury Off","Injury On","CON-Off","CON-On","RT-on","RT-off","Red Card","Red Card Replacement","Yellow Card","2nd Yellow Card",null,"Halftime Score",null,null,null,"Try","Penalty Try","Conversion","Penalty","Drop Goal","Try","PT","Con","Pen","Drop",null,"Points",null,"Blood Off","Blood On","Blood Return Off","Blood Return  On","Injuty Off","Injury On","CON-Off","CON-On","RT-on","RT-off","Red Card","Red Card Replacement","Yellow Card","2nd Yellow Card",null,"Halftime Score"]
[null,{"$f":"AND('Ref Score sheet'!B17 = \"h\",'Ref Score sheet'!C17 = \"t\")","v":false},{"$f":"AND('Ref Score sheet'!B17 = \"h\",'Ref Score sheet'!C17 = \"pt\")","v":false},{"$f":"AND('Ref Score sheet'!B17 = \"h\",'Ref Score sheet'!C17 = \"c\")","v":false},{"$f":"AND('Ref Score sheet'!B17 = \"h\",'Ref Score sheet'!C17 = \"p\")","v":false},{"$f":"AND('Ref Score sheet'!B17 = \"h\",'Ref Score sheet'!C17 = \"dg\")","v":false},{"$f":"IF(B12 = TRUE,5,0)","v":0},{"$f":"IF(C12 = TRUE,7,0)","v":0},{"$f":"IF(D12 = TRUE,2,0)","v":0},{"$f":"IF(E12 = TRUE,3,0)","v":0},{"$f":"IF(F12 = TRUE,3,0)","v":0},{"$f":"SUM(G12:K12)","v":0},{"$f":"L12","v":0},null,null,{"$f":"AND('Ref Score sheet'!B17 = \"h\",'Ref Score sheet'!C17 = \"bl-off\")","v":false},{"$f":"AND('Ref Score sheet'!B17 = \"h\",'Ref Score sheet'!C17 = \"bl-on\")","v":false},{"$f":"AND('Ref Score sheet'!B17 = \"h\",'Ref Score sheet'!C17 = \"blr-off\")","v":false},{"$f":"AND('Ref Score sheet'!B17 = \"h\",'Ref Score sheet'!C17 = \"blr-on\")","v":false},{"$f":"AND('Ref Score sheet'!B17 = \"h\",'Ref Score sheet'!C17 = \"RI-off\")","v":false},{"$f":"AND('Ref Score sheet'!B17 = \"h\",'Ref Score sheet'!C17 = \"RI-on\")","v":false},{"$f":"AND('Ref Score sheet'!B17 = \"h\",'Ref Score sheet'!C17 = \"CON-OFF\")","v":false},{"$f":"AND('Ref Score sheet'!B17 = \"h\",'Ref Score sheet'!C17 = \"CON-ON\")","v":false},{"$f":"AND('Ref Score sheet'!B17 = \"h\",'Ref Score sheet'!C17 = \"RT-on\")","v":false},{"$f":"AND('Ref Score sheet'!B17 = \"h\",'Ref Score sheet'!C17 = \"RT-off\")","v":false},{"$f":"AND('Ref Score sheet'!B17 = \"h\",'Ref Score sheet'!C17 = \"rc\")","v":false},{"$f":"AND('Ref Score sheet'!B17 = \"h\",'Ref Score sheet'!C17 = \"rcr\")","v":false},{"$f":"AND('Ref Score sheet'!B17 = \"h\",'Ref Score sheet'!C17 = \"yc\")","v":false},{"$f":"AND('Ref Score sheet'!B17 = \"h\",'Ref Score sheet'!C17 = \"2nd yc\")","v":false},null,{"$f":"AND('Ref Score sheet'!B17 = \"\",'Ref Score sheet'!C17 = \"fh-e\")","v":false},{"$f":"IF(AE12=TRUE,M12,\"\")","v":""},null,null,{"$f":"AND('Ref Score sheet'!B17=\"a\",'Ref Score sheet'!C17=\"t\")","v":false},{"$f":"AND('Ref Score sheet'!B17=\"a\",'Ref Score sheet'!C17=\"pt\")","v":false},{"$f":"AND('Ref Score sheet'!B17=\"a\",'Ref Score sheet'!C17=\"c\")","v":false},{"$f":"AND('Ref Score sheet'!B17=\"a\",'Ref Score sheet'!C17=\"p\")","v":false},{"$f":"AND('Ref Score sheet'!B17=\"a\",'Ref Score sheet'!C17=\"dg\")","v":false},{"$f":"IF(AI12 = TRUE,5,0)","v":0},{"$f":"IF(AJ12 = TRUE,7,0)","v":0},{"$f":"IF(AK12 = TRUE,2,0)","v":0},{"$f":"IF(AL12 = TRUE,3,0)","v":0},{"$f":"IF(AM12 = TRUE,3,0)","v":0},{"$f":"SUM(AN12:AR12)","v":0},{"$f":"AS12","v":0},null,{"$f":"AND('Ref Score sheet'!B17=\"a\",'Ref Score sheet'!C17=\"b-off\")","v":false},{"$f":"AND('Ref Score sheet'!B17=\"a\",'Ref Score sheet'!C17=\"b-on\")","v":false},{"$f":"AND('Ref Score sheet'!B17 = \"a\",'Ref Score sheet'!C17 = \"br-off\")","v":false},{"$f":"AND('Ref Score sheet'!B17 = \"a\",'Ref Score sheet'!C17 = \"br-on\")","v":false},{"$f":"AND('Ref Score sheet'!B17=\"a\",'Ref Score sheet'!C17=\"RI-off\")","v":false},{"$f":"AND('Ref Score sheet'!B17=\"a\",'Ref Score sheet'!C17=\"RI-on\")","v":false},{"$f":"AND('Ref Score sheet'!B17 = \"a\",'Ref Score sheet'!C17 = \"CON - OFF\")","v":false},{"$f":"AND('Ref Score sheet'!B17 = \"a\",'Ref Score sheet'!C17 = \"CON - ON\")","v":false},{"$f":"AND('Ref Score sheet'!B17=\"a\",'Ref Score sheet'!C17=\"RT-on\")","v":false},{"$f":"AND('Ref Score sheet'!B17=\"a\",'Ref Score sheet'!C17=\"RT-off\")","v":false},{"$f":"AND('Ref Score sheet'!$B17 = \"a\",'Ref Score sheet'!$C17 = \"rc\")","v":false},{"$f":"AND('Ref Score sheet'!$B17 = \"a\",'Ref Score sheet'!$C17 = \"rcr\")","v":false},{"$f":"AND('Ref Score sheet'!$B17 = \"a\",'Ref Score sheet'!$C17 = \"yc\")","v":false},{"$f":"AND('Ref Score sheet'!$B17 = \"a\",'Ref Score sheet'!$C17 = \"2nd yc\")","v":false},null,{"$f":"AND('Ref Score sheet'!B17 = \"\",'Ref Score sheet'!C17 = \"fh-e\")","v":false},{"$f":"IF(BK12=TRUE,AT12,\"\")","v":""}]
[null,{"$f":"AND('Ref Score sheet'!B18 = \"h\",'Ref Score sheet'!C18 = \"t\")","v":false},{"$f":"AND('Ref Score sheet'!B18 = \"h\",'Ref Score sheet'!C18 = \"pt\")","v":false},{"$f":"AND('Ref Score sheet'!B18 = \"h\",'Ref Score sheet'!C18 = \"c\")","v":false},{"$f":"AND('Ref Score sheet'!B18 = \"h\",'Ref Score sheet'!C18 = \"p\")","v":false},{"$f":"AND('Ref Score sheet'!B18 = \"h\",'Ref Score sheet'!C18 = \"dg\")","v":false},0,0,0,0,0,0,{"$f":"M12+L13","v":0},null,null,{"$f":"AND('Ref Score sheet'!B18 = \"h\",'Ref Score sheet'!C18 = \"bl-off\")","v":false},{"$f":"AND('Ref Score sheet'!B18 = \"h\",'Ref Score sheet'!C18 = \"bl-on\")","v":false},{"$f":"AND('Ref Score sheet'!B18 = \"h\",'Ref Score sheet'!C18 = \"blr-off\")","v":false},{"$f":"AND('Ref Score sheet'!B18 = \"h\",'Ref Score sheet'!C18 = \"blr-on\")","v":false},{"$f":"AND('Ref Score sheet'!B18 = \"h\",'Ref Score sheet'!C18 = \"RI-off\")","v":false},{"$f":"AND('Ref Score sheet'!B18 = \"h\",'Ref Score sheet'!C18 = \"RI-on\")","v":false},{"$f":"AND('Ref Score sheet'!B18 = \"h\",'Ref Score sheet'!C18 = \"CON-OFF\")","v":false},{"$f":"AND('Ref Score sheet'!B18 = \"h\",'Ref Score sheet'!C18 = \"CON-ON\")","v":false},{"$f":"AND('Ref Score sheet'!B18 = \"h\",'Ref Score sheet'!C18 = \"RT-on\")","v":false},{"$f":"AND('Ref Score sheet'!B18 = \"h\",'Ref Score sheet'!C18 = \"RT-off\")","v":false},{"$f":"AND('Ref Score sheet'!$B18 = \"h\",'Ref Score sheet'!$C18 = \"rc\")","v":false},{"$f":"AND('Ref Score sheet'!$B18 = \"h\",'Ref Score sheet'!$C18 = \"rcr\")","v":false},{"$f":"AND('Ref Score sheet'!$B18 = \"h\",'Ref Score sheet'!$C18 = \"yc\")","v":false},{"$f":"AND('Ref Score sheet'!$B18 = \"h\",'Ref Score sheet'!$C18 = \"2nd yc\")","v":false},null,{"$f":"AND('Ref Score sheet'!B18 = \"\",'Ref Score sheet'!C18 = \"fh-e\")","v":false},"",null,null,{"$f":"AND('Ref Score sheet'!B18=\"a\",'Ref Score sheet'!C18=\"t\")","v":false},{"$f":"AND('Ref Score sheet'!B18=\"a\",'Ref Score sheet'!C18=\"pt\")","v":false},{"$f":"AND('Ref Score sheet'!B18=\"a\",'Ref Score sheet'!C18=\"c\")","v":false},{"$f":"AND('Ref Score sheet'!B18=\"a\",'Ref Score sheet'!C18=\"p\")","v":false},{"$f":"AND('Ref Score sheet'!B18=\"a\",'Ref Score sheet'!C18=\"dg\")","v":false},0,0,0,0,0,0,{"$f":"AT12+AS13","v":0},null,{"$f":"AND('Ref Score sheet'!B18=\"a\",'Ref Score sheet'!C18=\"b-off\")","v":false},{"$f":"AND('Ref Score sheet'!B18=\"a\",'Ref Score sheet'!C18=\"b-on\")","v":false},{"$f":"AND('Ref Score sheet'!B18 = \"a\",'Ref Score sheet'!C18 = \"br-off\")","v":false},{"$f":"AND('Ref Score sheet'!B18 = \"a\",'Ref Score sheet'!C18 = \"br-on\")","v":false},{"$f":"AND('Ref Score sheet'!B18=\"a\",'Ref Score sheet'!C18=\"RI-off\")","v":false},{"$f":"AND('Ref Score sheet'!B18=\"a\",'Ref Score sheet'!C18=\"RI-on\")","v":false},{"$f":"AND('Ref Score sheet'!B18 = \"a\",'Ref Score sheet'!C18 = \"CON - OFF\")","v":false},{"$f":"AND('Ref Score sheet'!B18 = \"a\",'Ref Score sheet'!C18 = \"CON - ON\")","v":false},{"$f":"AND('Ref Score sheet'!B18=\"a\",'Ref Score sheet'!C18=\"RT-on\")","v":false},{"$f":"AND('Ref Score sheet'!B18=\"a\",'Ref Score sheet'!C18=\"RT-off\")","v":false},{"$f":"AND('Ref Score sheet'!$B18 = \"a\",'Ref Score sheet'!$C18 = \"rc\")","v":false},{"$f":"AND('Ref Score sheet'!$B18 = \"a\",'Ref Score sheet'!$C18 = \"rcr\")","v":false},{"$f":"AND('Ref Score sheet'!$B18 = \"a\",'Ref Score sheet'!$C18 = \"yc\")","v":false},{"$f":"AND('Ref Score sheet'!$B18 = \"a\",'Ref Score sheet'!$C18 = \"2nd yc\")","v":false},null,{"$f":"AND('Ref Score sheet'!B18 = \"\",'Ref Score sheet'!C18 = \"fh-e\")","v":false},""]
[null,{"$f":"AND('Ref Score sheet'!B19 = \"h\",'Ref Score sheet'!C19 = \"t\")","v":false},{"$f":"AND('Ref Score sheet'!B19 = \"h\",'Ref Score sheet'!C19 = \"pt\")","v":false},{"$f":"AND('Ref Score sheet'!B19 = \"h\",'Ref Score sheet'!C19 = \"c\")","v":false},{"$f":"AND('Ref Score sheet'!B19 = \"h\",'Ref Score sheet'!C19 = \"p\")","v":false},{"$f":"AND('Ref Score sheet'!B19 = \"h\",'Ref Score sheet'!C19 = \"dg\")","v":false},0,0,0,0,0,0,0,null,null,{"$f":"AND('Ref Score sheet'!B19 = \"h\",'Ref Score sheet'!C19 = \"bl-off\")","v":false},{"$f":"AND('Ref Score sheet'!B19 = \"h\",'Ref Score sheet'!C19 = \"bl-on\")","v":false},{"$f":"AND('Ref Score sheet'!B19 = \"h\",'Ref Score sheet'!C19 = \"blr-off\")","v":false},{"$f":"AND('Ref Score sheet'!B19 = \"h\",'Ref Score sheet'!C19 = \"blr-on\")","v":false},{"$f":"AND('Ref Score sheet'!B19 = \"h\",'Ref Score sheet'!C19 = \"RI-off\")","v":false},{"$f":"AND('Ref Score sheet'!B19 = \"h\",'Ref Score sheet'!C19 = \"RI-on\")","v":false},{"$f":"AND('Ref Score sheet'!B19 = \"h\",'Ref Score sheet'!C19 = \"CON-OFF\")","v":false},{"$f":"AND('Ref Score sheet'!B19 = \"h\",'Ref Score sheet'!C19 = \"CON-ON\")","v":false},{"$f":"AND('Ref Score sheet'!B19 = \"h\",'Ref Score sheet'!C19 = \"RT-on\")","v":false},{"$f":"AND('Ref Score sheet'!B19 = \"h\",'Ref Score sheet'!C19 = \"RT-off\")","v":false},{"$f":"AND('Ref Score sheet'!$B19 = \"h\",'Ref Score sheet'!$C19 = \"rc\")","v":false},{"$f":"AND('Ref Score sheet'!$B19 = \"h\",'Ref Score sheet'!$C19 = \"rcr\")","v":false},{"$f":"AND('Ref Score sheet'!$B19 = \"h\",'Ref Score sheet'!$C19 = \"yc\")","v":false},{"$f":"AND('Ref Score sheet'!$B19 = \"h\",'Ref Score sheet'!$C19 = \"2nd yc\")","v":false},null,{"$f":"AND('Ref Score sheet'!B19 = \"\",'Ref Score sheet'!C19 = \"fh-e\")","v":false},"",null,null,{"$f":"AND('Ref Score sheet'!B19=\"a\",'Ref Score sheet'!C19=\"t\")","v":false},{"$f":"AND('Ref Score sheet'!B19=\"a\",'Ref Score sheet'!C19=\"pt\")","v":false},{"$f":"AND('Ref Score sheet'!B19=\"a\",'Ref Score sheet'!C19=\"c\")","v":false},{"$f":"AND('Ref Score sheet'!B19=\"a\",'Ref Score sheet'!C19=\"p\")","v":false},{"$f":"AND('Ref Score sheet'!B19=\"a\",'Ref Score sheet'!C19=\"dg\")","v":false},0,0,0,0,0,0,0,null,{"$f":"AND('Ref Score sheet'!B19=\"a\",'Ref Score sheet'!C19=\"b-off\")","v":false},{"$f":"AND('Ref Score sheet'!B19=\"a\",'Ref Score sheet'!C19=\"b-on\")","v":false},{"$f":"AND('Ref Score sheet'!B19 = \"a\",'Ref Score sheet'!C19 = \"br-off\")","v":false},{"$f":"AND('Ref Score sheet'!B19 = \"a\",'Ref Score sheet'!C19 = \"br-on\")","v":false},{"$f":"AND('Ref Score sheet'!B19=\"a\",'Ref Score sheet'!C19=\"RI-off\")","v":false},{"$f":"AND('Ref Score sheet'!B19=\"a\",'Ref Score sheet'!C19=\"RI-on\")","v":false},{"$f":"AND('Ref Score sheet'!B19 = \"a\",'Ref Score sheet'!C19 = \"CON - OFF\")","v":false},{"$f":"AND('Ref Score sheet'!B19 = \"a\",'Ref Score sheet'!C19 = \"CON - ON\")","v":false},{"$f":"AND('Ref Score sheet'!B19=\"a\",'Ref Score sheet'!C19=\"RT-on\")","v":false},{"$f":"AND('Ref Score sheet'!B19=\"a\",'Ref Score sheet'!C19=\"RT-off\")","v":false},{"$f":"AND('Ref Score sheet'!$B19 = \"a\",'Ref Score sheet'!$C19 = \"rc\")","v":false},{"$f":"AND('Ref Score sheet'!$B19 = \"a\",'Ref Score sheet'!$C19 = \"rcr\")","v":false},{"$f":"AND('Ref Score sheet'!$B19 = \"a\",'Ref Score sheet'!$C19 = \"yc\")","v":false},{"$f":"AND('Ref Score sheet'!$B19 = \"a\",'Ref Score sheet'!$C19 = \"2nd yc\")","v":false},null,{"$f":"AND('Ref Score sheet'!B19 = \"\",'Ref Score sheet'!C19 = \"fh-e\")","v":false},""]
[null,{"$f":"AND('Ref Score sheet'!B20 = \"h\",'Ref Score sheet'!C20 = \"t\")","v":false},{"$f":"AND('Ref Score sheet'!B20 = \"h\",'Ref Score sheet'!C20 = \"pt\")","v":false},{"$f":"AND('Ref Score sheet'!B20 = \"h\",'Ref Score sheet'!C20 = \"c\")","v":false},{"$f":"AND('Ref Score sheet'!B20 = \"h\",'Ref Score sheet'!C20 = \"p\")","v":false},{"$f":"AND('Ref Score sheet'!B20 = \"h\",'Ref Score sheet'!C20 = \"dg\")","v":false},0,0,0,0,0,0,0,null,null,{"$f":"AND('Ref Score sheet'!B20 = \"h\",'Ref Score sheet'!C20 = \"bl-off\")","v":false},{"$f":"AND('Ref Score sheet'!B20 = \"h\",'Ref Score sheet'!C20 = \"bl-on\")","v":false},{"$f":"AND('Ref Score sheet'!B20 = \"h\",'Ref Score sheet'!C20 = \"blr-off\")","v":false},{"$f":"AND('Ref Score sheet'!B20 = \"h\",'Ref Score sheet'!C20 = \"blr-on\")","v":false},{"$f":"AND('Ref Score sheet'!B20 = \"h\",'Ref Score sheet'!C20 = \"RI-off\")","v":false},{"$f":"AND('Ref Score sheet'!B20 = \"h\",'Ref Score sheet'!C20 = \"RI-on\")","v":false},{"$f":"AND('Ref Score sheet'!B20 = \"h\",'Ref Score sheet'!C20 = \"CON-OFF\")","v":false},{"$f":"AND('Ref Score sheet'!B20 = \"h\",'Ref Score sheet'!C20 = \"CON-ON\")","v":false},{"$f":"AND('Ref Score sheet'!B20 = \"h\",'Ref Score sheet'!C20 = \"RT-on\")","v":false},{"$f":"AND('Ref Score sheet'!B20 = \"h\",'Ref Score sheet'!C20 = \"RT-off\")","v":false},{"$f":"AND('Ref Score sheet'!$B20 = \"h\",'Ref Score sheet'!$C20 = \"rc\")","v":false},{"$f":"AND('Ref Score sheet'!$B20 = \"h\",'Ref Score sheet'!$C20 = \"rcr\")","v":false},{"$f":"AND('Ref Score sheet'!$B20 = \"h\",'Ref Score sheet'!$C20 = \"yc\")","v":false},{"$f":"AND('Ref Score sheet'!$B20 = \"h\",'Ref Score sheet'!$C20 = \"2nd yc\")","v":false},null,{"$f":"AND('Ref Score sheet'!B20 = \"\",'Ref Score sheet'!C20 = \"fh-e\")","v":false},"",null,null,{"$f":"AND('Ref Score sheet'!B20=\"a\",'Ref Score sheet'!C20=\"t\")","v":false},{"$f":"AND('Ref Score sheet'!B20=\"a\",'Ref Score sheet'!C20=\"pt\")","v":false},{"$f":"AND('Ref Score sheet'!B20=\"a\",'Ref Score sheet'!C20=\"c\")","v":false},{"$f":"AND('Ref Score sheet'!B20=\"a\",'Ref Score sheet'!C20=\"p\")","v":false},{"$f":"AND('Ref Score sheet'!B20=\"a\",'Ref Score sheet'!C20=\"dg\")","v":false},0,0,0,0,0,0,0,null,{"$f":"AND('Ref Score sheet'!B20=\"a\",'Ref Score sheet'!C20=\"b-off\")","v":false},{"$f":"AND('Ref Score sheet'!B20=\"a\",'Ref Score sheet'!C20=\"b-on\")","v":false},{"$f":"AND('Ref Score sheet'!B20 = \"a\",'Ref Score sheet'!C20 = \"br-off\")","v":false},{"$f":"AND('Ref Score sheet'!B20 = \"a\",'Ref Score sheet'!C20 = \"br-on\")","v":false},{"$f":"AND('Ref Score sheet'!B20=\"a\",'Ref Score sheet'!C20=\"RI-off\")","v":false},{"$f":"AND('Ref Score sheet'!B20=\"a\",'Ref Score sheet'!C20=\"RI-on\")","v":false},{"$f":"AND('Ref Score sheet'!B20 = \"a\",'Ref Score sheet'!C20 = \"CON - OFF\")","v":false},{"$f":"AND('Ref Score sheet'!B20 = \"a\",'Ref Score sheet'!C20 = \"CON - ON\")","v":false},{"$f":"AND('Ref Score sheet'!B20=\"a\",'Ref Score sheet'!C20=\"RT-on\")","v":false},{"$f":"AND('Ref Score sheet'!B20=\"a\",'Ref Score sheet'!C20=\"RT-off\")","v":false},{"$f":"AND('Ref Score sheet'!$B20 = \"a\",'Ref Score sheet'!$C20 = \"rc\")","v":false},{"$f":"AND('Ref Score sheet'!$B20 = \"a\",'Ref Score sheet'!$C20 = \"rcr\")","v":false},{"$f":"AND('Ref Score sheet'!$B20 = \"a\",'Ref Score sheet'!$C20 = \"yc\")","v":false},{"$f":"AND('Ref Score sheet'!$B20 = \"a\",'Ref Score sheet'!$C20 = \"2nd yc\")","v":false},null,{"$f":"AND('Ref Score sheet'!B20 = \"\",'Ref Score sheet'!C20 = \"fh-e\")","v":false},""]
[null,{"$f":"AND('Ref Score sheet'!B21 = \"h\",'Ref Score sheet'!C21 = \"t\")","v":false},{"$f":"AND('Ref Score sheet'!B21 = \"h\",'Ref Score sheet'!C21 = \"pt\")","v":false},{"$f":"AND('Ref Score sheet'!B21 = \"h\",'Ref Score sheet'!C21 = \"c\")","v":false},{"$f":"AND('Ref Score sheet'!B21 = \"h\",'Ref Score sheet'!C21 = \"p\")","v":false},{"$f":"AND('Ref Score sheet'!B21 = \"h\",'Ref Score sheet'!C21 = \"dg\")","v":false},0,0,0,0,0,0,0,null,null,{"$f":"AND('Ref Score sheet'!B21 = \"h\",'Ref Score sheet'!C21 = \"bl-off\")","v":false},{"$f":"AND('Ref Score sheet'!B21 = \"h\",'Ref Score sheet'!C21 = \"bl-on\")","v":false},{"$f":"AND('Ref Score sheet'!B21 = \"h\",'Ref Score sheet'!C21 = \"blr-off\")","v":false},{"$f":"AND('Ref Score sheet'!B21 = \"h\",'Ref Score sheet'!C21 = \"blr-on\")","v":false},{"$f":"AND('Ref Score sheet'!B21 = \"h\",'Ref Score sheet'!C21 = \"RI-off\")","v":false},{"$f":"AND('Ref Score sheet'!B21 = \"h\",'Ref Score sheet'!C21 = \"RI-on\")","v":false},{"$f":"AND('Ref Score sheet'!B21 = \"h\",'Ref Score sheet'!C21 = \"CON-OFF\")","v":false},{"$f":"AND('Ref Score sheet'!B21 = \"h\",'Ref Score sheet'!C21 = \"CON-ON\")","v":false},{"$f":"AND('Ref Score sheet'!B21 = \"h\",'Ref Score sheet'!C21 = \"RT-on\")","v":false},{"$f":"AND('Ref Score sheet'!B21 = \"h\",'Ref Score sheet'!C21 = \"RT-off\")","v":false},{"$f":"AND('Ref Score sheet'!$B21 = \"h\",'Ref Score sheet'!$C21 = \"rc\")","v":false},{"$f":"AND('Ref Score sheet'!$B21 = \"h\",'Ref Score sheet'!$C21 = \"rcr\")","v":false},{"$f":"AND('Ref Score sheet'!$B21 = \"h\",'Ref Score sheet'!$C21 = \"yc\")","v":false},{"$f":"AND('Ref Score sheet'!$B21 = \"h\",'Ref Score sheet'!$C21 = \"2nd yc\")","v":false},null,{"$f":"AND('Ref Score sheet'!B21 = \"\",'Ref Score sheet'!C21 = \"fh-e\")","v":false},"",null,null,{"$f":"AND('Ref Score sheet'!B21=\"a\",'Ref Score sheet'!C21=\"t\")","v":false},{"$f":"AND('Ref Score sheet'!B21=\"a\",'Ref Score sheet'!C21=\"pt\")","v":false},{"$f":"AND('Ref Score sheet'!B21=\"a\",'Ref Score sheet'!C21=\"c\")","v":false},{"$f":"AND('Ref Score sheet'!B21=\"a\",'Ref Score sheet'!C21=\"p\")","v":false},{"$f":"AND('Ref Score sheet'!B21=\"a\",'Ref Score sheet'!C21=\"dg\")","v":false},0,0,0,0,0,0,0,null,{"$f":"AND('Ref Score sheet'!B21=\"a\",'Ref Score sheet'!C21=\"b-off\")","v":false},{"$f":"AND('Ref Score sheet'!B21=\"a\",'Ref Score sheet'!C21=\"b-on\")","v":false},{"$f":"AND('Ref Score sheet'!B21 = \"a\",'Ref Score sheet'!C21 = \"br-off\")","v":false},{"$f":"AND('Ref Score sheet'!B21 = \"a\",'Ref Score sheet'!C21 = \"br-on\")","v":false},{"$f":"AND('Ref Score sheet'!B21=\"a\",'Ref Score sheet'!C21=\"RI-off\")","v":false},{"$f":"AND('Ref Score sheet'!B21=\"a\",'Ref Score sheet'!C21=\"RI-on\")","v":false},{"$f":"AND('Ref Score sheet'!B21 = \"a\",'Ref Score sheet'!C21 = \"CON - OFF\")","v":false},{"$f":"AND('Ref Score sheet'!B21 = \"a\",'Ref Score sheet'!C21 = \"CON - ON\")","v":false},{"$f":"AND('Ref Score sheet'!B21=\"a\",'Ref Score sheet'!C21=\"RT-on\")","v":false},{"$f":"AND('Ref Score sheet'!B21=\"a\",'Ref Score sheet'!C21=\"RT-off\")","v":false},{"$f":"AND('Ref Score sheet'!$B21 = \"a\",'Ref Score sheet'!$C21 = \"rc\")","v":false},{"$f":"AND('Ref Score sheet'!$B21 = \"a\",'Ref Score sheet'!$C21 = \"rcr\")","v":false},{"$f":"AND('Ref Score sheet'!$B21 = \"a\",'Ref Score sheet'!$C21 = \"yc\")","v":false},{"$f":"AND('Ref Score sheet'!$B21 = \"a\",'Ref Score sheet'!$C21 = \"2nd yc\")","v":false},null,{"$f":"AND('Ref Score sheet'!B21 = \"\",'Ref Score sheet'!C21 = \"fh-e\")","v":false},""]
[null,{"$f":"AND('Ref Score sheet'!B22 = \"h\",'Ref Score sheet'!C22 = \"t\")","v":false},{"$f":"AND('Ref Score sheet'!B22 = \"h\",'Ref Score sheet'!C22 = \"pt\")","v":false},{"$f":"AND('Ref Score sheet'!B22 = \"h\",'Ref Score sheet'!C22 = \"c\")","v":false},{"$f":"AND('Ref Score sheet'!B22 = \"h\",'Ref Score sheet'!C22 = \"p\")","v":false},{"$f":"AND('Ref Score sheet'!B22 = \"h\",'Ref Score sheet'!C22 = \"dg\")","v":false},0,0,0,0,0,0,0,null,null,{"$f":"AND('Ref Score sheet'!B22 = \"h\",'Ref Score sheet'!C22 = \"bl-off\")","v":false},{"$f":"AND('Ref Score sheet'!B22 = \"h\",'Ref Score sheet'!C22 = \"bl-on\")","v":false},{"$f":"AND('Ref Score sheet'!B22 = \"h\",'Ref Score sheet'!C22 = \"blr-off\")","v":false},{"$f":"AND('Ref Score sheet'!B22 = \"h\",'Ref Score sheet'!C22 = \"blr-on\")","v":false},{"$f":"AND('Ref Score sheet'!B22 = \"h\",'Ref Score sheet'!C22 = \"RI-off\")","v":false},{"$f":"AND('Ref Score sheet'!B22 = \"h\",'Ref Score sheet'!C22 = \"RI-on\")","v":false},{"$f":"AND('Ref Score sheet'!B22 = \"h\",'Ref Score sheet'!C22 = \"CON-OFF\")","v":false},{"$f":"AND('Ref Score sheet'!B22 = \"h\",'Ref Score sheet'!C22 = \"CON-ON\")","v":false},{"$f":"AND('Ref Score sheet'!B22 = \"h\",'Ref Score sheet'!C22 = \"RT-on\")","v":false},{"$f":"AND('Ref Score sheet'!B22 = \"h\",'Ref Score sheet'!C22 = \"RT-off\")","v":false},{"$f":"AND('Ref Score sheet'!$B22 = \"h\",'Ref Score sheet'!$C22 = \"rc\")","v":false},{"$f":"AND('Ref Score sheet'!$B22 = \"h\",'Ref Score sheet'!$C22 = \"rcr\")","v":false},{"$f":"AND('Ref Score sheet'!$B22 = \"h\",'Ref Score sheet'!$C22 = \"yc\")","v":false},{"$f":"AND('Ref Score sheet'!$B22 = \"h\",'Ref Score sheet'!$C22 = \"2nd yc\")","v":false},null,{"$f":"AND('Ref Score sheet'!B22 = \"\",'Ref Score sheet'!C22 = \"fh-e\")","v":false},"",null,null,{"$f":"AND('Ref Score sheet'!B22=\"a\",'Ref Score sheet'!C22=\"t\")","v":false},{"$f":"AND('Ref Score sheet'!B22=\"a\",'Ref Score sheet'!C22=\"pt\")","v":false},{"$f":"AND('Ref Score sheet'!B22=\"a\",'Ref Score sheet'!C22=\"c\")","v":false},{"$f":"AND('Ref Score sheet'!B22=\"a\",'Ref Score sheet'!C22=\"p\")","v":false},{"$f":"AND('Ref Score sheet'!B22=\"a\",'Ref Score sheet'!C22=\"dg\")","v":false},0,0,0,0,0,0,0,null,{"$f":"AND('Ref Score sheet'!B22=\"a\",'Ref Score sheet'!C22=\"b-off\")","v":false},{"$f":"AND('Ref Score sheet'!B22=\"a\",'Ref Score sheet'!C22=\"b-on\")","v":false},{"$f":"AND('Ref Score sheet'!B22 = \"a\",'Ref Score sheet'!C22 = \"br-off\")","v":false},{"$f":"AND('Ref Score sheet'!B22 = \"a\",'Ref Score sheet'!C22 = \"br-on\")","v":false},{"$f":"AND('Ref Score sheet'!B22=\"a\",'Ref Score sheet'!C22=\"RI-off\")","v":false},{"$f":"AND('Ref Score sheet'!B22=\"a\",'Ref Score sheet'!C22=\"RI-on\")","v":false},{"$f":"AND('Ref Score sheet'!B22 = \"a\",'Ref Score sheet'!C22 = \"CON - OFF\")","v":false},{"$f":"AND('Ref Score sheet'!B22 = \"a\",'Ref Score sheet'!C22 = \"CON - ON\")","v":false},{"$f":"AND('Ref Score sheet'!B22=\"a\",'Ref Score sheet'!C22=\"RT-on\")","v":false},{"$f":"AND('Ref Score sheet'!B22=\"a\",'Ref Score sheet'!C22=\"RT-off\")","v":false},{"$f":"AND('Ref Score sheet'!$B22 = \"a\",'Ref Score sheet'!$C22 = \"rc\")","v":false},{"$f":"AND('Ref Score sheet'!$B22 = \"a\",'Ref Score sheet'!$C22 = \"rcr\")","v":false},{"$f":"AND('Ref Score sheet'!$B22 = \"a\",'Ref Score sheet'!$C22 = \"yc\")","v":false},{"$f":"AND('Ref Score sheet'!$B22 = \"a\",'Ref Score sheet'!$C22 = \"2nd yc\")","v":false},null,{"$f":"AND('Ref Score sheet'!B22 = \"\",'Ref Score sheet'!C22 = \"fh-e\")","v":false},""]
[null,{"$f":"AND('Ref Score sheet'!B23 = \"h\",'Ref Score sheet'!C23 = \"t\")","v":false},{"$f":"AND('Ref Score sheet'!B23 = \"h\",'Ref Score sheet'!C23 = \"pt\")","v":false},{"$f":"AND('Ref Score sheet'!B23 = \"h\",'Ref Score sheet'!C23 = \"c\")","v":false},{"$f":"AND('Ref Score sheet'!B23 = \"h\",'Ref Score sheet'!C23 = \"p\")","v":false},{"$f":"AND('Ref Score sheet'!B23 = \"h\",'Ref Score sheet'!C23 = \"dg\")","v":false},0,0,0,0,0,0,0,null,null,{"$f":"AND('Ref Score sheet'!B23 = \"h\",'Ref Score sheet'!C23 = \"bl-off\")","v":false},{"$f":"AND('Ref Score sheet'!B23 = \"h\",'Ref Score sheet'!C23 = \"bl-on\")","v":false},{"$f":"AND('Ref Score sheet'!B23 = \"h\",'Ref Score sheet'!C23 = \"blr-off\")","v":false},{"$f":"AND('Ref Score sheet'!B23 = \"h\",'Ref Score sheet'!C23 = \"blr-on\")","v":false},{"$f":"AND('Ref Score sheet'!B23 = \"h\",'Ref Score sheet'!C23 = \"RI-off\")","v":false},{"$f":"AND('Ref Score sheet'!B23 = \"h\",'Ref Score sheet'!C23 = \"RI-on\")","v":false},{"$f":"AND('Ref Score sheet'!B23 = \"h\",'Ref Score sheet'!C23 = \"CON-OFF\")","v":false},{"$f":"AND('Ref Score sheet'!B23 = \"h\",'Ref Score sheet'!C23 = \"CON-ON\")","v":false},{"$f":"AND('Ref Score sheet'!B23 = \"h\",'Ref Score sheet'!C23 = \"RT-on\")","v":false},{"$f":"AND('Ref Score sheet'!B23 = \"h\",'Ref Score sheet'!C23 = \"RT-off\")","v":false},{"$f":"AND('Ref Score sheet'!$B23 = \"h\",'Ref Score sheet'!$C23 = \"rc\")","v":false},{"$f":"AND('Ref Score sheet'!$B23 = \"h\",'Ref Score sheet'!$C23 = \"rcr\")","v":false},{"$f":"AND('Ref Score sheet'!$B23 = \"h\",'Ref Score sheet'!$C23 = \"yc\")","v":false},{"$f":"AND('Ref Score sheet'!$B23 = \"h\",'Ref Score sheet'!$C23 = \"2nd yc\")","v":false},null,{"$f":"AND('Ref Score sheet'!B23 = \"\",'Ref Score sheet'!C23 = \"fh-e\")","v":false},"",null,null,{"$f":"AND('Ref Score sheet'!B23=\"a\",'Ref Score sheet'!C23=\"t\")","v":false},{"$f":"AND('Ref Score sheet'!B23=\"a\",'Ref Score sheet'!C23=\"pt\")","v":false},{"$f":"AND('Ref Score sheet'!B23=\"a\",'Ref Score sheet'!C23=\"c\")","v":false},{"$f":"AND('Ref Score sheet'!B23=\"a\",'Ref Score sheet'!C23=\"p\")","v":false},{"$f":"AND('Ref Score sheet'!B23=\"a\",'Ref Score sheet'!C23=\"dg\")","v":false},0,0,0,0,0,0,0,null,{"$f":"AND('Ref Score sheet'!B23=\"a\",'Ref Score sheet'!C23=\"b-off\")","v":false},{"$f":"AND('Ref Score sheet'!B23=\"a\",'Ref Score sheet'!C23=\"b-on\")","v":false},{"$f":"AND('Ref Score sheet'!B23 = \"a\",'Ref Score sheet'!C23 = \"br-off\")","v":false},{"$f":"AND('Ref Score sheet'!B23 = \"a\",'Ref Score sheet'!C23 = \"br-on\")","v":false},{"$f":"AND('Ref Score sheet'!B23=\"a\",'Ref Score sheet'!C23=\"RI-off\")","v":false},{"$f":"AND('Ref Score sheet'!B23=\"a\",'Ref Score sheet'!C23=\"RI-on\")","v":false},{"$f":"AND('Ref Score sheet'!B23 = \"a\",'Ref Score sheet'!C23 = \"CON - OFF\")","v":false},{"$f":"AND('Ref Score sheet'!B23 = \"a\",'Ref Score sheet'!C23 = \"CON - ON\")","v":false},{"$f":"AND('Ref Score sheet'!B23=\"a\",'Ref Score sheet'!C23=\"RT-on\")","v":false},{"$f":"AND('Ref Score sheet'!B23=\"a\",'Ref Score sheet'!C23=\"RT-off\")","v":false},{"$f":"AND('Ref Score sheet'!$B23 = \"a\",'Ref Score sheet'!$C23 = \"rc\")","v":false},{"$f":"AND('Ref Score sheet'!$B23 = \"a\",'Ref Score sheet'!$C23 = \"rcr\")","v":false},{"$f":"AND('Ref Score sheet'!$B23 = \"a\",'Ref Score sheet'!$C23 = \"yc\")","v":false},{"$f":"AND('Ref Score sheet'!$B23 = \"a\",'Ref Score sheet'!$C23 = \"2nd yc\")","v":false},null,{"$f":"AND('Ref Score sheet'!B23 = \"\",'Ref Score sheet'!C23 = \"fh-e\")","v":false},""]
[null,{"$f":"AND('Ref Score sheet'!B24 = \"h\",'Ref Score sheet'!C24 = \"t\")","v":false},{"$f":"AND('Ref Score sheet'!B24 = \"h\",'Ref Score sheet'!C24 = \"pt\")","v":false},{"$f":"AND('Ref Score sheet'!B24 = \"h\",'Ref Score sheet'!C24 = \"c\")","v":false},{"$f":"AND('Ref Score sheet'!B24 = \"h\",'Ref Score sheet'!C24 = \"p\")","v":false},{"$f":"AND('Ref Score sheet'!B24 = \"h\",'Ref Score sheet'!C24 = \"dg\")","v":false},0,0,0,0,0,0,0,null,null,{"$f":"AND('Ref Score sheet'!B24 = \"h\",'Ref Score sheet'!C24 = \"bl-off\")","v":false},{"$f":"AND('Ref Score sheet'!B24 = \"h\",'Ref Score sheet'!C24 = \"bl-on\")","v":false},{"$f":"AND('Ref Score sheet'!B24 = \"h\",'Ref Score sheet'!C24 = \"blr-off\")","v":false},{"$f":"AND('Ref Score sheet'!B24 = \"h\",'Ref Score sheet'!C24 = \"blr-on\")","v":false},{"$f":"AND('Ref Score sheet'!B24 = \"h\",'Ref Score sheet'!C24 = \"RI-off\")","v":false},{"$f":"AND('Ref Score sheet'!B24 = \"h\",'Ref Score sheet'!C24 = \"RI-on\")","v":false},{"$f":"AND('Ref Score sheet'!B24 = \"h\",'Ref Score sheet'!C24 = \"CON-OFF\")","v":false},{"$f":"AND('Ref Score sheet'!B24 = \"h\",'Ref Score sheet'!C24 = \"CON-ON\")","v":false},{"$f":"AND('Ref Score sheet'!B24 = \"h\",'Ref Score sheet'!C24 = \"RT-on\")","v":false},{"$f":"AND('Ref Score sheet'!B24 = \"h\",'Ref Score sheet'!C24 = \"RT-off\")","v":false},{"$f":"AND('Ref Score sheet'!$B24 = \"h\",'Ref Score sheet'!$C24 = \"rc\")","v":false},{"$f":"AND('Ref Score sheet'!$B24 = \"h\",'Ref Score sheet'!$C24 = \"rcr\")","v":false},{"$f":"AND('Ref Score sheet'!$B24 = \"h\",'Ref Score sheet'!$C24 = \"yc\")","v":false},{"$f":"AND('Ref Score sheet'!$B24 = \"h\",'Ref Score sheet'!$C24 = \"2nd yc\")","v":false},null,{"$f":"AND('Ref Score sheet'!B24 = \"\",'Ref Score sheet'!C24 = \"fh-e\")","v":false},"",null,null,{"$f":"AND('Ref Score sheet'!B24=\"a\",'Ref Score sheet'!C24=\"t\")","v":false},{"$f":"AND('Ref Score sheet'!B24=\"a\",'Ref Score sheet'!C24=\"pt\")","v":false},{"$f":"AND('Ref Score sheet'!B24=\"a\",'Ref Score sheet'!C24=\"c\")","v":false},{"$f":"AND('Ref Score sheet'!B24=\"a\",'Ref Score sheet'!C24=\"p\")","v":false},{"$f":"AND('Ref Score sheet'!B24=\"a\",'Ref Score sheet'!C24=\"dg\")","v":false},0,0,0,0,0,0,0,null,{"$f":"AND('Ref Score sheet'!B24=\"a\",'Ref Score sheet'!C24=\"b-off\")","v":false},{"$f":"AND('Ref Score sheet'!B24=\"a\",'Ref Score sheet'!C24=\"b-on\")","v":false},{"$f":"AND('Ref Score sheet'!B24 = \"a\",'Ref Score sheet'!C24 = \"br-off\")","v":false},{"$f":"AND('Ref Score sheet'!B24 = \"a\",'Ref Score sheet'!C24 = \"br-on\")","v":false},{"$f":"AND('Ref Score sheet'!B24=\"a\",'Ref Score sheet'!C24=\"RI-off\")","v":false},{"$f":"AND('Ref Score sheet'!B24=\"a\",'Ref Score sheet'!C24=\"RI-on\")","v":false},{"$f":"AND('Ref Score sheet'!B24 = \"a\",'Ref Score sheet'!C24 = \"CON - OFF\")","v":false},{"$f":"AND('Ref Score sheet'!B24 = \"a\",'Ref Score sheet'!C24 = \"CON - ON\")","v":false},{"$f":"AND('Ref Score sheet'!B24=\"a\",'Ref Score sheet'!C24=\"RT-on\")","v":false},{"$f":"AND('Ref Score sheet'!B24=\"a\",'Ref Score sheet'!C24=\"RT-off\")","v":false},{"$f":"AND('Ref Score sheet'!$B24 = \"a\",'Ref Score sheet'!$C24 = \"rc\")","v":false},{"$f":"AND('Ref Score sheet'!$B24 = \"a\",'Ref Score sheet'!$C24 = \"rcr\")","v":false},{"$f":"AND('Ref Score sheet'!$B24 = \"a\",'Ref Score sheet'!$C24 = \"yc\")","v":false},{"$f":"AND('Ref Score sheet'!$B24 = \"a\",'Ref Score sheet'!$C24 = \"2nd yc\")","v":false},null,{"$f":"AND('Ref Score sheet'!B24 = \"\",'Ref Score sheet'!C24 = \"fh-e\")","v":false},""]
[null,{"$f":"AND('Ref Score sheet'!B25 = \"h\",'Ref Score sheet'!C25 = \"t\")","v":false},{"$f":"AND('Ref Score sheet'!B25 = \"h\",'Ref Score sheet'!C25 = \"pt\")","v":false},{"$f":"AND('Ref Score sheet'!B25 = \"h\",'Ref Score sheet'!C25 = \"c\")","v":false},{"$f":"AND('Ref Score sheet'!B25 = \"h\",'Ref Score sheet'!C25 = \"p\")","v":false},{"$f":"AND('Ref Score sheet'!B25 = \"h\",'Ref Score sheet'!C25 = \"dg\")","v":false},0,0,0,0,0,0,0,null,null,{"$f":"AND('Ref Score sheet'!B25 = \"h\",'Ref Score sheet'!C25 = \"bl-off\")","v":false},{"$f":"AND('Ref Score sheet'!B25 = \"h\",'Ref Score sheet'!C25 = \"bl-on\")","v":false},{"$f":"AND('Ref Score sheet'!B25 = \"h\",'Ref Score sheet'!C25 = \"blr-off\")","v":false},{"$f":"AND('Ref Score sheet'!B25 = \"h\",'Ref Score sheet'!C25 = \"blr-on\")","v":false},{"$f":"AND('Ref Score sheet'!B25 = \"h\",'Ref Score sheet'!C25 = \"RI-off\")","v":false},{"$f":"AND('Ref Score sheet'!B25 = \"h\",'Ref Score sheet'!C25 = \"RI-on\")","v":false},{"$f":"AND('Ref Score sheet'!B25 = \"h\",'Ref Score sheet'!C25 = \"CON-OFF\")","v":false},{"$f":"AND('Ref Score sheet'!B25 = \"h\",'Ref Score sheet'!C25 = \"CON-ON\")","v":false},{"$f":"AND('Ref Score sheet'!B25 = \"h\",'Ref Score sheet'!C25 = \"RT-on\")","v":false},{"$f":"AND('Ref Score sheet'!B25 = \"h\",'Ref Score sheet'!C25 = \"RT-off\")","v":false},{"$f":"AND('Ref Score sheet'!$B25 = \"h\",'Ref Score sheet'!$C25 = \"rc\")","v":false},{"$f":"AND('Ref Score sheet'!$B25 = \"h\",'Ref Score sheet'!$C25 = \"rcr\")","v":false},{"$f":"AND('Ref Score sheet'!$B25 = \"h\",'Ref Score sheet'!$C25 = \"yc\")","v":false},{"$f":"AND('Ref Score sheet'!$B25 = \"h\",'Ref Score sheet'!$C25 = \"2nd yc\")","v":false},null,{"$f":"AND('Ref Score sheet'!B25 = \"\",'Ref Score sheet'!C25 = \"fh-e\")","v":false},"",null,null,{"$f":"AND('Ref Score sheet'!B25=\"a\",'Ref Score sheet'!C25=\"t\")","v":false},{"$f":"AND('Ref Score sheet'!B25=\"a\",'Ref Score sheet'!C25=\"pt\")","v":false},{"$f":"AND('Ref Score sheet'!B25=\"a\",'Ref Score sheet'!C25=\"c\")","v":false},{"$f":"AND('Ref Score sheet'!B25=\"a\",'Ref Score sheet'!C25=\"p\")","v":false},{"$f":"AND('Ref Score sheet'!B25=\"a\",'Ref Score sheet'!C25=\"dg\")","v":false},0,0,0,0,0,0,0,null,{"$f":"AND('Ref Score sheet'!B25=\"a\",'Ref Score sheet'!C25=\"b-off\")","v":false},{"$f":"AND('Ref Score sheet'!B25=\"a\",'Ref Score sheet'!C25=\"b-on\")","v":false},{"$f":"AND('Ref Score sheet'!B25 = \"a\",'Ref Score sheet'!C25 = \"br-off\")","v":false},{"$f":"AND('Ref Score sheet'!B25 = \"a\",'Ref Score sheet'!C25 = \"br-on\")","v":false},{"$f":"AND('Ref Score sheet'!B25=\"a\",'Ref Score sheet'!C25=\"RI-off\")","v":false},{"$f":"AND('Ref Score sheet'!B25=\"a\",'Ref Score sheet'!C25=\"RI-on\")","v":false},{"$f":"AND('Ref Score sheet'!B25 = \"a\",'Ref Score sheet'!C25 = \"CON - OFF\")","v":false},{"$f":"AND('Ref Score sheet'!B25 = \"a\",'Ref Score sheet'!C25 = \"CON - ON\")","v":false},{"$f":"AND('Ref Score sheet'!B25=\"a\",'Ref Score sheet'!C25=\"RT-on\")","v":false},{"$f":"AND('Ref Score sheet'!B25=\"a\",'Ref Score sheet'!C25=\"RT-off\")","v":false},{"$f":"AND('Ref Score sheet'!$B25 = \"a\",'Ref Score sheet'!$C25 = \"rc\")","v":false},{"$f":"AND('Ref Score sheet'!$B25 = \"a\",'Ref Score sheet'!$C25 = \"rcr\")","v":false},{"$f":"AND('Ref Score sheet'!$B25 = \"a\",'Ref Score sheet'!$C25 = \"yc\")","v":false},{"$f":"AND('Ref Score sheet'!$B25 = \"a\",'Ref Score sheet'!$C25 = \"2nd yc\")","v":false},null,{"$f":"AND('Ref Score sheet'!B25 = \"\",'Ref Score sheet'!C25 = \"fh-e\")","v":false},""]
[null,{"$f":"AND('Ref Score sheet'!B26 = \"h\",'Ref Score sheet'!C26 = \"t\")","v":false},{"$f":"AND('Ref Score sheet'!B26 = \"h\",'Ref Score sheet'!C26 = \"pt\")","v":false},{"$f":"AND('Ref Score sheet'!B26 = \"h\",'Ref Score sheet'!C26 = \"c\")","v":false},{"$f":"AND('Ref Score sheet'!B26 = \"h\",'Ref Score sheet'!C26 = \"p\")","v":false},{"$f":"AND('Ref Score sheet'!B26 = \"h\",'Ref Score sheet'!C26 = \"dg\")","v":false},0,0,0,0,0,0,0,null,null,{"$f":"AND('Ref Score sheet'!B26 = \"h\",'Ref Score sheet'!C26 = \"bl-off\")","v":false},{"$f":"AND('Ref Score sheet'!B26 = \"h\",'Ref Score sheet'!C26 = \"bl-on\")","v":false},{"$f":"AND('Ref Score sheet'!B26 = \"h\",'Ref Score sheet'!C26 = \"blr-off\")","v":false},{"$f":"AND('Ref Score sheet'!B26 = \"h\",'Ref Score sheet'!C26 = \"blr-on\")","v":false},{"$f":"AND('Ref Score sheet'!B26 = \"h\",'Ref Score sheet'!C26 = \"RI-off\")","v":false},{"$f":"AND('Ref Score sheet'!B26 = \"h\",'Ref Score sheet'!C26 = \"RI-on\")","v":false},{"$f":"AND('Ref Score sheet'!B26 = \"h\",'Ref Score sheet'!C26 = \"CON-OFF\")","v":false},{"$f":"AND('Ref Score sheet'!B26 = \"h\",'Ref Score sheet'!C26 = \"CON-ON\")","v":false},{"$f":"AND('Ref Score sheet'!B26 = \"h\",'Ref Score sheet'!C26 = \"RT-on\")","v":false},{"$f":"AND('Ref Score sheet'!B26 = \"h\",'Ref Score sheet'!C26 = \"RT-off\")","v":false},{"$f":"AND('Ref Score sheet'!$B26 = \"h\",'Ref Score sheet'!$C26 = \"rc\")","v":false},{"$f":"AND('Ref Score sheet'!$B26 = \"h\",'Ref Score sheet'!$C26 = \"rcr\")","v":false},{"$f":"AND('Ref Score sheet'!$B26 = \"h\",'Ref Score sheet'!$C26 = \"yc\")","v":false},{"$f":"AND('Ref Score sheet'!$B26 = \"h\",'Ref Score sheet'!$C26 = \"2nd yc\")","v":false},null,{"$f":"AND('Ref Score sheet'!B26 = \"\",'Ref Score sheet'!C26 = \"fh-e\")","v":false},"",null,null,{"$f":"AND('Ref Score sheet'!B26=\"a\",'Ref Score sheet'!C26=\"t\")","v":false},{"$f":"AND('Ref Score sheet'!B26=\"a\",'Ref Score sheet'!C26=\"pt\")","v":false},{"$f":"AND('Ref Score sheet'!B26=\"a\",'Ref Score sheet'!C26=\"c\")","v":false},{"$f":"AND('Ref Score sheet'!B26=\"a\",'Ref Score sheet'!C26=\"p\")","v":false},{"$f":"AND('Ref Score sheet'!B26=\"a\",'Ref Score sheet'!C26=\"dg\")","v":false},0,0,0,0,0,0,0,null,{"$f":"AND('Ref Score sheet'!B26=\"a\",'Ref Score sheet'!C26=\"b-off\")","v":false},{"$f":"AND('Ref Score sheet'!B26=\"a\",'Ref Score sheet'!C26=\"b-on\")","v":false},{"$f":"AND('Ref Score sheet'!B26 = \"a\",'Ref Score sheet'!C26 = \"br-off\")","v":false},{"$f":"AND('Ref Score sheet'!B26 = \"a\",'Ref Score sheet'!C26 = \"br-on\")","v":false},{"$f":"AND('Ref Score sheet'!B26=\"a\",'Ref Score sheet'!C26=\"RI-off\")","v":false},{"$f":"AND('Ref Score sheet'!B26=\"a\",'Ref Score sheet'!C26=\"RI-on\")","v":false},{"$f":"AND('Ref Score sheet'!B26 = \"a\",'Ref Score sheet'!C26 = \"CON - OFF\")","v":false},{"$f":"AND('Ref Score sheet'!B26 = \"a\",'Ref Score sheet'!C26 = \"CON - ON\")","v":false},{"$f":"AND('Ref Score sheet'!B26=\"a\",'Ref Score sheet'!C26=\"RT-on\")","v":false},{"$f":"AND('Ref Score sheet'!B26=\"a\",'Ref Score sheet'!C26=\"RT-off\")","v":false},{"$f":"AND('Ref Score sheet'!$B26 = \"a\",'Ref Score sheet'!$C26 = \"rc\")","v":false},{"$f":"AND('Ref Score sheet'!$B26 = \"a\",'Ref Score sheet'!$C26 = \"rcr\")","v":false},{"$f":"AND('Ref Score sheet'!$B26 = \"a\",'Ref Score sheet'!$C26 = \"yc\")","v":false},{"$f":"AND('Ref Score sheet'!$B26 = \"a\",'Ref Score sheet'!$C26 = \"2nd yc\")","v":false},null,{"$f":"AND('Ref Score sheet'!B26 = \"\",'Ref Score sheet'!C26 = \"fh-e\")","v":false},""]
[null,{"$f":"AND('Ref Score sheet'!B27 = \"h\",'Ref Score sheet'!C27 = \"t\")","v":false},{"$f":"AND('Ref Score sheet'!B27 = \"h\",'Ref Score sheet'!C27 = \"pt\")","v":false},{"$f":"AND('Ref Score sheet'!B27 = \"h\",'Ref Score sheet'!C27 = \"c\")","v":false},{"$f":"AND('Ref Score sheet'!B27 = \"h\",'Ref Score sheet'!C27 = \"p\")","v":false},{"$f":"AND('Ref Score sheet'!B27 = \"h\",'Ref Score sheet'!C27 = \"dg\")","v":false},0,0,0,0,0,0,0,null,null,{"$f":"AND('Ref Score sheet'!B27 = \"h\",'Ref Score sheet'!C27 = \"bl-off\")","v":false},{"$f":"AND('Ref Score sheet'!B27 = \"h\",'Ref Score sheet'!C27 = \"bl-on\")","v":false},{"$f":"AND('Ref Score sheet'!B27 = \"h\",'Ref Score sheet'!C27 = \"blr-off\")","v":false},{"$f":"AND('Ref Score sheet'!B27 = \"h\",'Ref Score sheet'!C27 = \"blr-on\")","v":false},{"$f":"AND('Ref Score sheet'!B27 = \"h\",'Ref Score sheet'!C27 = \"RI-off\")","v":false},{"$f":"AND('Ref Score sheet'!B27 = \"h\",'Ref Score sheet'!C27 = \"RI-on\")","v":false},{"$f":"AND('Ref Score sheet'!B27 = \"h\",'Ref Score sheet'!C27 = \"CON-OFF\")","v":false},{"$f":"AND('Ref Score sheet'!B27 = \"h\",'Ref Score sheet'!C27 = \"CON-ON\")","v":false},{"$f":"AND('Ref Score sheet'!B27 = \"h\",'Ref Score sheet'!C27 = \"RT-on\")","v":false},{"$f":"AND('Ref Score sheet'!B27 = \"h\",'Ref Score sheet'!C27 = \"RT-off\")","v":false},{"$f":"AND('Ref Score sheet'!$B27 = \"h\",'Ref Score sheet'!$C27 = \"rc\")","v":false},{"$f":"AND('Ref Score sheet'!$B27 = \"h\",'Ref Score sheet'!$C27 = \"rcr\")","v":false},{"$f":"AND('Ref Score sheet'!$B27 = \"h\",'Ref Score sheet'!$C27 = \"yc\")","v":false},{"$f":"AND('Ref Score sheet'!$B27 = \"h\",'Ref Score sheet'!$C27 = \"2nd yc\")","v":false},null,{"$f":"AND('Ref Score sheet'!B27 = \"\",'Ref Score sheet'!C27 = \"fh-e\")","v":false},"",null,null,{"$f":"AND('Ref Score sheet'!B27=\"a\",'Ref Score sheet'!C27=\"t\")","v":false},{"$f":"AND('Ref Score sheet'!B27=\"a\",'Ref Score sheet'!C27=\"pt\")","v":false},{"$f":"AND('Ref Score sheet'!B27=\"a\",'Ref Score sheet'!C27=\"c\")","v":false},{"$f":"AND('Ref Score sheet'!B27=\"a\",'Ref Score sheet'!C27=\"p\")","v":false},{"$f":"AND('Ref Score sheet'!B27=\"a\",'Ref Score sheet'!C27=\"dg\")","v":false},0,0,0,0,0,0,0,null,{"$f":"AND('Ref Score sheet'!B27=\"a\",'Ref Score sheet'!C27=\"bl-off\")","v":false},{"$f":"AND('Ref Score sheet'!B27=\"a\",'Ref Score sheet'!C27=\"bl-on\")","v":false},{"$f":"AND('Ref Score sheet'!B27 = \"a\",'Ref Score sheet'!C27 = \"blr-off\")","v":false},{"$f":"AND('Ref Score sheet'!B27 = \"a\",'Ref Score sheet'!C27 = \"blr-on\")","v":false},{"$f":"AND('Ref Score sheet'!B27=\"a\",'Ref Score sheet'!C27=\"RI-off\")","v":false},{"$f":"AND('Ref Score sheet'!B27=\"a\",'Ref Score sheet'!C27=\"RI-on\")","v":false},{"$f":"AND('Ref Score sheet'!B27 = \"a\",'Ref Score sheet'!C27 = \"CON - OFF\")","v":false},{"$f":"AND('Ref Score sheet'!B27 = \"a\",'Ref Score sheet'!C27 = \"CON - ON\")","v":false},{"$f":"AND('Ref Score sheet'!B27=\"a\",'Ref Score sheet'!C27=\"RT-on\")","v":false},{"$f":"AND('Ref Score sheet'!B27=\"a\",'Ref Score sheet'!C27=\"RT-off\")","v":false},{"$f":"AND('Ref Score sheet'!$B27 = \"a\",'Ref Score sheet'!$C27 = \"rc\")","v":false},{"$f":"AND('Ref Score sheet'!$B27 = \"a\",'Ref Score sheet'!$C27 = \"rcr\")","v":false},{"$f":"AND('Ref Score sheet'!$B27 = \"a\",'Ref Score sheet'!$C27 = \"yc\")","v":false},{"$f":"AND('Ref Score sheet'!$B27 = \"a\",'Ref Score sheet'!$C27 = \"2nd yc\")","v":false},null,{"$f":"AND('Ref Score sheet'!B27 = \"\",'Ref Score sheet'!C27 = \"fh-e\")","v":false},""]
[null,{"$f":"AND('Ref Score sheet'!B28 = \"h\",'Ref Score sheet'!C28 = \"t\")","v":false},{"$f":"AND('Ref Score sheet'!B28 = \"h\",'Ref Score sheet'!C28 = \"pt\")","v":false},{"$f":"AND('Ref Score sheet'!B28 = \"h\",'Ref Score sheet'!C28 = \"c\")","v":false},{"$f":"AND('Ref Score sheet'!B28 = \"h\",'Ref Score sheet'!C28 = \"p\")","v":false},{"$f":"AND('Ref Score sheet'!B28 = \"h\",'Ref Score sheet'!C28 = \"dg\")","v":false},0,0,0,0,0,0,0,null,null,{"$f":"AND('Ref Score sheet'!B28 = \"h\",'Ref Score sheet'!C28 = \"bl-off\")","v":false},{"$f":"AND('Ref Score sheet'!B28 = \"h\",'Ref Score sheet'!C28 = \"bl-on\")","v":false},{"$f":"AND('Ref Score sheet'!B28 = \"h\",'Ref Score sheet'!C28 = \"blr-off\")","v":false},{"$f":"AND('Ref Score sheet'!B28 = \"h\",'Ref Score sheet'!C28 = \"blr-on\")","v":false},{"$f":"AND('Ref Score sheet'!B28 = \"h\",'Ref Score sheet'!C28 = \"RI-off\")","v":false},{"$f":"AND('Ref Score sheet'!B28 = \"h\",'Ref Score sheet'!C28 = \"RI-on\")","v":false},{"$f":"AND('Ref Score sheet'!B28 = \"h\",'Ref Score sheet'!C28 = \"CON-OFF\")","v":false},{"$f":"AND('Ref Score sheet'!B28 = \"h\",'Ref Score sheet'!C28 = \"CON-ON\")","v":false},{"$f":"AND('Ref Score sheet'!B28 = \"h\",'Ref Score sheet'!C28 = \"RT-on\")","v":false},{"$f":"AND('Ref Score sheet'!B28 = \"h\",'Ref Score sheet'!C28 = \"RT-off\")","v":false},{"$f":"AND('Ref Score sheet'!$B28 = \"h\",'Ref Score sheet'!$C28 = \"rc\")","v":false},{"$f":"AND('Ref Score sheet'!$B28 = \"h\",'Ref Score sheet'!$C28 = \"rcr\")","v":false},{"$f":"AND('Ref Score sheet'!$B28 = \"h\",'Ref Score sheet'!$C28 = \"yc\")","v":false},{"$f":"AND('Ref Score sheet'!$B28 = \"h\",'Ref Score sheet'!$C28 = \"2nd yc\")","v":false},null,{"$f":"AND('Ref Score sheet'!B28 = \"\",'Ref Score sheet'!C28 = \"fh-e\")","v":false},"",null,null,{"$f":"AND('Ref Score sheet'!B28=\"a\",'Ref Score sheet'!C28=\"t\")","v":false},{"$f":"AND('Ref Score sheet'!B28=\"a\",'Ref Score sheet'!C28=\"pt\")","v":false},{"$f":"AND('Ref Score sheet'!B28=\"a\",'Ref Score sheet'!C28=\"c\")","v":false},{"$f":"AND('Ref Score sheet'!B28=\"a\",'Ref Score sheet'!C28=\"p\")","v":false},{"$f":"AND('Ref Score sheet'!B28=\"a\",'Ref Score sheet'!C28=\"dg\")","v":false},0,0,0,0,0,0,0,null,{"$f":"AND('Ref Score sheet'!B28=\"a\",'Ref Score sheet'!C28=\"bl-off\")","v":false},{"$f":"AND('Ref Score sheet'!B28=\"a\",'Ref Score sheet'!C28=\"bl-on\")","v":false},{"$f":"AND('Ref Score sheet'!B28 = \"a\",'Ref Score sheet'!C28 = \"blr-off\")","v":false},{"$f":"AND('Ref Score sheet'!B28 = \"a\",'Ref Score sheet'!C28 = \"blr-on\")","v":false},{"$f":"AND('Ref Score sheet'!B28=\"a\",'Ref Score sheet'!C28=\"RI-off\")","v":false},{"$f":"AND('Ref Score sheet'!B28=\"a\",'Ref Score sheet'!C28=\"RI-on\")","v":false},{"$f":"AND('Ref Score sheet'!B28 = \"a\",'Ref Score sheet'!C28 = \"CON - OFF\")","v":false},{"$f":"AND('Ref Score sheet'!B28 = \"a\",'Ref Score sheet'!C28 = \"CON - ON\")","v":false},{"$f":"AND('Ref Score sheet'!B28=\"a\",'Ref Score sheet'!C28=\"RT-on\")","v":false},{"$f":"AND('Ref Score sheet'!B28=\"a\",'Ref Score sheet'!C28=\"RT-off\")","v":false},{"$f":"AND('Ref Score sheet'!$B28 = \"a\",'Ref Score sheet'!$C28 = \"rc\")","v":false},{"$f":"AND('Ref Score sheet'!$B28 = \"a\",'Ref Score sheet'!$C28 = \"rcr\")","v":false},{"$f":"AND('Ref Score sheet'!$B28 = \"a\",'Ref Score sheet'!$C28 = \"yc\")","v":false},{"$f":"AND('Ref Score sheet'!$B28 = \"a\",'Ref Score sheet'!$C28 = \"2nd yc\")","v":false},null,{"$f":"AND('Ref Score sheet'!B28 = \"\",'Ref Score sheet'!C28 = \"fh-e\")","v":false},""]
[null,{"$f":"AND('Ref Score sheet'!B29 = \"h\",'Ref Score sheet'!C29 = \"t\")","v":false},{"$f":"AND('Ref Score sheet'!B29 = \"h\",'Ref Score sheet'!C29 = \"pt\")","v":false},{"$f":"AND('Ref Score sheet'!B29 = \"h\",'Ref Score sheet'!C29 = \"c\")","v":false},{"$f":"AND('Ref Score sheet'!B29 = \"h\",'Ref Score sheet'!C29 = \"p\")","v":false},{"$f":"AND('Ref Score sheet'!B29 = \"h\",'Ref Score sheet'!C29 = \"dg\")","v":false},0,0,0,0,0,0,0,null,null,{"$f":"AND('Ref Score sheet'!B29 = \"h\",'Ref Score sheet'!C29 = \"bl-off\")","v":false},{"$f":"AND('Ref Score sheet'!B29 = \"h\",'Ref Score sheet'!C29 = \"bl-on\")","v":false},{"$f":"AND('Ref Score sheet'!B29 = \"h\",'Ref Score sheet'!C29 = \"blr-off\")","v":false},{"$f":"AND('Ref Score sheet'!B29 = \"h\",'Ref Score sheet'!C29 = \"blr-on\")","v":false},{"$f":"AND('Ref Score sheet'!B29 = \"h\",'Ref Score sheet'!C29 = \"RI-off\")","v":false},{"$f":"AND('Ref Score sheet'!B29 = \"h\",'Ref Score sheet'!C29 = \"RI-on\")","v":false},{"$f":"AND('Ref Score sheet'!B29 = \"h\",'Ref Score sheet'!C29 = \"CON-OFF\")","v":false},{"$f":"AND('Ref Score sheet'!B29 = \"h\",'Ref Score sheet'!C29 = \"CON-ON\")","v":false},{"$f":"AND('Ref Score sheet'!B29 = \"h\",'Ref Score sheet'!C29 = \"RT-on\")","v":false},{"$f":"AND('Ref Score sheet'!B29 = \"h\",'Ref Score sheet'!C29 = \"RT-off\")","v":false},{"$f":"AND('Ref Score sheet'!$B29 = \"h\",'Ref Score sheet'!$C29 = \"rc\")","v":false},{"$f":"AND('Ref Score sheet'!$B29 = \"h\",'Ref Score sheet'!$C29 = \"rcr\")","v":false},{"$f":"AND('Ref Score sheet'!$B29 = \"h\",'Ref Score sheet'!$C29 = \"yc\")","v":false},{"$f":"AND('Ref Score sheet'!$B29 = \"h\",'Ref Score sheet'!$C29 = \"2nd yc\")","v":false},null,{"$f":"AND('Ref Score sheet'!B29 = \"\",'Ref Score sheet'!C29 = \"fh-e\")","v":false},"",null,null,{"$f":"AND('Ref Score sheet'!B29=\"a\",'Ref Score sheet'!C29=\"t\")","v":false},{"$f":"AND('Ref Score sheet'!B29=\"a\",'Ref Score sheet'!C29=\"pt\")","v":false},{"$f":"AND('Ref Score sheet'!B29=\"a\",'Ref Score sheet'!C29=\"c\")","v":false},{"$f":"AND('Ref Score sheet'!B29=\"a\",'Ref Score sheet'!C29=\"p\")","v":false},{"$f":"AND('Ref Score sheet'!B29=\"a\",'Ref Score sheet'!C29=\"dg\")","v":false},0,0,0,0,0,0,0,null,{"$f":"AND('Ref Score sheet'!B29=\"a\",'Ref Score sheet'!C29=\"bl-off\")","v":false},{"$f":"AND('Ref Score sheet'!B29=\"a\",'Ref Score sheet'!C29=\"bl-on\")","v":false},{"$f":"AND('Ref Score sheet'!B29 = \"a\",'Ref Score sheet'!C29 = \"blr-off\")","v":false},{"$f":"AND('Ref Score sheet'!B29 = \"a\",'Ref Score sheet'!C29 = \"blr-on\")","v":false},{"$f":"AND('Ref Score sheet'!B29=\"a\",'Ref Score sheet'!C29=\"RI-off\")","v":false},{"$f":"AND('Ref Score sheet'!B29=\"a\",'Ref Score sheet'!C29=\"RI-on\")","v":false},{"$f":"AND('Ref Score sheet'!B29 = \"a\",'Ref Score sheet'!C29 = \"CON - OFF\")","v":false},{"$f":"AND('Ref Score sheet'!B29 = \"a\",'Ref Score sheet'!C29 = \"CON - ON\")","v":false},{"$f":"AND('Ref Score sheet'!B29=\"a\",'Ref Score sheet'!C29=\"RT-on\")","v":false},{"$f":"AND('Ref Score sheet'!B29=\"a\",'Ref Score sheet'!C29=\"RT-off\")","v":false},{"$f":"AND('Ref Score sheet'!$B29 = \"a\",'Ref Score sheet'!$C29 = \"rc\")","v":false},{"$f":"AND('Ref Score sheet'!$B29 = \"a\",'Ref Score sheet'!$C29 = \"rcr\")","v":false},{"$f":"AND('Ref Score sheet'!$B29 = \"a\",'Ref Score sheet'!$C29 = \"yc\")","v":false},{"$f":"AND('Ref Score sheet'!$B29 = \"a\",'Ref Score sheet'!$C29 = \"2nd yc\")","v":false},null,{"$f":"AND('Ref Score sheet'!B29 = \"\",'Ref Score sheet'!C29 = \"fh-e\")","v":false},""]
[null,{"$f":"AND('Ref Score sheet'!B30 = \"h\",'Ref Score sheet'!C30 = \"t\")","v":false},{"$f":"AND('Ref Score sheet'!B30 = \"h\",'Ref Score sheet'!C30 = \"pt\")","v":false},{"$f":"AND('Ref Score sheet'!B30 = \"h\",'Ref Score sheet'!C30 = \"c\")","v":false},{"$f":"AND('Ref Score sheet'!B30 = \"h\",'Ref Score sheet'!C30 = \"p\")","v":false},{"$f":"AND('Ref Score sheet'!B30 = \"h\",'Ref Score sheet'!C30 = \"dg\")","v":false},0,0,0,0,0,0,0,null,null,{"$f":"AND('Ref Score sheet'!B30 = \"h\",'Ref Score sheet'!C30 = \"bl-off\")","v":false},{"$f":"AND('Ref Score sheet'!B30 = \"h\",'Ref Score sheet'!C30 = \"bl-on\")","v":false},{"$f":"AND('Ref Score sheet'!B30 = \"h\",'Ref Score sheet'!C30 = \"blr-off\")","v":false},{"$f":"AND('Ref Score sheet'!B30 = \"h\",'Ref Score sheet'!C30 = \"blr-on\")","v":false},{"$f":"AND('Ref Score sheet'!B30 = \"h\",'Ref Score sheet'!C30 = \"RI-off\")","v":false},{"$f":"AND('Ref Score sheet'!B30 = \"h\",'Ref Score sheet'!C30 = \"RI-on\")","v":false},{"$f":"AND('Ref Score sheet'!B30 = \"h\",'Ref Score sheet'!C30 = \"CON-OFF\")","v":false},{"$f":"AND('Ref Score sheet'!B30 = \"h\",'Ref Score sheet'!C30 = \"CON-ON\")","v":false},{"$f":"AND('Ref Score sheet'!B30 = \"h\",'Ref Score sheet'!C30 = \"RT-on\")","v":false},{"$f":"AND('Ref Score sheet'!B30 = \"h\",'Ref Score sheet'!C30 = \"RT-off\")","v":false},{"$f":"AND('Ref Score sheet'!$B30 = \"h\",'Ref Score sheet'!$C30 = \"rc\")","v":false},{"$f":"AND('Ref Score sheet'!$B30 = \"h\",'Ref Score sheet'!$C30 = \"rcr\")","v":false},{"$f":"AND('Ref Score sheet'!$B30 = \"h\",'Ref Score sheet'!$C30 = \"yc\")","v":false},{"$f":"AND('Ref Score sheet'!$B30 = \"h\",'Ref Score sheet'!$C30 = \"2nd yc\")","v":false},null,{"$f":"AND('Ref Score sheet'!B30 = \"\",'Ref Score sheet'!C30 = \"fh-e\")","v":false},"",null,null,{"$f":"AND('Ref Score sheet'!B30=\"a\",'Ref Score sheet'!C30=\"t\")","v":false},{"$f":"AND('Ref Score sheet'!B30=\"a\",'Ref Score sheet'!C30=\"pt\")","v":false},{"$f":"AND('Ref Score sheet'!B30=\"a\",'Ref Score sheet'!C30=\"c\")","v":false},{"$f":"AND('Ref Score sheet'!B30=\"a\",'Ref Score sheet'!C30=\"p\")","v":false},{"$f":"AND('Ref Score sheet'!B30=\"a\",'Ref Score sheet'!C30=\"dg\")","v":false},0,0,0,0,0,0,0,null,{"$f":"AND('Ref Score sheet'!B30=\"a\",'Ref Score sheet'!C30=\"bl-off\")","v":false},{"$f":"AND('Ref Score sheet'!B30=\"a\",'Ref Score sheet'!C30=\"bl-on\")","v":false},{"$f":"AND('Ref Score sheet'!B30 = \"a\",'Ref Score sheet'!C30 = \"blr-off\")","v":false},{"$f":"AND('Ref Score sheet'!B30 = \"a\",'Ref Score sheet'!C30 = \"blr-on\")","v":false},{"$f":"AND('Ref Score sheet'!B30=\"a\",'Ref Score sheet'!C30=\"RI-off\")","v":false},{"$f":"AND('Ref Score sheet'!B30=\"a\",'Ref Score sheet'!C30=\"RI-on\")","v":false},{"$f":"AND('Ref Score sheet'!B30 = \"a\",'Ref Score sheet'!C30 = \"CON - OFF\")","v":false},{"$f":"AND('Ref Score sheet'!B30 = \"a\",'Ref Score sheet'!C30 = \"CON - ON\")","v":false},{"$f":"AND('Ref Score sheet'!B30=\"a\",'Ref Score sheet'!C30=\"RT-on\")","v":false},{"$f":"AND('Ref Score sheet'!B30=\"a\",'Ref Score sheet'!C30=\"RT-off\")","v":false},{"$f":"AND('Ref Score sheet'!$B30 = \"a\",'Ref Score sheet'!$C30 = \"rc\")","v":false},{"$f":"AND('Ref Score sheet'!$B30 = \"a\",'Ref Score sheet'!$C30 = \"rcr\")","v":false},{"$f":"AND('Ref Score sheet'!$B30 = \"a\",'Ref Score sheet'!$C30 = \"yc\")","v":false},{"$f":"AND('Ref Score sheet'!$B30 = \"a\",'Ref Score sheet'!$C30 = \"2nd yc\")","v":false},null,{"$f":"AND('Ref Score sheet'!B30 = \"\",'Ref Score sheet'!C30 = \"fh-e\")","v":false},""]
[null,{"$f":"AND('Ref Score sheet'!B31 = \"h\",'Ref Score sheet'!C31 = \"t\")","v":false},{"$f":"AND('Ref Score sheet'!B31 = \"h\",'Ref Score sheet'!C31 = \"pt\")","v":false},{"$f":"AND('Ref Score sheet'!B31 = \"h\",'Ref Score sheet'!C31 = \"c\")","v":false},{"$f":"AND('Ref Score sheet'!B31 = \"h\",'Ref Score sheet'!C31 = \"p\")","v":false},{"$f":"AND('Ref Score sheet'!B31 = \"h\",'Ref Score sheet'!C31 = \"dg\")","v":false},0,0,0,0,0,0,0,null,null,{"$f":"AND('Ref Score sheet'!B31 = \"h\",'Ref Score sheet'!C31 = \"bl-off\")","v":false},{"$f":"AND('Ref Score sheet'!B31 = \"h\",'Ref Score sheet'!C31 = \"bl-on\")","v":false},{"$f":"AND('Ref Score sheet'!B31 = \"h\",'Ref Score sheet'!C31 = \"blr-off\")","v":false},{"$f":"AND('Ref Score sheet'!B31 = \"h\",'Ref Score sheet'!C31 = \"blr-on\")","v":false},{"$f":"AND('Ref Score sheet'!B31 = \"h\",'Ref Score sheet'!C31 = \"RI-off\")","v":false},{"$f":"AND('Ref Score sheet'!B31 = \"h\",'Ref Score sheet'!C31 = \"RI-on\")","v":false},{"$f":"AND('Ref Score sheet'!B31 = \"h\",'Ref Score sheet'!C31 = \"CON-OFF\")","v":false},{"$f":"AND('Ref Score sheet'!B31 = \"h\",'Ref Score sheet'!C31 = \"CON-ON\")","v":false},{"$f":"AND('Ref Score sheet'!B31 = \"h\",'Ref Score sheet'!C31 = \"RT-on\")","v":false},{"$f":"AND('Ref Score sheet'!B31 = \"h\",'Ref Score sheet'!C31 = \"RT-off\")","v":false},{"$f":"AND('Ref Score sheet'!$B31 = \"h\",'Ref Score sheet'!$C31 = \"rc\")","v":false},{"$f":"AND('Ref Score sheet'!$B31 = \"h\",'Ref Score sheet'!$C31 = \"rcr\")","v":false},{"$f":"AND('Ref Score sheet'!$B31 = \"h\",'Ref Score sheet'!$C31 = \"yc\")","v":false},{"$f":"AND('Ref Score sheet'!$B31 = \"h\",'Ref Score sheet'!$C31 = \"2nd yc\")","v":false},null,{"$f":"AND('Ref Score sheet'!B31 = \"\",'Ref Score sheet'!C31 = \"fh-e\")","v":false},"",null,null,{"$f":"AND('Ref Score sheet'!B31=\"a\",'Ref Score sheet'!C31=\"t\")","v":false},{"$f":"AND('Ref Score sheet'!B31=\"a\",'Ref Score sheet'!C31=\"pt\")","v":false},{"$f":"AND('Ref Score sheet'!B31=\"a\",'Ref Score sheet'!C31=\"c\")","v":false},{"$f":"AND('Ref Score sheet'!B31=\"a\",'Ref Score sheet'!C31=\"p\")","v":false},{"$f":"AND('Ref Score sheet'!B31=\"a\",'Ref Score sheet'!C31=\"dg\")","v":false},0,0,0,0,0,0,0,null,{"$f":"AND('Ref Score sheet'!B31=\"a\",'Ref Score sheet'!C31=\"bl-off\")","v":false},{"$f":"AND('Ref Score sheet'!B31=\"a\",'Ref Score sheet'!C31=\"bl-on\")","v":false},{"$f":"AND('Ref Score sheet'!B31 = \"a\",'Ref Score sheet'!C31 = \"blr-off\")","v":false},{"$f":"AND('Ref Score sheet'!B31 = \"a\",'Ref Score sheet'!C31 = \"blr-on\")","v":false},{"$f":"AND('Ref Score sheet'!B31=\"a\",'Ref Score sheet'!C31=\"RI-off\")","v":false},{"$f":"AND('Ref Score sheet'!B31=\"a\",'Ref Score sheet'!C31=\"RI-on\")","v":false},{"$f":"AND('Ref Score sheet'!B31 = \"a\",'Ref Score sheet'!C31 = \"CON - OFF\")","v":false},{"$f":"AND('Ref Score sheet'!B31 = \"a\",'Ref Score sheet'!C31 = \"CON - ON\")","v":false},{"$f":"AND('Ref Score sheet'!B31=\"a\",'Ref Score sheet'!C31=\"RT-on\")","v":false},{"$f":"AND('Ref Score sheet'!B31=\"a\",'Ref Score sheet'!C31=\"RT-off\")","v":false},{"$f":"AND('Ref Score sheet'!$B31 = \"a\",'Ref Score sheet'!$C31 = \"rc\")","v":false},{"$f":"AND('Ref Score sheet'!$B31 = \"a\",'Ref Score sheet'!$C31 = \"rcr\")","v":false},{"$f":"AND('Ref Score sheet'!$B31 = \"a\",'Ref Score sheet'!$C31 = \"yc\")","v":false},{"$f":"AND('Ref Score sheet'!$B31 = \"a\",'Ref Score sheet'!$C31 = \"2nd yc\")","v":false},null,{"$f":"AND('Ref Score sheet'!B31 = \"\",'Ref Score sheet'!C31 = \"fh-e\")","v":false},""]
[null,{"$f":"AND('Ref Score sheet'!B32 = \"h\",'Ref Score sheet'!C32 = \"t\")","v":false},{"$f":"AND('Ref Score sheet'!B32 = \"h\",'Ref Score sheet'!C32 = \"pt\")","v":false},{"$f":"AND('Ref Score sheet'!B32 = \"h\",'Ref Score sheet'!C32 = \"c\")","v":false},{"$f":"AND('Ref Score sheet'!B32 = \"h\",'Ref Score sheet'!C32 = \"p\")","v":false},{"$f":"AND('Ref Score sheet'!B32 = \"h\",'Ref Score sheet'!C32 = \"dg\")","v":false},0,0,0,0,0,0,0,null,null,{"$f":"AND('Ref Score sheet'!B32 = \"h\",'Ref Score sheet'!C32 = \"bl-off\")","v":false},{"$f":"AND('Ref Score sheet'!B32 = \"h\",'Ref Score sheet'!C32 = \"bl-on\")","v":false},{"$f":"AND('Ref Score sheet'!B32 = \"h\",'Ref Score sheet'!C32 = \"blr-off\")","v":false},{"$f":"AND('Ref Score sheet'!B32 = \"h\",'Ref Score sheet'!C32 = \"blr-on\")","v":false},{"$f":"AND('Ref Score sheet'!B32 = \"h\",'Ref Score sheet'!C32 = \"RI-off\")","v":false},{"$f":"AND('Ref Score sheet'!B32 = \"h\",'Ref Score sheet'!C32 = \"RI-on\")","v":false},{"$f":"AND('Ref Score sheet'!B32 = \"h\",'Ref Score sheet'!C32 = \"CON-OFF\")","v":false},{"$f":"AND('Ref Score sheet'!B32 = \"h\",'Ref Score sheet'!C32 = \"CON-ON\")","v":false},{"$f":"AND('Ref Score sheet'!B32 = \"h\",'Ref Score sheet'!C32 = \"RT-on\")","v":false},{"$f":"AND('Ref Score sheet'!B32 = \"h\",'Ref Score sheet'!C32 = \"RT-off\")","v":false},{"$f":"AND('Ref Score sheet'!$B32 = \"h\",'Ref Score sheet'!$C32 = \"rc\")","v":false},{"$f":"AND('Ref Score sheet'!$B32 = \"h\",'Ref Score sheet'!$C32 = \"rcr\")","v":false},{"$f":"AND('Ref Score sheet'!$B32 = \"h\",'Ref Score sheet'!$C32 = \"yc\")","v":false},{"$f":"AND('Ref Score sheet'!$B32 = \"h\",'Ref Score sheet'!$C32 = \"2nd yc\")","v":false},null,{"$f":"AND('Ref Score sheet'!B32 = \"\",'Ref Score sheet'!C32 = \"fh-e\")","v":false},"",null,null,{"$f":"AND('Ref Score sheet'!B32=\"a\",'Ref Score sheet'!C32=\"t\")","v":false},{"$f":"AND('Ref Score sheet'!B32=\"a\",'Ref Score sheet'!C32=\"pt\")","v":false},{"$f":"AND('Ref Score sheet'!B32=\"a\",'Ref Score sheet'!C32=\"c\")","v":false},{"$f":"AND('Ref Score sheet'!B32=\"a\",'Ref Score sheet'!C32=\"p\")","v":false},{"$f":"AND('Ref Score sheet'!B32=\"a\",'Ref Score sheet'!C32=\"dg\")","v":false},0,0,0,0,0,0,0,null,{"$f":"AND('Ref Score sheet'!B32=\"a\",'Ref Score sheet'!C32=\"bl-off\")","v":false},{"$f":"AND('Ref Score sheet'!B32=\"a\",'Ref Score sheet'!C32=\"bl-on\")","v":false},{"$f":"AND('Ref Score sheet'!B32 = \"a\",'Ref Score sheet'!C32 = \"blr-off\")","v":false},{"$f":"AND('Ref Score sheet'!B32 = \"a\",'Ref Score sheet'!C32 = \"blr-on\")","v":false},{"$f":"AND('Ref Score sheet'!B32=\"a\",'Ref Score sheet'!C32=\"RI-off\")","v":false},{"$f":"AND('Ref Score sheet'!B32=\"a\",'Ref Score sheet'!C32=\"RI-on\")","v":false},{"$f":"AND('Ref Score sheet'!B32 = \"a\",'Ref Score sheet'!C32 = \"CON - OFF\")","v":false},{"$f":"AND('Ref Score sheet'!B32 = \"a\",'Ref Score sheet'!C32 = \"CON - ON\")","v":false},{"$f":"AND('Ref Score sheet'!B32=\"a\",'Ref Score sheet'!C32=\"RT-on\")","v":false},{"$f":"AND('Ref Score sheet'!B32=\"a\",'Ref Score sheet'!C32=\"RT-off\")","v":false},{"$f":"AND('Ref Score sheet'!$B32 = \"a\",'Ref Score sheet'!$C32 = \"rc\")","v":false},{"$f":"AND('Ref Score sheet'!$B32 = \"a\",'Ref Score sheet'!$C32 = \"rcr\")","v":false},{"$f":"AND('Ref Score sheet'!$B32 = \"a\",'Ref Score sheet'!$C32 = \"yc\")","v":false},{"$f":"AND('Ref Score sheet'!$B32 = \"a\",'Ref Score sheet'!$C32 = \"2nd yc\")","v":false},null,{"$f":"AND('Ref Score sheet'!B32 = \"\",'Ref Score sheet'!C32 = \"fh-e\")","v":false},""]
[null,{"$f":"AND('Ref Score sheet'!B33 = \"h\",'Ref Score sheet'!C33 = \"t\")","v":false},{"$f":"AND('Ref Score sheet'!B33 = \"h\",'Ref Score sheet'!C33 = \"pt\")","v":false},{"$f":"AND('Ref Score sheet'!B33 = \"h\",'Ref Score sheet'!C33 = \"c\")","v":false},{"$f":"AND('Ref Score sheet'!B33 = \"h\",'Ref Score sheet'!C33 = \"p\")","v":false},{"$f":"AND('Ref Score sheet'!B33 = \"h\",'Ref Score sheet'!C33 = \"dg\")","v":false},0,0,0,0,0,0,0,null,null,{"$f":"AND('Ref Score sheet'!B33 = \"h\",'Ref Score sheet'!C33 = \"bl-off\")","v":false},{"$f":"AND('Ref Score sheet'!B33 = \"h\",'Ref Score sheet'!C33 = \"bl-on\")","v":false},{"$f":"AND('Ref Score sheet'!B33 = \"h\",'Ref Score sheet'!C33 = \"blr-off\")","v":false},{"$f":"AND('Ref Score sheet'!B33 = \"h\",'Ref Score sheet'!C33 = \"blr-on\")","v":false},{"$f":"AND('Ref Score sheet'!B33 = \"h\",'Ref Score sheet'!C33 = \"RI-off\")","v":false},{"$f":"AND('Ref Score sheet'!B33 = \"h\",'Ref Score sheet'!C33 = \"RI-on\")","v":false},{"$f":"AND('Ref Score sheet'!B33 = \"h\",'Ref Score sheet'!C33 = \"CON-OFF\")","v":false},{"$f":"AND('Ref Score sheet'!B33 = \"h\",'Ref Score sheet'!C33 = \"CON-ON\")","v":false},{"$f":"AND('Ref Score sheet'!B33 = \"h\",'Ref Score sheet'!C33 = \"RT-on\")","v":false},{"$f":"AND('Ref Score sheet'!B33 = \"h\",'Ref Score sheet'!C33 = \"RT-off\")","v":false},{"$f":"AND('Ref Score sheet'!$B33 = \"h\",'Ref Score sheet'!$C33 = \"rc\")","v":false},{"$f":"AND('Ref Score sheet'!$B33 = \"h\",'Ref Score sheet'!$C33 = \"rcr\")","v":false},{"$f":"AND('Ref Score sheet'!$B33 = \"h\",'Ref Score sheet'!$C33 = \"yc\")","v":false},{"$f":"AND('Ref Score sheet'!$B33 = \"h\",'Ref Score sheet'!$C33 = \"2nd yc\")","v":false},null,{"$f":"AND('Ref Score sheet'!B33 = \"\",'Ref Score sheet'!C33 = \"fh-e\")","v":false},"",null,null,{"$f":"AND('Ref Score sheet'!B33=\"a\",'Ref Score sheet'!C33=\"t\")","v":false},{"$f":"AND('Ref Score sheet'!B33=\"a\",'Ref Score sheet'!C33=\"pt\")","v":false},{"$f":"AND('Ref Score sheet'!B33=\"a\",'Ref Score sheet'!C33=\"c\")","v":false},{"$f":"AND('Ref Score sheet'!B33=\"a\",'Ref Score sheet'!C33=\"p\")","v":false},{"$f":"AND('Ref Score sheet'!B33=\"a\",'Ref Score sheet'!C33=\"dg\")","v":false},0,0,0,0,0,0,0,null,{"$f":"AND('Ref Score sheet'!B33=\"a\",'Ref Score sheet'!C33=\"bl-off\")","v":false},{"$f":"AND('Ref Score sheet'!B33=\"a\",'Ref Score sheet'!C33=\"bl-on\")","v":false},{"$f":"AND('Ref Score sheet'!B33 = \"a\",'Ref Score sheet'!C33 = \"blr-off\")","v":false},{"$f":"AND('Ref Score sheet'!B33 = \"a\",'Ref Score sheet'!C33 = \"blr-on\")","v":false},{"$f":"AND('Ref Score sheet'!B33=\"a\",'Ref Score sheet'!C33=\"RI-off\")","v":false},{"$f":"AND('Ref Score sheet'!B33=\"a\",'Ref Score sheet'!C33=\"RI-on\")","v":false},{"$f":"AND('Ref Score sheet'!B33 = \"a\",'Ref Score sheet'!C33 = \"CON - OFF\")","v":false},{"$f":"AND('Ref Score sheet'!B33 = \"a\",'Ref Score sheet'!C33 = \"CON - ON\")","v":false},{"$f":"AND('Ref Score sheet'!B33=\"a\",'Ref Score sheet'!C33=\"RT-on\")","v":false},{"$f":"AND('Ref Score sheet'!B33=\"a\",'Ref Score sheet'!C33=\"RT-off\")","v":false},{"$f":"AND('Ref Score sheet'!$B33 = \"a\",'Ref Score sheet'!$C33 = \"rc\")","v":false},{"$f":"AND('Ref Score sheet'!$B33 = \"a\",'Ref Score sheet'!$C33 = \"rcr\")","v":false},{"$f":"AND('Ref Score sheet'!$B33 = \"a\",'Ref Score sheet'!$C33 = \"yc\")","v":false},{"$f":"AND('Ref Score sheet'!$B33 = \"a\",'Ref Score sheet'!$C33 = \"2nd yc\")","v":false},null,{"$f":"AND('Ref Score sheet'!B33 = \"\",'Ref Score sheet'!C33 = \"fh-e\")","v":false},""]
[null,{"$f":"AND('Ref Score sheet'!B34 = \"h\",'Ref Score sheet'!C34 = \"t\")","v":false},{"$f":"AND('Ref Score sheet'!B34 = \"h\",'Ref Score sheet'!C34 = \"pt\")","v":false},{"$f":"AND('Ref Score sheet'!B34 = \"h\",'Ref Score sheet'!C34 = \"c\")","v":false},{"$f":"AND('Ref Score sheet'!B34 = \"h\",'Ref Score sheet'!C34 = \"p\")","v":false},{"$f":"AND('Ref Score sheet'!B34 = \"h\",'Ref Score sheet'!C34 = \"dg\")","v":false},0,0,0,0,0,0,0,null,null,{"$f":"AND('Ref Score sheet'!B34 = \"h\",'Ref Score sheet'!C34 = \"bl-off\")","v":false},{"$f":"AND('Ref Score sheet'!B34 = \"h\",'Ref Score sheet'!C34 = \"bl-on\")","v":false},{"$f":"AND('Ref Score sheet'!B34 = \"h\",'Ref Score sheet'!C34 = \"blr-off\")","v":false},{"$f":"AND('Ref Score sheet'!B34 = \"h\",'Ref Score sheet'!C34 = \"blr-on\")","v":false},{"$f":"AND('Ref Score sheet'!B34 = \"h\",'Ref Score sheet'!C34 = \"RI-off\")","v":false},{"$f":"AND('Ref Score sheet'!B34 = \"h\",'Ref Score sheet'!C34 = \"RI-on\")","v":false},{"$f":"AND('Ref Score sheet'!B34 = \"h\",'Ref Score sheet'!C34 = \"CON-OFF\")","v":false},{"$f":"AND('Ref Score sheet'!B34 = \"h\",'Ref Score sheet'!C34 = \"CON-ON\")","v":false},{"$f":"AND('Ref Score sheet'!B34 = \"h\",'Ref Score sheet'!C34 = \"RT-on\")","v":false},{"$f":"AND('Ref Score sheet'!B34 = \"h\",'Ref Score sheet'!C34 = \"RT-off\")","v":false},{"$f":"AND('Ref Score sheet'!$B34 = \"h\",'Ref Score sheet'!$C34 = \"rc\")","v":false},{"$f":"AND('Ref Score sheet'!$B34 = \"h\",'Ref Score sheet'!$C34 = \"rcr\")","v":false},{"$f":"AND('Ref Score sheet'!$B34 = \"h\",'Ref Score sheet'!$C34 = \"yc\")","v":false},{"$f":"AND('Ref Score sheet'!$B34 = \"h\",'Ref Score sheet'!$C34 = \"2nd yc\")","v":false},null,{"$f":"AND('Ref Score sheet'!B34 = \"\",'Ref Score sheet'!C34 = \"fh-e\")","v":false},"",null,null,{"$f":"AND('Ref Score sheet'!B34=\"a\",'Ref Score sheet'!C34=\"t\")","v":false},{"$f":"AND('Ref Score sheet'!B34=\"a\",'Ref Score sheet'!C34=\"pt\")","v":false},{"$f":"AND('Ref Score sheet'!B34=\"a\",'Ref Score sheet'!C34=\"c\")","v":false},{"$f":"AND('Ref Score sheet'!B34=\"a\",'Ref Score sheet'!C34=\"p\")","v":false},{"$f":"AND('Ref Score sheet'!B34=\"a\",'Ref Score sheet'!C34=\"dg\")","v":false},0,0,0,0,0,0,0,null,{"$f":"AND('Ref Score sheet'!B34=\"a\",'Ref Score sheet'!C34=\"bl-off\")","v":false},{"$f":"AND('Ref Score sheet'!B34=\"a\",'Ref Score sheet'!C34=\"bl-on\")","v":false},{"$f":"AND('Ref Score sheet'!B34 = \"a\",'Ref Score sheet'!C34 = \"blr-off\")","v":false},{"$f":"AND('Ref Score sheet'!B34 = \"a\",'Ref Score sheet'!C34 = \"blr-on\")","v":false},{"$f":"AND('Ref Score sheet'!B34=\"a\",'Ref Score sheet'!C34=\"RI-off\")","v":false},{"$f":"AND('Ref Score sheet'!B34=\"a\",'Ref Score sheet'!C34=\"RI-on\")","v":false},{"$f":"AND('Ref Score sheet'!B34 = \"a\",'Ref Score sheet'!C34 = \"CON - OFF\")","v":false},{"$f":"AND('Ref Score sheet'!B34 = \"a\",'Ref Score sheet'!C34 = \"CON - ON\")","v":false},{"$f":"AND('Ref Score sheet'!B34=\"a\",'Ref Score sheet'!C34=\"RT-on\")","v":false},{"$f":"AND('Ref Score sheet'!B34=\"a\",'Ref Score sheet'!C34=\"RT-off\")","v":false},{"$f":"AND('Ref Score sheet'!$B34 = \"a\",'Ref Score sheet'!$C34 = \"rc\")","v":false},{"$f":"AND('Ref Score sheet'!$B34 = \"a\",'Ref Score sheet'!$C34 = \"rcr\")","v":false},{"$f":"AND('Ref Score sheet'!$B34 = \"a\",'Ref Score sheet'!$C34 = \"yc\")","v":false},{"$f":"AND('Ref Score sheet'!$B34 = \"a\",'Ref Score sheet'!$C34 = \"2nd yc\")","v":false},null,{"$f":"AND('Ref Score sheet'!B34 = \"\",'Ref Score sheet'!C34 = \"fh-e\")","v":false},""]
[null,{"$f":"AND('Ref Score sheet'!B35 = \"h\",'Ref Score sheet'!C35 = \"t\")","v":false},{"$f":"AND('Ref Score sheet'!B35 = \"h\",'Ref Score sheet'!C35 = \"pt\")","v":false},{"$f":"AND('Ref Score sheet'!B35 = \"h\",'Ref Score sheet'!C35 = \"c\")","v":false},{"$f":"AND('Ref Score sheet'!B35 = \"h\",'Ref Score sheet'!C35 = \"p\")","v":false},{"$f":"AND('Ref Score sheet'!B35 = \"h\",'Ref Score sheet'!C35 = \"dg\")","v":false},0,0,0,0,0,0,0,null,null,{"$f":"AND('Ref Score sheet'!B35 = \"h\",'Ref Score sheet'!C35 = \"bl-off\")","v":false},{"$f":"AND('Ref Score sheet'!B35 = \"h\",'Ref Score sheet'!C35 = \"bl-on\")","v":false},{"$f":"AND('Ref Score sheet'!B35 = \"h\",'Ref Score sheet'!C35 = \"blr-off\")","v":false},{"$f":"AND('Ref Score sheet'!B35 = \"h\",'Ref Score sheet'!C35 = \"blr-on\")","v":false},{"$f":"AND('Ref Score sheet'!B35 = \"h\",'Ref Score sheet'!C35 = \"RI-off\")","v":false},{"$f":"AND('Ref Score sheet'!B35 = \"h\",'Ref Score sheet'!C35 = \"RI-on\")","v":false},{"$f":"AND('Ref Score sheet'!B35 = \"h\",'Ref Score sheet'!C35 = \"CON-OFF\")","v":false},{"$f":"AND('Ref Score sheet'!B35 = \"h\",'Ref Score sheet'!C35 = \"CON-ON\")","v":false},{"$f":"AND('Ref Score sheet'!B35 = \"h\",'Ref Score sheet'!C35 = \"RT-on\")","v":false},{"$f":"AND('Ref Score sheet'!B35 = \"h\",'Ref Score sheet'!C35 = \"RT-off\")","v":false},{"$f":"AND('Ref Score sheet'!$B35 = \"h\",'Ref Score sheet'!$C35 = \"rc\")","v":false},{"$f":"AND('Ref Score sheet'!$B35 = \"h\",'Ref Score sheet'!$C35 = \"rcr\")","v":false},{"$f":"AND('Ref Score sheet'!$B35 = \"h\",'Ref Score sheet'!$C35 = \"yc\")","v":false},{"$f":"AND('Ref Score sheet'!$B35 = \"h\",'Ref Score sheet'!$C35 = \"2nd yc\")","v":false},null,{"$f":"AND('Ref Score sheet'!B35 = \"\",'Ref Score sheet'!C35 = \"fh-e\")","v":false},"",null,null,{"$f":"AND('Ref Score sheet'!B35=\"a\",'Ref Score sheet'!C35=\"t\")","v":false},{"$f":"AND('Ref Score sheet'!B35=\"a\",'Ref Score sheet'!C35=\"pt\")","v":false},{"$f":"AND('Ref Score sheet'!B35=\"a\",'Ref Score sheet'!C35=\"c\")","v":false},{"$f":"AND('Ref Score sheet'!B35=\"a\",'Ref Score sheet'!C35=\"p\")","v":false},{"$f":"AND('Ref Score sheet'!B35=\"a\",'Ref Score sheet'!C35=\"dg\")","v":false},0,0,0,0,0,0,0,null,{"$f":"AND('Ref Score sheet'!B35=\"a\",'Ref Score sheet'!C35=\"bl-off\")","v":false},{"$f":"AND('Ref Score sheet'!B35=\"a\",'Ref Score sheet'!C35=\"bl-on\")","v":false},{"$f":"AND('Ref Score sheet'!B35 = \"a\",'Ref Score sheet'!C35 = \"blr-off\")","v":false},{"$f":"AND('Ref Score sheet'!B35 = \"a\",'Ref Score sheet'!C35 = \"blr-on\")","v":false},{"$f":"AND('Ref Score sheet'!B35=\"a\",'Ref Score sheet'!C35=\"RI-off\")","v":false},{"$f":"AND('Ref Score sheet'!B35=\"a\",'Ref Score sheet'!C35=\"RI-on\")","v":false},{"$f":"AND('Ref Score sheet'!B35 = \"a\",'Ref Score sheet'!C35 = \"CON - OFF\")","v":false},{"$f":"AND('Ref Score sheet'!B35 = \"a\",'Ref Score sheet'!C35 = \"CON - ON\")","v":false},{"$f":"AND('Ref Score sheet'!B35=\"a\",'Ref Score sheet'!C35=\"RT-on\")","v":false},{"$f":"AND('Ref Score sheet'!B35=\"a\",'Ref Score sheet'!C35=\"RT-off\")","v":false},{"$f":"AND('Ref Score sheet'!$B35 = \"a\",'Ref Score sheet'!$C35 = \"rc\")","v":false},{"$f":"AND('Ref Score sheet'!$B35 = \"a\",'Ref Score sheet'!$C35 = \"rcr\")","v":false},{"$f":"AND('Ref Score sheet'!$B35 = \"a\",'Ref Score sheet'!$C35 = \"yc\")","v":false},{"$f":"AND('Ref Score sheet'!$B35 = \"a\",'Ref Score sheet'!$C35 = \"2nd yc\")","v":false},null,{"$f":"AND('Ref Score sheet'!B35 = \"\",'Ref Score sheet'!C35 = \"fh-e\")","v":false},""]
[null,{"$f":"AND('Ref Score sheet'!B36 = \"h\",'Ref Score sheet'!C36 = \"t\")","v":false},{"$f":"AND('Ref Score sheet'!B36 = \"h\",'Ref Score sheet'!C36 = \"pt\")","v":false},{"$f":"AND('Ref Score sheet'!B36 = \"h\",'Ref Score sheet'!C36 = \"c\")","v":false},{"$f":"AND('Ref Score sheet'!B36 = \"h\",'Ref Score sheet'!C36 = \"p\")","v":false},{"$f":"AND('Ref Score sheet'!B36 = \"h\",'Ref Score sheet'!C36 = \"dg\")","v":false},0,0,0,0,0,0,0,null,null,{"$f":"AND('Ref Score sheet'!B36 = \"h\",'Ref Score sheet'!C36 = \"bl-off\")","v":false},{"$f":"AND('Ref Score sheet'!B36 = \"h\",'Ref Score sheet'!C36 = \"bl-on\")","v":false},{"$f":"AND('Ref Score sheet'!B36 = \"h\",'Ref Score sheet'!C36 = \"blr-off\")","v":false},{"$f":"AND('Ref Score sheet'!B36 = \"h\",'Ref Score sheet'!C36 = \"blr-on\")","v":false},{"$f":"AND('Ref Score sheet'!B36 = \"h\",'Ref Score sheet'!C36 = \"RI-off\")","v":false},{"$f":"AND('Ref Score sheet'!B36 = \"h\",'Ref Score sheet'!C36 = \"RI-on\")","v":false},{"$f":"AND('Ref Score sheet'!B36 = \"h\",'Ref Score sheet'!C36 = \"CON-OFF\")","v":false},{"$f":"AND('Ref Score sheet'!B36 = \"h\",'Ref Score sheet'!C36 = \"CON-ON\")","v":false},{"$f":"AND('Ref Score sheet'!B36 = \"h\",'Ref Score sheet'!C36 = \"RT-on\")","v":false},{"$f":"AND('Ref Score sheet'!B36 = \"h\",'Ref Score sheet'!C36 = \"RT-off\")","v":false},{"$f":"AND('Ref Score sheet'!$B36 = \"h\",'Ref Score sheet'!$C36 = \"rc\")","v":false},{"$f":"AND('Ref Score sheet'!$B36 = \"h\",'Ref Score sheet'!$C36 = \"rcr\")","v":false},{"$f":"AND('Ref Score sheet'!$B36 = \"h\",'Ref Score sheet'!$C36 = \"yc\")","v":false},{"$f":"AND('Ref Score sheet'!$B36 = \"h\",'Ref Score sheet'!$C36 = \"2nd yc\")","v":false},null,{"$f":"AND('Ref Score sheet'!B36 = \"\",'Ref Score sheet'!C36 = \"fh-e\")","v":false},"",null,null,{"$f":"AND('Ref Score sheet'!B36=\"a\",'Ref Score sheet'!C36=\"t\")","v":false},{"$f":"AND('Ref Score sheet'!B36=\"a\",'Ref Score sheet'!C36=\"pt\")","v":false},{"$f":"AND('Ref Score sheet'!B36=\"a\",'Ref Score sheet'!C36=\"c\")","v":false},{"$f":"AND('Ref Score sheet'!B36=\"a\",'Ref Score sheet'!C36=\"p\")","v":false},{"$f":"AND('Ref Score sheet'!B36=\"a\",'Ref Score sheet'!C36=\"dg\")","v":false},0,0,0,0,0,0,0,null,{"$f":"AND('Ref Score sheet'!B36=\"a\",'Ref Score sheet'!C36=\"bl-off\")","v":false},{"$f":"AND('Ref Score sheet'!B36=\"a\",'Ref Score sheet'!C36=\"bl-on\")","v":false},{"$f":"AND('Ref Score sheet'!B36 = \"a\",'Ref Score sheet'!C36 = \"blr-off\")","v":false},{"$f":"AND('Ref Score sheet'!B36 = \"a\",'Ref Score sheet'!C36 = \"blr-on\")","v":false},{"$f":"AND('Ref Score sheet'!B36=\"a\",'Ref Score sheet'!C36=\"RI-off\")","v":false},{"$f":"AND('Ref Score sheet'!B36=\"a\",'Ref Score sheet'!C36=\"RI-on\")","v":false},{"$f":"AND('Ref Score sheet'!B36 = \"a\",'Ref Score sheet'!C36 = \"CON - OFF\")","v":false},{"$f":"AND('Ref Score sheet'!B36 = \"a\",'Ref Score sheet'!C36 = \"CON - ON\")","v":false},{"$f":"AND('Ref Score sheet'!B36=\"a\",'Ref Score sheet'!C36=\"RT-on\")","v":false},{"$f":"AND('Ref Score sheet'!B36=\"a\",'Ref Score sheet'!C36=\"RT-off\")","v":false},{"$f":"AND('Ref Score sheet'!$B36 = \"a\",'Ref Score sheet'!$C36 = \"rc\")","v":false},{"$f":"AND('Ref Score sheet'!$B36 = \"a\",'Ref Score sheet'!$C36 = \"rcr\")","v":false},{"$f":"AND('Ref Score sheet'!$B36 = \"a\",'Ref Score sheet'!$C36 = \"yc\")","v":false},{"$f":"AND('Ref Score sheet'!$B36 = \"a\",'Ref Score sheet'!$C36 = \"2nd yc\")","v":false},null,{"$f":"AND('Ref Score sheet'!B36 = \"\",'Ref Score sheet'!C36 = \"fh-e\")","v":false},""]
[null,{"$f":"AND('Ref Score sheet'!B37 = \"h\",'Ref Score sheet'!C37 = \"t\")","v":false},{"$f":"AND('Ref Score sheet'!B37 = \"h\",'Ref Score sheet'!C37 = \"pt\")","v":false},{"$f":"AND('Ref Score sheet'!B37 = \"h\",'Ref Score sheet'!C37 = \"c\")","v":false},{"$f":"AND('Ref Score sheet'!B37 = \"h\",'Ref Score sheet'!C37 = \"p\")","v":false},{"$f":"AND('Ref Score sheet'!B37 = \"h\",'Ref Score sheet'!C37 = \"dg\")","v":false},0,0,0,0,0,0,0,null,null,{"$f":"AND('Ref Score sheet'!B37 = \"h\",'Ref Score sheet'!C37 = \"bl-off\")","v":false},{"$f":"AND('Ref Score sheet'!B37 = \"h\",'Ref Score sheet'!C37 = \"bl-on\")","v":false},{"$f":"AND('Ref Score sheet'!B37 = \"h\",'Ref Score sheet'!C37 = \"blr-off\")","v":false},{"$f":"AND('Ref Score sheet'!B37 = \"h\",'Ref Score sheet'!C37 = \"blr-on\")","v":false},{"$f":"AND('Ref Score sheet'!B37 = \"h\",'Ref Score sheet'!C37 = \"RI-off\")","v":false},{"$f":"AND('Ref Score sheet'!B37 = \"h\",'Ref Score sheet'!C37 = \"RI-on\")","v":false},{"$f":"AND('Ref Score sheet'!B37 = \"h\",'Ref Score sheet'!C37 = \"CON-OFF\")","v":false},{"$f":"AND('Ref Score sheet'!B37 = \"h\",'Ref Score sheet'!C37 = \"CON-ON\")","v":false},{"$f":"AND('Ref Score sheet'!B37 = \"h\",'Ref Score sheet'!C37 = \"RT-on\")","v":false},{"$f":"AND('Ref Score sheet'!B37 = \"h\",'Ref Score sheet'!C37 = \"RT-off\")","v":false},{"$f":"AND('Ref Score sheet'!$B37 = \"h\",'Ref Score sheet'!$C37 = \"rc\")","v":false},{"$f":"AND('Ref Score sheet'!$B37 = \"h\",'Ref Score sheet'!$C37 = \"rcr\")","v":false},{"$f":"AND('Ref Score sheet'!$B37 = \"h\",'Ref Score sheet'!$C37 = \"yc\")","v":false},{"$f":"AND('Ref Score sheet'!$B37 = \"h\",'Ref Score sheet'!$C37 = \"2nd yc\")","v":false},null,{"$f":"AND('Ref Score sheet'!B37 = \"\",'Ref Score sheet'!C37 = \"fh-e\")","v":false},"",null,null,{"$f":"AND('Ref Score sheet'!B37=\"a\",'Ref Score sheet'!C37=\"t\")","v":false},{"$f":"AND('Ref Score sheet'!B37=\"a\",'Ref Score sheet'!C37=\"pt\")","v":false},{"$f":"AND('Ref Score sheet'!B37=\"a\",'Ref Score sheet'!C37=\"c\")","v":false},{"$f":"AND('Ref Score sheet'!B37=\"a\",'Ref Score sheet'!C37=\"p\")","v":false},{"$f":"AND('Ref Score sheet'!B37=\"a\",'Ref Score sheet'!C37=\"dg\")","v":false},0,0,0,0,0,0,0,null,{"$f":"AND('Ref Score sheet'!B37=\"a\",'Ref Score sheet'!C37=\"bl-off\")","v":false},{"$f":"AND('Ref Score sheet'!B37=\"a\",'Ref Score sheet'!C37=\"bl-on\")","v":false},{"$f":"AND('Ref Score sheet'!B37 = \"a\",'Ref Score sheet'!C37 = \"blr-off\")","v":false},{"$f":"AND('Ref Score sheet'!B37 = \"a\",'Ref Score sheet'!C37 = \"blr-on\")","v":false},{"$f":"AND('Ref Score sheet'!B37=\"a\",'Ref Score sheet'!C37=\"RI-off\")","v":false},{"$f":"AND('Ref Score sheet'!B37=\"a\",'Ref Score sheet'!C37=\"RI-on\")","v":false},{"$f":"AND('Ref Score sheet'!B37 = \"a\",'Ref Score sheet'!C37 = \"CON - OFF\")","v":false},{"$f":"AND('Ref Score sheet'!B37 = \"a\",'Ref Score sheet'!C37 = \"CON - ON\")","v":false},{"$f":"AND('Ref Score sheet'!B37=\"a\",'Ref Score sheet'!C37=\"RT-on\")","v":false},{"$f":"AND('Ref Score sheet'!B37=\"a\",'Ref Score sheet'!C37=\"RT-off\")","v":false},{"$f":"AND('Ref Score sheet'!$B37 = \"a\",'Ref Score sheet'!$C37 = \"rc\")","v":false},{"$f":"AND('Ref Score sheet'!$B37 = \"a\",'Ref Score sheet'!$C37 = \"rcr\")","v":false},{"$f":"AND('Ref Score sheet'!$B37 = \"a\",'Ref Score sheet'!$C37 = \"yc\")","v":false},{"$f":"AND('Ref Score sheet'!$B37 = \"a\",'Ref Score sheet'!$C37 = \"2nd yc\")","v":false},null,{"$f":"AND('Ref Score sheet'!B37 = \"\",'Ref Score sheet'!C37 = \"fh-e\")","v":false},""]
[null,{"$f":"AND('Ref Score sheet'!B38 = \"h\",'Ref Score sheet'!C38 = \"t\")","v":false},{"$f":"AND('Ref Score sheet'!B38 = \"h\",'Ref Score sheet'!C38 = \"pt\")","v":false},{"$f":"AND('Ref Score sheet'!B38 = \"h\",'Ref Score sheet'!C38 = \"c\")","v":false},{"$f":"AND('Ref Score sheet'!B38 = \"h\",'Ref Score sheet'!C38 = \"p\")","v":false},{"$f":"AND('Ref Score sheet'!B38 = \"h\",'Ref Score sheet'!C38 = \"dg\")","v":false},0,0,0,0,0,0,0,null,null,{"$f":"AND('Ref Score sheet'!B38 = \"h\",'Ref Score sheet'!C38 = \"bl-off\")","v":false},{"$f":"AND('Ref Score sheet'!B38 = \"h\",'Ref Score sheet'!C38 = \"bl-on\")","v":false},{"$f":"AND('Ref Score sheet'!B38 = \"h\",'Ref Score sheet'!C38 = \"blr-off\")","v":false},{"$f":"AND('Ref Score sheet'!B38 = \"h\",'Ref Score sheet'!C38 = \"blr-on\")","v":false},{"$f":"AND('Ref Score sheet'!B38 = \"h\",'Ref Score sheet'!C38 = \"RI-off\")","v":false},{"$f":"AND('Ref Score sheet'!B38 = \"h\",'Ref Score sheet'!C38 = \"RI-on\")","v":false},{"$f":"AND('Ref Score sheet'!B38 = \"h\",'Ref Score sheet'!C38 = \"CON-OFF\")","v":false},{"$f":"AND('Ref Score sheet'!B38 = \"h\",'Ref Score sheet'!C38 = \"CON-ON\")","v":false},{"$f":"AND('Ref Score sheet'!B38 = \"h\",'Ref Score sheet'!C38 = \"RT-on\")","v":false},{"$f":"AND('Ref Score sheet'!B38 = \"h\",'Ref Score sheet'!C38 = \"RT-off\")","v":false},{"$f":"AND('Ref Score sheet'!$B38 = \"h\",'Ref Score sheet'!$C38 = \"rc\")","v":false},{"$f":"AND('Ref Score sheet'!$B38 = \"h\",'Ref Score sheet'!$C38 = \"rcr\")","v":false},{"$f":"AND('Ref Score sheet'!$B38 = \"h\",'Ref Score sheet'!$C38 = \"yc\")","v":false},{"$f":"AND('Ref Score sheet'!$B38 = \"h\",'Ref Score sheet'!$C38 = \"2nd yc\")","v":false},null,{"$f":"AND('Ref Score sheet'!B38 = \"\",'Ref Score sheet'!C38 = \"fh-e\")","v":false},"",null,null,{"$f":"AND('Ref Score sheet'!B38=\"a\",'Ref Score sheet'!C38=\"t\")","v":false},{"$f":"AND('Ref Score sheet'!B38=\"a\",'Ref Score sheet'!C38=\"pt\")","v":false},{"$f":"AND('Ref Score sheet'!B38=\"a\",'Ref Score sheet'!C38=\"c\")","v":false},{"$f":"AND('Ref Score sheet'!B38=\"a\",'Ref Score sheet'!C38=\"p\")","v":false},{"$f":"AND('Ref Score sheet'!B38=\"a\",'Ref Score sheet'!C38=\"dg\")","v":false},0,0,0,0,0,0,0,null,{"$f":"AND('Ref Score sheet'!B38=\"a\",'Ref Score sheet'!C38=\"bl-off\")","v":false},{"$f":"AND('Ref Score sheet'!B38=\"a\",'Ref Score sheet'!C38=\"bl-on\")","v":false},{"$f":"AND('Ref Score sheet'!B38 = \"a\",'Ref Score sheet'!C38 = \"blr-off\")","v":false},{"$f":"AND('Ref Score sheet'!B38 = \"a\",'Ref Score sheet'!C38 = \"blr-on\")","v":false},{"$f":"AND('Ref Score sheet'!B38=\"a\",'Ref Score sheet'!C38=\"RI-off\")","v":false},{"$f":"AND('Ref Score sheet'!B38=\"a\",'Ref Score sheet'!C38=\"RI-on\")","v":false},{"$f":"AND('Ref Score sheet'!B38 = \"a\",'Ref Score sheet'!C38 = \"CON - OFF\")","v":false},{"$f":"AND('Ref Score sheet'!B38 = \"a\",'Ref Score sheet'!C38 = \"CON - ON\")","v":false},{"$f":"AND('Ref Score sheet'!B38=\"a\",'Ref Score sheet'!C38=\"RT-on\")","v":false},{"$f":"AND('Ref Score sheet'!B38=\"a\",'Ref Score sheet'!C38=\"RT-off\")","v":false},{"$f":"AND('Ref Score sheet'!$B38 = \"a\",'Ref Score sheet'!$C38 = \"rc\")","v":false},{"$f":"AND('Ref Score sheet'!$B38 = \"a\",'Ref Score sheet'!$C38 = \"rcr\")","v":false},{"$f":"AND('Ref Score sheet'!$B38 = \"a\",'Ref Score sheet'!$C38 = \"yc\")","v":false},{"$f":"AND('Ref Score sheet'!$B38 = \"a\",'Ref Score sheet'!$C38 = \"2nd yc\")","v":false},null,{"$f":"AND('Ref Score sheet'!B38 = \"\",'Ref Score sheet'!C38 = \"fh-e\")","v":false},""]
[null,{"$f":"AND('Ref Score sheet'!B39 = \"h\",'Ref Score sheet'!C39 = \"t\")","v":false},{"$f":"AND('Ref Score sheet'!B39 = \"h\",'Ref Score sheet'!C39 = \"pt\")","v":false},{"$f":"AND('Ref Score sheet'!B39 = \"h\",'Ref Score sheet'!C39 = \"c\")","v":false},{"$f":"AND('Ref Score sheet'!B39 = \"h\",'Ref Score sheet'!C39 = \"p\")","v":false},{"$f":"AND('Ref Score sheet'!B39 = \"h\",'Ref Score sheet'!C39 = \"dg\")","v":false},0,0,0,0,0,0,0,null,null,{"$f":"AND('Ref Score sheet'!B39 = \"h\",'Ref Score sheet'!C39 = \"bl-off\")","v":false},{"$f":"AND('Ref Score sheet'!B39 = \"h\",'Ref Score sheet'!C39 = \"bl-on\")","v":false},{"$f":"AND('Ref Score sheet'!B39 = \"h\",'Ref Score sheet'!C39 = \"blr-off\")","v":false},{"$f":"AND('Ref Score sheet'!B39 = \"h\",'Ref Score sheet'!C39 = \"blr-on\")","v":false},{"$f":"AND('Ref Score sheet'!B39 = \"h\",'Ref Score sheet'!C39 = \"RI-off\")","v":false},{"$f":"AND('Ref Score sheet'!B39 = \"h\",'Ref Score sheet'!C39 = \"RI-on\")","v":false},{"$f":"AND('Ref Score sheet'!B39 = \"h\",'Ref Score sheet'!C39 = \"CON-OFF\")","v":false},{"$f":"AND('Ref Score sheet'!B39 = \"h\",'Ref Score sheet'!C39 = \"CON-ON\")","v":false},{"$f":"AND('Ref Score sheet'!B39 = \"h\",'Ref Score sheet'!C39 = \"RT-on\")","v":false},{"$f":"AND('Ref Score sheet'!B39 = \"h\",'Ref Score sheet'!C39 = \"RT-off\")","v":false},{"$f":"AND('Ref Score sheet'!$B39 = \"h\",'Ref Score sheet'!$C39 = \"rc\")","v":false},{"$f":"AND('Ref Score sheet'!$B39 = \"h\",'Ref Score sheet'!$C39 = \"rcr\")","v":false},{"$f":"AND('Ref Score sheet'!$B39 = \"h\",'Ref Score sheet'!$C39 = \"yc\")","v":false},{"$f":"AND('Ref Score sheet'!$B39 = \"h\",'Ref Score sheet'!$C39 = \"2nd yc\")","v":false},null,{"$f":"AND('Ref Score sheet'!B39 = \"\",'Ref Score sheet'!C39 = \"fh-e\")","v":false},"",null,null,{"$f":"AND('Ref Score sheet'!B39=\"a\",'Ref Score sheet'!C39=\"t\")","v":false},{"$f":"AND('Ref Score sheet'!B39=\"a\",'Ref Score sheet'!C39=\"pt\")","v":false},{"$f":"AND('Ref Score sheet'!B39=\"a\",'Ref Score sheet'!C39=\"c\")","v":false},{"$f":"AND('Ref Score sheet'!B39=\"a\",'Ref Score sheet'!C39=\"p\")","v":false},{"$f":"AND('Ref Score sheet'!B39=\"a\",'Ref Score sheet'!C39=\"dg\")","v":false},0,0,0,0,0,0,0,null,{"$f":"AND('Ref Score sheet'!B39=\"a\",'Ref Score sheet'!C39=\"bl-off\")","v":false},{"$f":"AND('Ref Score sheet'!B39=\"a\",'Ref Score sheet'!C39=\"bl-on\")","v":false},{"$f":"AND('Ref Score sheet'!B39 = \"a\",'Ref Score sheet'!C39 = \"blr-off\")","v":false},{"$f":"AND('Ref Score sheet'!B39 = \"a\",'Ref Score sheet'!C39 = \"blr-on\")","v":false},{"$f":"AND('Ref Score sheet'!B39=\"a\",'Ref Score sheet'!C39=\"RI-off\")","v":false},{"$f":"AND('Ref Score sheet'!B39=\"a\",'Ref Score sheet'!C39=\"RI-on\")","v":false},{"$f":"AND('Ref Score sheet'!B39 = \"a\",'Ref Score sheet'!C39 = \"CON - OFF\")","v":false},{"$f":"AND('Ref Score sheet'!B39 = \"a\",'Ref Score sheet'!C39 = \"CON - ON\")","v":false},{"$f":"AND('Ref Score sheet'!B39=\"a\",'Ref Score sheet'!C39=\"RT-on\")","v":false},{"$f":"AND('Ref Score sheet'!B39=\"a\",'Ref Score sheet'!C39=\"RT-off\")","v":false},{"$f":"AND('Ref Score sheet'!$B39 = \"a\",'Ref Score sheet'!$C39 = \"rc\")","v":false},{"$f":"AND('Ref Score sheet'!$B39 = \"a\",'Ref Score sheet'!$C39 = \"rcr\")","v":false},{"$f":"AND('Ref Score sheet'!$B39 = \"a\",'Ref Score sheet'!$C39 = \"yc\")","v":false},{"$f":"AND('Ref Score sheet'!$B39 = \"a\",'Ref Score sheet'!$C39 = \"2nd yc\")","v":false},null,{"$f":"AND('Ref Score sheet'!B39 = \"\",'Ref Score sheet'!C39 = \"fh-e\")","v":false},""]
[null,{"$f":"AND('Ref Score sheet'!B40 = \"h\",'Ref Score sheet'!C40 = \"t\")","v":false},{"$f":"AND('Ref Score sheet'!B40 = \"h\",'Ref Score sheet'!C40 = \"pt\")","v":false},{"$f":"AND('Ref Score sheet'!B40 = \"h\",'Ref Score sheet'!C40 = \"c\")","v":false},{"$f":"AND('Ref Score sheet'!B40 = \"h\",'Ref Score sheet'!C40 = \"p\")","v":false},{"$f":"AND('Ref Score sheet'!B40 = \"h\",'Ref Score sheet'!C40 = \"dg\")","v":false},0,0,0,0,0,0,0,null,null,{"$f":"AND('Ref Score sheet'!B40 = \"h\",'Ref Score sheet'!C40 = \"bl-off\")","v":false},{"$f":"AND('Ref Score sheet'!B40 = \"h\",'Ref Score sheet'!C40 = \"bl-on\")","v":false},{"$f":"AND('Ref Score sheet'!B40 = \"h\",'Ref Score sheet'!C40 = \"blr-off\")","v":false},{"$f":"AND('Ref Score sheet'!B40 = \"h\",'Ref Score sheet'!C40 = \"blr-on\")","v":false},{"$f":"AND('Ref Score sheet'!B40 = \"h\",'Ref Score sheet'!C40 = \"RI-off\")","v":false},{"$f":"AND('Ref Score sheet'!B40 = \"h\",'Ref Score sheet'!C40 = \"RI-on\")","v":false},{"$f":"AND('Ref Score sheet'!B40 = \"h\",'Ref Score sheet'!C40 = \"CON-OFF\")","v":false},{"$f":"AND('Ref Score sheet'!B40 = \"h\",'Ref Score sheet'!C40 = \"CON-ON\")","v":false},{"$f":"AND('Ref Score sheet'!B40 = \"h\",'Ref Score sheet'!C40 = \"RT-on\")","v":false},{"$f":"AND('Ref Score sheet'!B40 = \"h\",'Ref Score sheet'!C40 = \"RT-off\")","v":false},{"$f":"AND('Ref Score sheet'!$B40 = \"h\",'Ref Score sheet'!$C40 = \"rc\")","v":false},{"$f":"AND('Ref Score sheet'!$B40 = \"h\",'Ref Score sheet'!$C40 = \"rcr\")","v":false},{"$f":"AND('Ref Score sheet'!$B40 = \"h\",'Ref Score sheet'!$C40 = \"yc\")","v":false},{"$f":"AND('Ref Score sheet'!$B40 = \"h\",'Ref Score sheet'!$C40 = \"2nd yc\")","v":false},null,{"$f":"AND('Ref Score sheet'!B40 = \"\",'Ref Score sheet'!C40 = \"fh-e\")","v":false},"",null,null,{"$f":"AND('Ref Score sheet'!B40=\"a\",'Ref Score sheet'!C40=\"t\")","v":false},{"$f":"AND('Ref Score sheet'!B40=\"a\",'Ref Score sheet'!C40=\"pt\")","v":false},{"$f":"AND('Ref Score sheet'!B40=\"a\",'Ref Score sheet'!C40=\"c\")","v":false},{"$f":"AND('Ref Score sheet'!B40=\"a\",'Ref Score sheet'!C40=\"p\")","v":false},{"$f":"AND('Ref Score sheet'!B40=\"a\",'Ref Score sheet'!C40=\"dg\")","v":false},0,0,0,0,0,0,0,null,{"$f":"AND('Ref Score sheet'!B40=\"a\",'Ref Score sheet'!C40=\"bl-off\")","v":false},{"$f":"AND('Ref Score sheet'!B40=\"a\",'Ref Score sheet'!C40=\"bl-on\")","v":false},{"$f":"AND('Ref Score sheet'!B40 = \"a\",'Ref Score sheet'!C40 = \"blr-off\")","v":false},{"$f":"AND('Ref Score sheet'!B40 = \"a\",'Ref Score sheet'!C40 = \"blr-on\")","v":false},{"$f":"AND('Ref Score sheet'!B40=\"a\",'Ref Score sheet'!C40=\"RI-off\")","v":false},{"$f":"AND('Ref Score sheet'!B40=\"a\",'Ref Score sheet'!C40=\"RI-on\")","v":false},{"$f":"AND('Ref Score sheet'!B40 = \"a\",'Ref Score sheet'!C40 = \"CON - OFF\")","v":false},{"$f":"AND('Ref Score sheet'!B40 = \"a\",'Ref Score sheet'!C40 = \"CON - ON\")","v":false},{"$f":"AND('Ref Score sheet'!B40=\"a\",'Ref Score sheet'!C40=\"RT-on\")","v":false},{"$f":"AND('Ref Score sheet'!B40=\"a\",'Ref Score sheet'!C40=\"RT-off\")","v":false},{"$f":"AND('Ref Score sheet'!$B40 = \"a\",'Ref Score sheet'!$C40 = \"rc\")","v":false},{"$f":"AND('Ref Score sheet'!$B40 = \"a\",'Ref Score sheet'!$C40 = \"rcr\")","v":false},{"$f":"AND('Ref Score sheet'!$B40 = \"a\",'Ref Score sheet'!$C40 = \"yc\")","v":false},{"$f":"AND('Ref Score sheet'!$B40 = \"a\",'Ref Score sheet'!$C40 = \"2nd yc\")","v":false},null,{"$f":"AND('Ref Score sheet'!B40 = \"\",'Ref Score sheet'!C40 = \"fh-e\")","v":false},""]
[null,{"$f":"AND('Ref Score sheet'!B41 = \"h\",'Ref Score sheet'!C41 = \"t\")","v":false},{"$f":"AND('Ref Score sheet'!B41 = \"h\",'Ref Score sheet'!C41 = \"pt\")","v":false},{"$f":"AND('Ref Score sheet'!B41 = \"h\",'Ref Score sheet'!C41 = \"c\")","v":false},{"$f":"AND('Ref Score sheet'!B41 = \"h\",'Ref Score sheet'!C41 = \"p\")","v":false},{"$f":"AND('Ref Score sheet'!B41 = \"h\",'Ref Score sheet'!C41 = \"dg\")","v":false},0,0,0,0,0,0,0,null,null,{"$f":"AND('Ref Score sheet'!B41 = \"h\",'Ref Score sheet'!C41 = \"bl-off\")","v":false},{"$f":"AND('Ref Score sheet'!B41 = \"h\",'Ref Score sheet'!C41 = \"bl-on\")","v":false},{"$f":"AND('Ref Score sheet'!B41 = \"h\",'Ref Score sheet'!C41 = \"blr-off\")","v":false},{"$f":"AND('Ref Score sheet'!B41 = \"h\",'Ref Score sheet'!C41 = \"blr-on\")","v":false},{"$f":"AND('Ref Score sheet'!B41 = \"h\",'Ref Score sheet'!C41 = \"RI-off\")","v":false},{"$f":"AND('Ref Score sheet'!B41 = \"h\",'Ref Score sheet'!C41 = \"RI-on\")","v":false},{"$f":"AND('Ref Score sheet'!B41 = \"h\",'Ref Score sheet'!C41 = \"CON-OFF\")","v":false},{"$f":"AND('Ref Score sheet'!B41 = \"h\",'Ref Score sheet'!C41 = \"CON-ON\")","v":false},{"$f":"AND('Ref Score sheet'!B41 = \"h\",'Ref Score sheet'!C41 = \"RT-on\")","v":false},{"$f":"AND('Ref Score sheet'!B41 = \"h\",'Ref Score sheet'!C41 = \"RT-off\")","v":false},{"$f":"AND('Ref Score sheet'!$B41 = \"h\",'Ref Score sheet'!$C41 = \"rc\")","v":false},{"$f":"AND('Ref Score sheet'!$B41 = \"h\",'Ref Score sheet'!$C41 = \"rcr\")","v":false},{"$f":"AND('Ref Score sheet'!$B41 = \"h\",'Ref Score sheet'!$C41 = \"yc\")","v":false},{"$f":"AND('Ref Score sheet'!$B41 = \"h\",'Ref Score sheet'!$C41 = \"2nd yc\")","v":false},null,{"$f":"AND('Ref Score sheet'!B41 = \"\",'Ref Score sheet'!C41 = \"fh-e\")","v":false},"",null,null,{"$f":"AND('Ref Score sheet'!B41=\"a\",'Ref Score sheet'!C41=\"t\")","v":false},{"$f":"AND('Ref Score sheet'!B41=\"a\",'Ref Score sheet'!C41=\"pt\")","v":false},{"$f":"AND('Ref Score sheet'!B41=\"a\",'Ref Score sheet'!C41=\"c\")","v":false},{"$f":"AND('Ref Score sheet'!B41=\"a\",'Ref Score sheet'!C41=\"p\")","v":false},{"$f":"AND('Ref Score sheet'!B41=\"a\",'Ref Score sheet'!C41=\"dg\")","v":false},0,0,0,0,0,0,0,null,{"$f":"AND('Ref Score sheet'!B41=\"a\",'Ref Score sheet'!C41=\"bl-off\")","v":false},{"$f":"AND('Ref Score sheet'!B41=\"a\",'Ref Score sheet'!C41=\"bl-on\")","v":false},{"$f":"AND('Ref Score sheet'!B41 = \"a\",'Ref Score sheet'!C41 = \"blr-off\")","v":false},{"$f":"AND('Ref Score sheet'!B41 = \"a\",'Ref Score sheet'!C41 = \"blr-on\")","v":false},{"$f":"AND('Ref Score sheet'!B41=\"a\",'Ref Score sheet'!C41=\"RI-off\")","v":false},{"$f":"AND('Ref Score sheet'!B41=\"a\",'Ref Score sheet'!C41=\"RI-on\")","v":false},{"$f":"AND('Ref Score sheet'!B41 = \"a\",'Ref Score sheet'!C41 = \"CON - OFF\")","v":false},{"$f":"AND('Ref Score sheet'!B41 = \"a\",'Ref Score sheet'!C41 = \"CON - ON\")","v":false},{"$f":"AND('Ref Score sheet'!B41=\"a\",'Ref Score sheet'!C41=\"RT-on\")","v":false},{"$f":"AND('Ref Score sheet'!B41=\"a\",'Ref Score sheet'!C41=\"RT-off\")","v":false},{"$f":"AND('Ref Score sheet'!$B41 = \"a\",'Ref Score sheet'!$C41 = \"rc\")","v":false},{"$f":"AND('Ref Score sheet'!$B41 = \"a\",'Ref Score sheet'!$C41 = \"rcr\")","v":false},{"$f":"AND('Ref Score sheet'!$B41 = \"a\",'Ref Score sheet'!$C41 = \"yc\")","v":false},{"$f":"AND('Ref Score sheet'!$B41 = \"a\",'Ref Score sheet'!$C41 = \"2nd yc\")","v":false},null,{"$f":"AND('Ref Score sheet'!B41 = \"\",'Ref Score sheet'!C41 = \"fh-e\")","v":false},""]
[null,{"$f":"AND('Ref Score sheet'!B42 = \"h\",'Ref Score sheet'!C42 = \"t\")","v":false},{"$f":"AND('Ref Score sheet'!B42 = \"h\",'Ref Score sheet'!C42 = \"pt\")","v":false},{"$f":"AND('Ref Score sheet'!B42 = \"h\",'Ref Score sheet'!C42 = \"c\")","v":false},{"$f":"AND('Ref Score sheet'!B42 = \"h\",'Ref Score sheet'!C42 = \"p\")","v":false},{"$f":"AND('Ref Score sheet'!B42 = \"h\",'Ref Score sheet'!C42 = \"dg\")","v":false},0,0,0,0,0,0,0,null,null,{"$f":"AND('Ref Score sheet'!B42 = \"h\",'Ref Score sheet'!C42 = \"bl-off\")","v":false},{"$f":"AND('Ref Score sheet'!B42 = \"h\",'Ref Score sheet'!C42 = \"bl-on\")","v":false},{"$f":"AND('Ref Score sheet'!B42 = \"h\",'Ref Score sheet'!C42 = \"blr-off\")","v":false},{"$f":"AND('Ref Score sheet'!B42 = \"h\",'Ref Score sheet'!C42 = \"blr-on\")","v":false},{"$f":"AND('Ref Score sheet'!B42 = \"h\",'Ref Score sheet'!C42 = \"RI-off\")","v":false},{"$f":"AND('Ref Score sheet'!B42 = \"h\",'Ref Score sheet'!C42 = \"RI-on\")","v":false},{"$f":"AND('Ref Score sheet'!B42 = \"h\",'Ref Score sheet'!C42 = \"CON-OFF\")","v":false},{"$f":"AND('Ref Score sheet'!B42 = \"h\",'Ref Score sheet'!C42 = \"CON-ON\")","v":false},{"$f":"AND('Ref Score sheet'!B42 = \"h\",'Ref Score sheet'!C42 = \"RT-on\")","v":false},{"$f":"AND('Ref Score sheet'!B42 = \"h\",'Ref Score sheet'!C42 = \"RT-off\")","v":false},{"$f":"AND('Ref Score sheet'!$B42 = \"h\",'Ref Score sheet'!$C42 = \"rc\")","v":false},{"$f":"AND('Ref Score sheet'!$B42 = \"h\",'Ref Score sheet'!$C42 = \"rcr\")","v":false},{"$f":"AND('Ref Score sheet'!$B42 = \"h\",'Ref Score sheet'!$C42 = \"yc\")","v":false},{"$f":"AND('Ref Score sheet'!$B42 = \"h\",'Ref Score sheet'!$C42 = \"2nd yc\")","v":false},null,{"$f":"AND('Ref Score sheet'!B42 = \"\",'Ref Score sheet'!C42 = \"fh-e\")","v":false},"",null,null,{"$f":"AND('Ref Score sheet'!B42=\"a\",'Ref Score sheet'!C42=\"t\")","v":false},{"$f":"AND('Ref Score sheet'!B42=\"a\",'Ref Score sheet'!C42=\"pt\")","v":false},{"$f":"AND('Ref Score sheet'!B42=\"a\",'Ref Score sheet'!C42=\"c\")","v":false},{"$f":"AND('Ref Score sheet'!B42=\"a\",'Ref Score sheet'!C42=\"p\")","v":false},{"$f":"AND('Ref Score sheet'!B42=\"a\",'Ref Score sheet'!C42=\"dg\")","v":false},0,0,0,0,0,0,0,null,{"$f":"AND('Ref Score sheet'!B42=\"a\",'Ref Score sheet'!C42=\"bl-off\")","v":false},{"$f":"AND('Ref Score sheet'!B42=\"a\",'Ref Score sheet'!C42=\"bl-on\")","v":false},{"$f":"AND('Ref Score sheet'!B42 = \"a\",'Ref Score sheet'!C42 = \"blr-off\")","v":false},{"$f":"AND('Ref Score sheet'!B42 = \"a\",'Ref Score sheet'!C42 = \"blr-on\")","v":false},{"$f":"AND('Ref Score sheet'!B42=\"a\",'Ref Score sheet'!C42=\"RI-off\")","v":false},{"$f":"AND('Ref Score sheet'!B42=\"a\",'Ref Score sheet'!C42=\"RI-on\")","v":false},{"$f":"AND('Ref Score sheet'!B42 = \"a\",'Ref Score sheet'!C42 = \"CON - OFF\")","v":false},{"$f":"AND('Ref Score sheet'!B42 = \"a\",'Ref Score sheet'!C42 = \"CON - ON\")","v":false},{"$f":"AND('Ref Score sheet'!B42=\"a\",'Ref Score sheet'!C42=\"RT-on\")","v":false},{"$f":"AND('Ref Score sheet'!B42=\"a\",'Ref Score sheet'!C42=\"RT-off\")","v":false},{"$f":"AND('Ref Score sheet'!$B42 = \"a\",'Ref Score sheet'!$C42 = \"rc\")","v":false},{"$f":"AND('Ref Score sheet'!$B42 = \"a\",'Ref Score sheet'!$C42 = \"rcr\")","v":false},{"$f":"AND('Ref Score sheet'!$B42 = \"a\",'Ref Score sheet'!$C42 = \"yc\")","v":false},{"$f":"AND('Ref Score sheet'!$B42 = \"a\",'Ref Score sheet'!$C42 = \"2nd yc\")","v":false},null,{"$f":"AND('Ref Score sheet'!B42 = \"\",'Ref Score sheet'!C42 = \"fh-e\")","v":false},""]
[null,{"$f":"AND('Ref Score sheet'!B43 = \"h\",'Ref Score sheet'!C43 = \"t\")","v":false},{"$f":"AND('Ref Score sheet'!B43 = \"h\",'Ref Score sheet'!C43 = \"pt\")","v":false},{"$f":"AND('Ref Score sheet'!B43 = \"h\",'Ref Score sheet'!C43 = \"c\")","v":false},{"$f":"AND('Ref Score sheet'!B43 = \"h\",'Ref Score sheet'!C43 = \"p\")","v":false},{"$f":"AND('Ref Score sheet'!B43 = \"h\",'Ref Score sheet'!C43 = \"dg\")","v":false},0,0,0,0,0,0,0,null,null,{"$f":"AND('Ref Score sheet'!B43 = \"h\",'Ref Score sheet'!C43 = \"bl-off\")","v":false},{"$f":"AND('Ref Score sheet'!B43 = \"h\",'Ref Score sheet'!C43 = \"bl-on\")","v":false},{"$f":"AND('Ref Score sheet'!B43 = \"h\",'Ref Score sheet'!C43 = \"blr-off\")","v":false},{"$f":"AND('Ref Score sheet'!B43 = \"h\",'Ref Score sheet'!C43 = \"blr-on\")","v":false},{"$f":"AND('Ref Score sheet'!B43 = \"h\",'Ref Score sheet'!C43 = \"RI-off\")","v":false},{"$f":"AND('Ref Score sheet'!B43 = \"h\",'Ref Score sheet'!C43 = \"RI-on\")","v":false},{"$f":"AND('Ref Score sheet'!B43 = \"h\",'Ref Score sheet'!C43 = \"CON-OFF\")","v":false},{"$f":"AND('Ref Score sheet'!B43 = \"h\",'Ref Score sheet'!C43 = \"CON-ON\")","v":false},{"$f":"AND('Ref Score sheet'!B43 = \"h\",'Ref Score sheet'!C43 = \"RT-on\")","v":false},{"$f":"AND('Ref Score sheet'!B43 = \"h\",'Ref Score sheet'!C43 = \"RT-off\")","v":false},{"$f":"AND('Ref Score sheet'!$B43 = \"h\",'Ref Score sheet'!$C43 = \"rc\")","v":false},{"$f":"AND('Ref Score sheet'!$B43 = \"h\",'Ref Score sheet'!$C43 = \"rcr\")","v":false},{"$f":"AND('Ref Score sheet'!$B43 = \"h\",'Ref Score sheet'!$C43 = \"yc\")","v":false},{"$f":"AND('Ref Score sheet'!$B43 = \"h\",'Ref Score sheet'!$C43 = \"2nd yc\")","v":false},null,{"$f":"AND('Ref Score sheet'!B43 = \"\",'Ref Score sheet'!C43 = \"fh-e\")","v":false},"",null,null,{"$f":"AND('Ref Score sheet'!B43=\"a\",'Ref Score sheet'!C43=\"t\")","v":false},{"$f":"AND('Ref Score sheet'!B43=\"a\",'Ref Score sheet'!C43=\"pt\")","v":false},{"$f":"AND('Ref Score sheet'!B43=\"a\",'Ref Score sheet'!C43=\"c\")","v":false},{"$f":"AND('Ref Score sheet'!B43=\"a\",'Ref Score sheet'!C43=\"p\")","v":false},{"$f":"AND('Ref Score sheet'!B43=\"a\",'Ref Score sheet'!C43=\"dg\")","v":false},0,0,0,0,0,0,0,null,{"$f":"AND('Ref Score sheet'!B43=\"a\",'Ref Score sheet'!C43=\"bl-off\")","v":false},{"$f":"AND('Ref Score sheet'!B43=\"a\",'Ref Score sheet'!C43=\"bl-on\")","v":false},{"$f":"AND('Ref Score sheet'!B43 = \"a\",'Ref Score sheet'!C43 = \"blr-off\")","v":false},{"$f":"AND('Ref Score sheet'!B43 = \"a\",'Ref Score sheet'!C43 = \"blr-on\")","v":false},{"$f":"AND('Ref Score sheet'!B43=\"a\",'Ref Score sheet'!C43=\"RI-off\")","v":false},{"$f":"AND('Ref Score sheet'!B43=\"a\",'Ref Score sheet'!C43=\"RI-on\")","v":false},{"$f":"AND('Ref Score sheet'!B43 = \"a\",'Ref Score sheet'!C43 = \"CON - OFF\")","v":false},{"$f":"AND('Ref Score sheet'!B43 = \"a\",'Ref Score sheet'!C43 = \"CON - ON\")","v":false},{"$f":"AND('Ref Score sheet'!B43=\"a\",'Ref Score sheet'!C43=\"RT-on\")","v":false},{"$f":"AND('Ref Score sheet'!B43=\"a\",'Ref Score sheet'!C43=\"RT-off\")","v":false},{"$f":"AND('Ref Score sheet'!$B43 = \"a\",'Ref Score sheet'!$C43 = \"rc\")","v":false},{"$f":"AND('Ref Score sheet'!$B43 = \"a\",'Ref Score sheet'!$C43 = \"rcr\")","v":false},{"$f":"AND('Ref Score sheet'!$B43 = \"a\",'Ref Score sheet'!$C43 = \"yc\")","v":false},{"$f":"AND('Ref Score sheet'!$B43 = \"a\",'Ref Score sheet'!$C43 = \"2nd yc\")","v":false},null,{"$f":"AND('Ref Score sheet'!B43 = \"\",'Ref Score sheet'!C43 = \"fh-e\")","v":false},""]
[null,{"$f":"AND('Ref Score sheet'!B44 = \"h\",'Ref Score sheet'!C44 = \"t\")","v":false},{"$f":"AND('Ref Score sheet'!B44 = \"h\",'Ref Score sheet'!C44 = \"pt\")","v":false},{"$f":"AND('Ref Score sheet'!B44 = \"h\",'Ref Score sheet'!C44 = \"c\")","v":false},{"$f":"AND('Ref Score sheet'!B44 = \"h\",'Ref Score sheet'!C44 = \"p\")","v":false},{"$f":"AND('Ref Score sheet'!B44 = \"h\",'Ref Score sheet'!C44 = \"dg\")","v":false},0,0,0,0,0,0,0,null,null,{"$f":"AND('Ref Score sheet'!B44 = \"h\",'Ref Score sheet'!C44 = \"bl-off\")","v":false},{"$f":"AND('Ref Score sheet'!B44 = \"h\",'Ref Score sheet'!C44 = \"bl-on\")","v":false},{"$f":"AND('Ref Score sheet'!B44 = \"h\",'Ref Score sheet'!C44 = \"blr-off\")","v":false},{"$f":"AND('Ref Score sheet'!B44 = \"h\",'Ref Score sheet'!C44 = \"blr-on\")","v":false},{"$f":"AND('Ref Score sheet'!B44 = \"h\",'Ref Score sheet'!C44 = \"RI-off\")","v":false},{"$f":"AND('Ref Score sheet'!B44 = \"h\",'Ref Score sheet'!C44 = \"RI-on\")","v":false},{"$f":"AND('Ref Score sheet'!B44 = \"h\",'Ref Score sheet'!C44 = \"CON-OFF\")","v":false},{"$f":"AND('Ref Score sheet'!B44 = \"h\",'Ref Score sheet'!C44 = \"CON-ON\")","v":false},{"$f":"AND('Ref Score sheet'!B44 = \"h\",'Ref Score sheet'!C44 = \"RT-on\")","v":false},{"$f":"AND('Ref Score sheet'!B44 = \"h\",'Ref Score sheet'!C44 = \"RT-off\")","v":false},{"$f":"AND('Ref Score sheet'!$B44 = \"h\",'Ref Score sheet'!$C44 = \"rc\")","v":false},{"$f":"AND('Ref Score sheet'!$B44 = \"h\",'Ref Score sheet'!$C44 = \"rcr\")","v":false},{"$f":"AND('Ref Score sheet'!$B44 = \"h\",'Ref Score sheet'!$C44 = \"yc\")","v":false},{"$f":"AND('Ref Score sheet'!$B44 = \"h\",'Ref Score sheet'!$C44 = \"2nd yc\")","v":false},null,{"$f":"AND('Ref Score sheet'!B44 = \"\",'Ref Score sheet'!C44 = \"fh-e\")","v":false},"",null,null,{"$f":"AND('Ref Score sheet'!B44=\"a\",'Ref Score sheet'!C44=\"t\")","v":false},{"$f":"AND('Ref Score sheet'!B44=\"a\",'Ref Score sheet'!C44=\"pt\")","v":false},{"$f":"AND('Ref Score sheet'!B44=\"a\",'Ref Score sheet'!C44=\"c\")","v":false},{"$f":"AND('Ref Score sheet'!B44=\"a\",'Ref Score sheet'!C44=\"p\")","v":false},{"$f":"AND('Ref Score sheet'!B44=\"a\",'Ref Score sheet'!C44=\"dg\")","v":false},0,0,0,0,0,0,0,null,{"$f":"AND('Ref Score sheet'!B44=\"a\",'Ref Score sheet'!C44=\"bl-off\")","v":false},{"$f":"AND('Ref Score sheet'!B44=\"a\",'Ref Score sheet'!C44=\"bl-on\")","v":false},{"$f":"AND('Ref Score sheet'!B44 = \"a\",'Ref Score sheet'!C44 = \"blr-off\")","v":false},{"$f":"AND('Ref Score sheet'!B44 = \"a\",'Ref Score sheet'!C44 = \"blr-on\")","v":false},{"$f":"AND('Ref Score sheet'!B44=\"a\",'Ref Score sheet'!C44=\"RI-off\")","v":false},{"$f":"AND('Ref Score sheet'!B44=\"a\",'Ref Score sheet'!C44=\"RI-on\")","v":false},{"$f":"AND('Ref Score sheet'!B44 = \"a\",'Ref Score sheet'!C44 = \"CON - OFF\")","v":false},{"$f":"AND('Ref Score sheet'!B44 = \"a\",'Ref Score sheet'!C44 = \"CON - ON\")","v":false},{"$f":"AND('Ref Score sheet'!B44=\"a\",'Ref Score sheet'!C44=\"RT-on\")","v":false},{"$f":"AND('Ref Score sheet'!B44=\"a\",'Ref Score sheet'!C44=\"RT-off\")","v":false},{"$f":"AND('Ref Score sheet'!$B44 = \"a\",'Ref Score sheet'!$C44 = \"rc\")","v":false},{"$f":"AND('Ref Score sheet'!$B44 = \"a\",'Ref Score sheet'!$C44 = \"rcr\")","v":false},{"$f":"AND('Ref Score sheet'!$B44 = \"a\",'Ref Score sheet'!$C44 = \"yc\")","v":false},{"$f":"AND('Ref Score sheet'!$B44 = \"a\",'Ref Score sheet'!$C44 = \"2nd yc\")","v":false},null,{"$f":"AND('Ref Score sheet'!B44 = \"\",'Ref Score sheet'!C44 = \"fh-e\")","v":false},""]
[null,{"$f":"AND('Ref Score sheet'!B45 = \"h\",'Ref Score sheet'!C45 = \"t\")","v":false},{"$f":"AND('Ref Score sheet'!B45 = \"h\",'Ref Score sheet'!C45 = \"pt\")","v":false},{"$f":"AND('Ref Score sheet'!B45 = \"h\",'Ref Score sheet'!C45 = \"c\")","v":false},{"$f":"AND('Ref Score sheet'!B45 = \"h\",'Ref Score sheet'!C45 = \"p\")","v":false},{"$f":"AND('Ref Score sheet'!B45 = \"h\",'Ref Score sheet'!C45 = \"dg\")","v":false},0,0,0,0,0,0,0,null,null,{"$f":"AND('Ref Score sheet'!B45 = \"h\",'Ref Score sheet'!C45 = \"bl-off\")","v":false},{"$f":"AND('Ref Score sheet'!B45 = \"h\",'Ref Score sheet'!C45 = \"bl-on\")","v":false},{"$f":"AND('Ref Score sheet'!B45 = \"h\",'Ref Score sheet'!C45 = \"blr-off\")","v":false},{"$f":"AND('Ref Score sheet'!B45 = \"h\",'Ref Score sheet'!C45 = \"blr-on\")","v":false},{"$f":"AND('Ref Score sheet'!B45 = \"h\",'Ref Score sheet'!C45 = \"RI-off\")","v":false},{"$f":"AND('Ref Score sheet'!B45 = \"h\",'Ref Score sheet'!C45 = \"RI-on\")","v":false},{"$f":"AND('Ref Score sheet'!B45 = \"h\",'Ref Score sheet'!C45 = \"CON-OFF\")","v":false},{"$f":"AND('Ref Score sheet'!B45 = \"h\",'Ref Score sheet'!C45 = \"CON-ON\")","v":false},{"$f":"AND('Ref Score sheet'!B45 = \"h\",'Ref Score sheet'!C45 = \"RT-on\")","v":false},{"$f":"AND('Ref Score sheet'!B45 = \"h\",'Ref Score sheet'!C45 = \"RT-off\")","v":false},{"$f":"AND('Ref Score sheet'!$B45 = \"h\",'Ref Score sheet'!$C45 = \"rc\")","v":false},{"$f":"AND('Ref Score sheet'!$B45 = \"h\",'Ref Score sheet'!$C45 = \"rcr\")","v":false},{"$f":"AND('Ref Score sheet'!$B45 = \"h\",'Ref Score sheet'!$C45 = \"yc\")","v":false},{"$f":"AND('Ref Score sheet'!$B45 = \"h\",'Ref Score sheet'!$C45 = \"2nd yc\")","v":false},null,{"$f":"AND('Ref Score sheet'!B45 = \"\",'Ref Score sheet'!C45 = \"fh-e\")","v":false},"",null,null,{"$f":"AND('Ref Score sheet'!B45=\"a\",'Ref Score sheet'!C45=\"t\")","v":false},{"$f":"AND('Ref Score sheet'!B45=\"a\",'Ref Score sheet'!C45=\"pt\")","v":false},{"$f":"AND('Ref Score sheet'!B45=\"a\",'Ref Score sheet'!C45=\"c\")","v":false},{"$f":"AND('Ref Score sheet'!B45=\"a\",'Ref Score sheet'!C45=\"p\")","v":false},{"$f":"AND('Ref Score sheet'!B45=\"a\",'Ref Score sheet'!C45=\"dg\")","v":false},0,0,0,0,0,0,0,null,{"$f":"AND('Ref Score sheet'!B45=\"a\",'Ref Score sheet'!C45=\"bl-off\")","v":false},{"$f":"AND('Ref Score sheet'!B45=\"a\",'Ref Score sheet'!C45=\"bl-on\")","v":false},{"$f":"AND('Ref Score sheet'!B45 = \"a\",'Ref Score sheet'!C45 = \"blr-off\")","v":false},{"$f":"AND('Ref Score sheet'!B45 = \"a\",'Ref Score sheet'!C45 = \"blr-on\")","v":false},{"$f":"AND('Ref Score sheet'!B45=\"a\",'Ref Score sheet'!C45=\"RI-off\")","v":false},{"$f":"AND('Ref Score sheet'!B45=\"a\",'Ref Score sheet'!C45=\"RI-on\")","v":false},{"$f":"AND('Ref Score sheet'!B45 = \"a\",'Ref Score sheet'!C45 = \"CON - OFF\")","v":false},{"$f":"AND('Ref Score sheet'!B45 = \"a\",'Ref Score sheet'!C45 = \"CON - ON\")","v":false},{"$f":"AND('Ref Score sheet'!B45=\"a\",'Ref Score sheet'!C45=\"RT-on\")","v":false},{"$f":"AND('Ref Score sheet'!B45=\"a\",'Ref Score sheet'!C45=\"RT-off\")","v":false},{"$f":"AND('Ref Score sheet'!$B45 = \"a\",'Ref Score sheet'!$C45 = \"rc\")","v":false},{"$f":"AND('Ref Score sheet'!$B45 = \"a\",'Ref Score sheet'!$C45 = \"rcr\")","v":false},{"$f":"AND('Ref Score sheet'!$B45 = \"a\",'Ref Score sheet'!$C45 = \"yc\")","v":false},{"$f":"AND('Ref Score sheet'!$B45 = \"a\",'Ref Score sheet'!$C45 = \"2nd yc\")","v":false},null,{"$f":"AND('Ref Score sheet'!B45 = \"\",'Ref Score sheet'!C45 = \"fh-e\")","v":false},""]
[null,{"$f":"AND('Ref Score sheet'!B46 = \"h\",'Ref Score sheet'!C46 = \"t\")","v":false},{"$f":"AND('Ref Score sheet'!B46 = \"h\",'Ref Score sheet'!C46 = \"pt\")","v":false},{"$f":"AND('Ref Score sheet'!B46 = \"h\",'Ref Score sheet'!C46 = \"c\")","v":false},{"$f":"AND('Ref Score sheet'!B46 = \"h\",'Ref Score sheet'!C46 = \"p\")","v":false},{"$f":"AND('Ref Score sheet'!B46 = \"h\",'Ref Score sheet'!C46 = \"dg\")","v":false},0,0,0,0,0,0,0,null,null,{"$f":"AND('Ref Score sheet'!B46 = \"h\",'Ref Score sheet'!C46 = \"bl-off\")","v":false},{"$f":"AND('Ref Score sheet'!B46 = \"h\",'Ref Score sheet'!C46 = \"bl-on\")","v":false},{"$f":"AND('Ref Score sheet'!B46 = \"h\",'Ref Score sheet'!C46 = \"blr-off\")","v":false},{"$f":"AND('Ref Score sheet'!B46 = \"h\",'Ref Score sheet'!C46 = \"blr-on\")","v":false},{"$f":"AND('Ref Score sheet'!B46 = \"h\",'Ref Score sheet'!C46 = \"RI-off\")","v":false},{"$f":"AND('Ref Score sheet'!B46 = \"h\",'Ref Score sheet'!C46 = \"RI-on\")","v":false},{"$f":"AND('Ref Score sheet'!B46 = \"h\",'Ref Score sheet'!C46 = \"CON-OFF\")","v":false},{"$f":"AND('Ref Score sheet'!B46 = \"h\",'Ref Score sheet'!C46 = \"CON-ON\")","v":false},{"$f":"AND('Ref Score sheet'!B46 = \"h\",'Ref Score sheet'!C46 = \"RT-on\")","v":false},{"$f":"AND('Ref Score sheet'!B46 = \"h\",'Ref Score sheet'!C46 = \"RT-off\")","v":false},{"$f":"AND('Ref Score sheet'!$B46 = \"h\",'Ref Score sheet'!$C46 = \"rc\")","v":false},{"$f":"AND('Ref Score sheet'!$B46 = \"h\",'Ref Score sheet'!$C46 = \"rcr\")","v":false},{"$f":"AND('Ref Score sheet'!$B46 = \"h\",'Ref Score sheet'!$C46 = \"yc\")","v":false},{"$f":"AND('Ref Score sheet'!$B46 = \"h\",'Ref Score sheet'!$C46 = \"2nd yc\")","v":false},null,{"$f":"AND('Ref Score sheet'!B46 = \"\",'Ref Score sheet'!C46 = \"fh-e\")","v":false},"",null,null,{"$f":"AND('Ref Score sheet'!B46=\"a\",'Ref Score sheet'!C46=\"t\")","v":false},{"$f":"AND('Ref Score sheet'!B46=\"a\",'Ref Score sheet'!C46=\"pt\")","v":false},{"$f":"AND('Ref Score sheet'!B46=\"a\",'Ref Score sheet'!C46=\"c\")","v":false},{"$f":"AND('Ref Score sheet'!B46=\"a\",'Ref Score sheet'!C46=\"p\")","v":false},{"$f":"AND('Ref Score sheet'!B46=\"a\",'Ref Score sheet'!C46=\"dg\")","v":false},0,0,0,0,0,0,0,null,{"$f":"AND('Ref Score sheet'!B46=\"a\",'Ref Score sheet'!C46=\"bl-off\")","v":false},{"$f":"AND('Ref Score sheet'!B46=\"a\",'Ref Score sheet'!C46=\"bl-on\")","v":false},{"$f":"AND('Ref Score sheet'!B46 = \"a\",'Ref Score sheet'!C46 = \"blr-off\")","v":false},{"$f":"AND('Ref Score sheet'!B46 = \"a\",'Ref Score sheet'!C46 = \"blr-on\")","v":false},{"$f":"AND('Ref Score sheet'!B46=\"a\",'Ref Score sheet'!C46=\"RI-off\")","v":false},{"$f":"AND('Ref Score sheet'!B46=\"a\",'Ref Score sheet'!C46=\"RI-on\")","v":false},{"$f":"AND('Ref Score sheet'!B46 = \"a\",'Ref Score sheet'!C46 = \"CON - OFF\")","v":false},{"$f":"AND('Ref Score sheet'!B46 = \"a\",'Ref Score sheet'!C46 = \"CON - ON\")","v":false},{"$f":"AND('Ref Score sheet'!B46=\"a\",'Ref Score sheet'!C46=\"RT-on\")","v":false},{"$f":"AND('Ref Score sheet'!B46=\"a\",'Ref Score sheet'!C46=\"RT-off\")","v":false},{"$f":"AND('Ref Score sheet'!$B46 = \"a\",'Ref Score sheet'!$C46 = \"rc\")","v":false},{"$f":"AND('Ref Score sheet'!$B46 = \"a\",'Ref Score sheet'!$C46 = \"rcr\")","v":false},{"$f":"AND('Ref Score sheet'!$B46 = \"a\",'Ref Score sheet'!$C46 = \"yc\")","v":false},{"$f":"AND('Ref Score sheet'!$B46 = \"a\",'Ref Score sheet'!$C46 = \"2nd yc\")","v":false},null,{"$f":"AND('Ref Score sheet'!B46 = \"\",'Ref Score sheet'!C46 = \"fh-e\")","v":false},""]
[null,{"$f":"AND('Ref Score sheet'!B47 = \"h\",'Ref Score sheet'!C47 = \"t\")","v":false},{"$f":"AND('Ref Score sheet'!B47 = \"h\",'Ref Score sheet'!C47 = \"pt\")","v":false},{"$f":"AND('Ref Score sheet'!B47 = \"h\",'Ref Score sheet'!C47 = \"c\")","v":false},{"$f":"AND('Ref Score sheet'!B47 = \"h\",'Ref Score sheet'!C47 = \"p\")","v":false},{"$f":"AND('Ref Score sheet'!B47 = \"h\",'Ref Score sheet'!C47 = \"dg\")","v":false},0,0,0,0,0,0,0,null,null,{"$f":"AND('Ref Score sheet'!B47 = \"h\",'Ref Score sheet'!C47 = \"bl-off\")","v":false},{"$f":"AND('Ref Score sheet'!B47 = \"h\",'Ref Score sheet'!C47 = \"bl-on\")","v":false},{"$f":"AND('Ref Score sheet'!B47 = \"h\",'Ref Score sheet'!C47 = \"blr-off\")","v":false},{"$f":"AND('Ref Score sheet'!B47 = \"h\",'Ref Score sheet'!C47 = \"blr-on\")","v":false},{"$f":"AND('Ref Score sheet'!B47 = \"h\",'Ref Score sheet'!C47 = \"RI-off\")","v":false},{"$f":"AND('Ref Score sheet'!B47 = \"h\",'Ref Score sheet'!C47 = \"RI-on\")","v":false},{"$f":"AND('Ref Score sheet'!B47 = \"h\",'Ref Score sheet'!C47 = \"CON-OFF\")","v":false},{"$f":"AND('Ref Score sheet'!B47 = \"h\",'Ref Score sheet'!C47 = \"CON-ON\")","v":false},{"$f":"AND('Ref Score sheet'!B47 = \"h\",'Ref Score sheet'!C47 = \"RT-on\")","v":false},{"$f":"AND('Ref Score sheet'!B47 = \"h\",'Ref Score sheet'!C47 = \"RT-off\")","v":false},{"$f":"AND('Ref Score sheet'!$B47 = \"h\",'Ref Score sheet'!$C47 = \"rc\")","v":false},{"$f":"AND('Ref Score sheet'!$B47 = \"h\",'Ref Score sheet'!$C47 = \"rcr\")","v":false},{"$f":"AND('Ref Score sheet'!$B47 = \"h\",'Ref Score sheet'!$C47 = \"yc\")","v":false},{"$f":"AND('Ref Score sheet'!$B47 = \"h\",'Ref Score sheet'!$C47 = \"2nd yc\")","v":false},null,{"$f":"AND('Ref Score sheet'!B47 = \"\",'Ref Score sheet'!C47 = \"fh-e\")","v":false},"",null,null,{"$f":"AND('Ref Score sheet'!B47=\"a\",'Ref Score sheet'!C47=\"t\")","v":false},{"$f":"AND('Ref Score sheet'!B47=\"a\",'Ref Score sheet'!C47=\"pt\")","v":false},{"$f":"AND('Ref Score sheet'!B47=\"a\",'Ref Score sheet'!C47=\"c\")","v":false},{"$f":"AND('Ref Score sheet'!B47=\"a\",'Ref Score sheet'!C47=\"p\")","v":false},{"$f":"AND('Ref Score sheet'!B47=\"a\",'Ref Score sheet'!C47=\"dg\")","v":false},0,0,0,0,0,0,0,null,{"$f":"AND('Ref Score sheet'!B47=\"a\",'Ref Score sheet'!C47=\"bl-off\")","v":false},{"$f":"AND('Ref Score sheet'!B47=\"a\",'Ref Score sheet'!C47=\"bl-on\")","v":false},{"$f":"AND('Ref Score sheet'!B47 = \"a\",'Ref Score sheet'!C47 = \"blr-off\")","v":false},{"$f":"AND('Ref Score sheet'!B47 = \"a\",'Ref Score sheet'!C47 = \"blr-on\")","v":false},{"$f":"AND('Ref Score sheet'!B47=\"a\",'Ref Score sheet'!C47=\"RI-off\")","v":false},{"$f":"AND('Ref Score sheet'!B47=\"a\",'Ref Score sheet'!C47=\"RI-on\")","v":false},{"$f":"AND('Ref Score sheet'!B47 = \"a\",'Ref Score sheet'!C47 = \"CON - OFF\")","v":false},{"$f":"AND('Ref Score sheet'!B47 = \"a\",'Ref Score sheet'!C47 = \"CON - ON\")","v":false},{"$f":"AND('Ref Score sheet'!B47=\"a\",'Ref Score sheet'!C47=\"RT-on\")","v":false},{"$f":"AND('Ref Score sheet'!B47=\"a\",'Ref Score sheet'!C47=\"RT-off\")","v":false},{"$f":"AND('Ref Score sheet'!$B47 = \"a\",'Ref Score sheet'!$C47 = \"rc\")","v":false},{"$f":"AND('Ref Score sheet'!$B47 = \"a\",'Ref Score sheet'!$C47 = \"rcr\")","v":false},{"$f":"AND('Ref Score sheet'!$B47 = \"a\",'Ref Score sheet'!$C47 = \"yc\")","v":false},{"$f":"AND('Ref Score sheet'!$B47 = \"a\",'Ref Score sheet'!$C47 = \"2nd yc\")","v":false},null,{"$f":"AND('Ref Score sheet'!B47 = \"\",'Ref Score sheet'!C47 = \"fh-e\")","v":false},""]
[null,{"$f":"AND('Ref Score sheet'!B48 = \"h\",'Ref Score sheet'!C48 = \"t\")","v":false},{"$f":"AND('Ref Score sheet'!B48 = \"h\",'Ref Score sheet'!C48 = \"pt\")","v":false},{"$f":"AND('Ref Score sheet'!B48 = \"h\",'Ref Score sheet'!C48 = \"c\")","v":false},{"$f":"AND('Ref Score sheet'!B48 = \"h\",'Ref Score sheet'!C48 = \"p\")","v":false},{"$f":"AND('Ref Score sheet'!B48 = \"h\",'Ref Score sheet'!C48 = \"dg\")","v":false},0,0,0,0,0,0,0,null,null,{"$f":"AND('Ref Score sheet'!B48 = \"h\",'Ref Score sheet'!C48 = \"bl-off\")","v":false},{"$f":"AND('Ref Score sheet'!B48 = \"h\",'Ref Score sheet'!C48 = \"bl-on\")","v":false},{"$f":"AND('Ref Score sheet'!B48 = \"h\",'Ref Score sheet'!C48 = \"blr-off\")","v":false},{"$f":"AND('Ref Score sheet'!B48 = \"h\",'Ref Score sheet'!C48 = \"blr-on\")","v":false},{"$f":"AND('Ref Score sheet'!B48 = \"h\",'Ref Score sheet'!C48 = \"RI-off\")","v":false},{"$f":"AND('Ref Score sheet'!B48 = \"h\",'Ref Score sheet'!C48 = \"RI-on\")","v":false},{"$f":"AND('Ref Score sheet'!B48 = \"h\",'Ref Score sheet'!C48 = \"CON-OFF\")","v":false},{"$f":"AND('Ref Score sheet'!B48 = \"h\",'Ref Score sheet'!C48 = \"CON-ON\")","v":false},{"$f":"AND('Ref Score sheet'!B48 = \"h\",'Ref Score sheet'!C48 = \"RT-on\")","v":false},{"$f":"AND('Ref Score sheet'!B48 = \"h\",'Ref Score sheet'!C48 = \"RT-off\")","v":false},{"$f":"AND('Ref Score sheet'!$B48 = \"h\",'Ref Score sheet'!$C48 = \"rc\")","v":false},{"$f":"AND('Ref Score sheet'!$B48 = \"h\",'Ref Score sheet'!$C48 = \"rcr\")","v":false},{"$f":"AND('Ref Score sheet'!$B48 = \"h\",'Ref Score sheet'!$C48 = \"yc\")","v":false},{"$f":"AND('Ref Score sheet'!$B48 = \"h\",'Ref Score sheet'!$C48 = \"2nd yc\")","v":false},null,{"$f":"AND('Ref Score sheet'!B48 = \"\",'Ref Score sheet'!C48 = \"fh-e\")","v":false},"",null,null,{"$f":"AND('Ref Score sheet'!B48=\"a\",'Ref Score sheet'!C48=\"t\")","v":false},{"$f":"AND('Ref Score sheet'!B48=\"a\",'Ref Score sheet'!C48=\"pt\")","v":false},{"$f":"AND('Ref Score sheet'!B48=\"a\",'Ref Score sheet'!C48=\"c\")","v":false},{"$f":"AND('Ref Score sheet'!B48=\"a\",'Ref Score sheet'!C48=\"p\")","v":false},{"$f":"AND('Ref Score sheet'!B48=\"a\",'Ref Score sheet'!C48=\"dg\")","v":false},0,0,0,0,0,0,0,null,{"$f":"AND('Ref Score sheet'!B48=\"a\",'Ref Score sheet'!C48=\"bl-off\")","v":false},{"$f":"AND('Ref Score sheet'!B48=\"a\",'Ref Score sheet'!C48=\"bl-on\")","v":false},{"$f":"AND('Ref Score sheet'!B48 = \"a\",'Ref Score sheet'!C48 = \"blr-off\")","v":false},{"$f":"AND('Ref Score sheet'!B48 = \"a\",'Ref Score sheet'!C48 = \"blr-on\")","v":false},{"$f":"AND('Ref Score sheet'!B48=\"a\",'Ref Score sheet'!C48=\"RI-off\")","v":false},{"$f":"AND('Ref Score sheet'!B48=\"a\",'Ref Score sheet'!C48=\"RI-on\")","v":false},{"$f":"AND('Ref Score sheet'!B48 = \"a\",'Ref Score sheet'!C48 = \"CON - OFF\")","v":false},{"$f":"AND('Ref Score sheet'!B48 = \"a\",'Ref Score sheet'!C48 = \"CON - ON\")","v":false},{"$f":"AND('Ref Score sheet'!B48=\"a\",'Ref Score sheet'!C48=\"RT-on\")","v":false},{"$f":"AND('Ref Score sheet'!B48=\"a\",'Ref Score sheet'!C48=\"RT-off\")","v":false},{"$f":"AND('Ref Score sheet'!$B48 = \"a\",'Ref Score sheet'!$C48 = \"rc\")","v":false},{"$f":"AND('Ref Score sheet'!$B48 = \"a\",'Ref Score sheet'!$C48 = \"rcr\")","v":false},{"$f":"AND('Ref Score sheet'!$B48 = \"a\",'Ref Score sheet'!$C48 = \"yc\")","v":false},{"$f":"AND('Ref Score sheet'!$B48 = \"a\",'Ref Score sheet'!$C48 = \"2nd yc\")","v":false},null,{"$f":"AND('Ref Score sheet'!B48 = \"\",'Ref Score sheet'!C48 = \"fh-e\")","v":false},""]
[null,{"$f":"AND('Ref Score sheet'!B49 = \"h\",'Ref Score sheet'!C49 = \"t\")","v":false},{"$f":"AND('Ref Score sheet'!B49 = \"h\",'Ref Score sheet'!C49 = \"pt\")","v":false},{"$f":"AND('Ref Score sheet'!B49 = \"h\",'Ref Score sheet'!C49 = \"c\")","v":false},{"$f":"AND('Ref Score sheet'!B49 = \"h\",'Ref Score sheet'!C49 = \"p\")","v":false},{"$f":"AND('Ref Score sheet'!B49 = \"h\",'Ref Score sheet'!C49 = \"dg\")","v":false},{"$f":"IF(B44 = TRUE,5,0)","v":0},{"$f":"IF(C44 = TRUE,7,0)","v":0},{"$f":"IF(D44 = TRUE,2,0)","v":0},{"$f":"IF(E44 = TRUE,3,0)","v":0},{"$f":"IF(F44 = TRUE,3,0)","v":0},{"$f":"SUM(G44:K44)","v":0},0,null,null,{"$f":"AND('Ref Score sheet'!B49 = \"h\",'Ref Score sheet'!C49 = \"bl-off\")","v":false},{"$f":"AND('Ref Score sheet'!B49 = \"h\",'Ref Score sheet'!C49 = \"bl-on\")","v":false},{"$f":"AND('Ref Score sheet'!B49 = \"h\",'Ref Score sheet'!C49 = \"blr-off\")","v":false},{"$f":"AND('Ref Score sheet'!B49 = \"h\",'Ref Score sheet'!C49 = \"blr-on\")","v":false},{"$f":"AND('Ref Score sheet'!B49 = \"h\",'Ref Score sheet'!C49 = \"RI-off\")","v":false},{"$f":"AND('Ref Score sheet'!B49 = \"h\",'Ref Score sheet'!C49 = \"RI-on\")","v":false},{"$f":"AND('Ref Score sheet'!B49 = \"h\",'Ref Score sheet'!C49 = \"CON-OFF\")","v":false},{"$f":"AND('Ref Score sheet'!B49 = \"h\",'Ref Score sheet'!C49 = \"CON-ON\")","v":false},{"$f":"AND('Ref Score sheet'!B49 = \"h\",'Ref Score sheet'!C49 = \"RT-on\")","v":false},{"$f":"AND('Ref Score sheet'!B49 = \"h\",'Ref Score sheet'!C49 = \"RT-off\")","v":false},{"$f":"AND('Ref Score sheet'!$B49 = \"h\",'Ref Score sheet'!$C49 = \"rc\")","v":false},{"$f":"AND('Ref Score sheet'!$B49 = \"h\",'Ref Score sheet'!$C49 = \"rcr\")","v":false},{"$f":"AND('Ref Score sheet'!$B49 = \"h\",'Ref Score sheet'!$C49 = \"yc\")","v":false},{"$f":"AND('Ref Score sheet'!$B49 = \"h\",'Ref Score sheet'!$C49 = \"2nd yc\")","v":false},null,{"$f":"AND('Ref Score sheet'!B49 = \"\",'Ref Score sheet'!C49 = \"fh-e\")","v":false},"",null,null,{"$f":"AND('Ref Score sheet'!B49=\"a\",'Ref Score sheet'!C49=\"t\")","v":false},{"$f":"AND('Ref Score sheet'!B49=\"a\",'Ref Score sheet'!C49=\"pt\")","v":false},{"$f":"AND('Ref Score sheet'!B49=\"a\",'Ref Score sheet'!C49=\"c\")","v":false},{"$f":"AND('Ref Score sheet'!B49=\"a\",'Ref Score sheet'!C49=\"p\")","v":false},{"$f":"AND('Ref Score sheet'!B49=\"a\",'Ref Score sheet'!C49=\"dg\")","v":false},{"$f":"IF(AI44 = TRUE,5,0)","v":0},{"$f":"IF(AJ44 = TRUE,7,0)","v":0},{"$f":"IF(AK44 = TRUE,2,0)","v":0},{"$f":"IF(AL44 = TRUE,3,0)","v":0},{"$f":"IF(AM44 = TRUE,3,0)","v":0},{"$f":"SUM(AN44:AR44)","v":0},0,null,{"$f":"AND('Ref Score sheet'!B49=\"a\",'Ref Score sheet'!C49=\"bl-off\")","v":false},{"$f":"AND('Ref Score sheet'!B49=\"a\",'Ref Score sheet'!C49=\"bl-on\")","v":false},{"$f":"AND('Ref Score sheet'!B49 = \"a\",'Ref Score sheet'!C49 = \"blr-off\")","v":false},{"$f":"AND('Ref Score sheet'!B49 = \"a\",'Ref Score sheet'!C49 = \"blr-on\")","v":false},{"$f":"AND('Ref Score sheet'!B49=\"a\",'Ref Score sheet'!C49=\"RI-off\")","v":false},{"$f":"AND('Ref Score sheet'!B49=\"a\",'Ref Score sheet'!C49=\"RI-on\")","v":false},{"$f":"AND('Ref Score sheet'!B49 = \"a\",'Ref Score sheet'!C49 = \"CON - OFF\")","v":false},{"$f":"AND('Ref Score sheet'!B49 = \"a\",'Ref Score sheet'!C49 = \"CON - ON\")","v":false},{"$f":"AND('Ref Score sheet'!B49=\"a\",'Ref Score sheet'!C49=\"RT-on\")","v":false},{"$f":"AND('Ref Score sheet'!B49=\"a\",'Ref Score sheet'!C49=\"RT-off\")","v":false},{"$f":"AND('Ref Score sheet'!$B49 = \"a\",'Ref Score sheet'!$C49 = \"rc\")","v":false},{"$f":"AND('Ref Score sheet'!$B49 = \"a\",'Ref Score sheet'!$C49 = \"rcr\")","v":false},{"$f":"AND('Ref Score sheet'!$B49 = \"a\",'Ref Score sheet'!$C49 = \"yc\")","v":false},{"$f":"AND('Ref Score sheet'!$B49 = \"a\",'Ref Score sheet'!$C49 = \"2nd yc\")","v":false},null,{"$f":"AND('Ref Score sheet'!B49 = \"\",'Ref Score sheet'!C49 = \"fh-e\")","v":false},""]
[null,{"$f":"AND('Ref Score sheet'!B50 = \"h\",'Ref Score sheet'!C50 = \"t\")","v":false},{"$f":"AND('Ref Score sheet'!B50 = \"h\",'Ref Score sheet'!C50 = \"pt\")","v":false},{"$f":"AND('Ref Score sheet'!B50 = \"h\",'Ref Score sheet'!C50 = \"c\")","v":false},{"$f":"AND('Ref Score sheet'!B50 = \"h\",'Ref Score sheet'!C50 = \"p\")","v":false},{"$f":"AND('Ref Score sheet'!B50 = \"h\",'Ref Score sheet'!C50 = \"dg\")","v":false},0,0,0,0,0,0,0,null,null,{"$f":"AND('Ref Score sheet'!B50 = \"h\",'Ref Score sheet'!C50 = \"bl-off\")","v":false},{"$f":"AND('Ref Score sheet'!B50 = \"h\",'Ref Score sheet'!C50 = \"bl-on\")","v":false},{"$f":"AND('Ref Score sheet'!B50 = \"h\",'Ref Score sheet'!C50 = \"blr-off\")","v":false},{"$f":"AND('Ref Score sheet'!B50 = \"h\",'Ref Score sheet'!C50 = \"blr-on\")","v":false},{"$f":"AND('Ref Score sheet'!B50 = \"h\",'Ref Score sheet'!C50 = \"RI-off\")","v":false},{"$f":"AND('Ref Score sheet'!B50 = \"h\",'Ref Score sheet'!C50 = \"RI-on\")","v":false},{"$f":"AND('Ref Score sheet'!B50 = \"h\",'Ref Score sheet'!C50 = \"CON-OFF\")","v":false},{"$f":"AND('Ref Score sheet'!B50 = \"h\",'Ref Score sheet'!C50 = \"CON-ON\")","v":false},{"$f":"AND('Ref Score sheet'!B50 = \"h\",'Ref Score sheet'!C50 = \"RT-on\")","v":false},{"$f":"AND('Ref Score sheet'!B50 = \"h\",'Ref Score sheet'!C50 = \"RT-off\")","v":false},{"$f":"AND('Ref Score sheet'!$B50 = \"h\",'Ref Score sheet'!$C50 = \"rc\")","v":false},{"$f":"AND('Ref Score sheet'!$B50 = \"h\",'Ref Score sheet'!$C50 = \"rcr\")","v":false},{"$f":"AND('Ref Score sheet'!$B50 = \"h\",'Ref Score sheet'!$C50 = \"yc\")","v":false},{"$f":"AND('Ref Score sheet'!$B50 = \"h\",'Ref Score sheet'!$C50 = \"2nd yc\")","v":false},null,{"$f":"AND('Ref Score sheet'!B50 = \"\",'Ref Score sheet'!C50 = \"fh-e\")","v":false},"",null,null,{"$f":"AND('Ref Score sheet'!B50=\"a\",'Ref Score sheet'!C50=\"t\")","v":false},{"$f":"AND('Ref Score sheet'!B50=\"a\",'Ref Score sheet'!C50=\"pt\")","v":false},{"$f":"AND('Ref Score sheet'!B50=\"a\",'Ref Score sheet'!C50=\"c\")","v":false},{"$f":"AND('Ref Score sheet'!B50=\"a\",'Ref Score sheet'!C50=\"p\")","v":false},{"$f":"AND('Ref Score sheet'!B50=\"a\",'Ref Score sheet'!C50=\"dg\")","v":false},0,0,0,0,0,0,0,null,{"$f":"AND('Ref Score sheet'!B50=\"a\",'Ref Score sheet'!C50=\"bl-off\")","v":false},{"$f":"AND('Ref Score sheet'!B50=\"a\",'Ref Score sheet'!C50=\"bl-on\")","v":false},{"$f":"AND('Ref Score sheet'!B50 = \"a\",'Ref Score sheet'!C50 = \"blr-off\")","v":false},{"$f":"AND('Ref Score sheet'!B50 = \"a\",'Ref Score sheet'!C50 = \"blr-on\")","v":false},{"$f":"AND('Ref Score sheet'!B50=\"a\",'Ref Score sheet'!C50=\"RI-off\")","v":false},{"$f":"AND('Ref Score sheet'!B50=\"a\",'Ref Score sheet'!C50=\"RI-on\")","v":false},{"$f":"AND('Ref Score sheet'!B50 = \"a\",'Ref Score sheet'!C50 = \"CON - OFF\")","v":false},{"$f":"AND('Ref Score sheet'!B50 = \"a\",'Ref Score sheet'!C50 = \"CON - ON\")","v":false},{"$f":"AND('Ref Score sheet'!B50=\"a\",'Ref Score sheet'!C50=\"RT-on\")","v":false},{"$f":"AND('Ref Score sheet'!B50=\"a\",'Ref Score sheet'!C50=\"RT-off\")","v":false},{"$f":"AND('Ref Score sheet'!$B50 = \"a\",'Ref Score sheet'!$C50 = \"rc\")","v":false},{"$f":"AND('Ref Score sheet'!$B50 = \"a\",'Ref Score sheet'!$C50 = \"rcr\")","v":false},{"$f":"AND('Ref Score sheet'!$B50 = \"a\",'Ref Score sheet'!$C50 = \"yc\")","v":false},{"$f":"AND('Ref Score sheet'!$B50 = \"a\",'Ref Score sheet'!$C50 = \"2nd yc\")","v":false},null,{"$f":"AND('Ref Score sheet'!B50 = \"\",'Ref Score sheet'!C50 = \"fh-e\")","v":false},""]
[null,{"$f":"AND('Ref Score sheet'!B51 = \"h\",'Ref Score sheet'!C51 = \"t\")","v":false},{"$f":"AND('Ref Score sheet'!B51 = \"h\",'Ref Score sheet'!C51 = \"pt\")","v":false},{"$f":"AND('Ref Score sheet'!B51 = \"h\",'Ref Score sheet'!C51 = \"c\")","v":false},{"$f":"AND('Ref Score sheet'!B51 = \"h\",'Ref Score sheet'!C51 = \"p\")","v":false},{"$f":"AND('Ref Score sheet'!B51 = \"h\",'Ref Score sheet'!C51 = \"dg\")","v":false},0,0,0,0,0,0,0,null,null,{"$f":"AND('Ref Score sheet'!B51 = \"h\",'Ref Score sheet'!C51 = \"bl-off\")","v":false},{"$f":"AND('Ref Score sheet'!B51 = \"h\",'Ref Score sheet'!C51 = \"bl-on\")","v":false},{"$f":"AND('Ref Score sheet'!B51 = \"h\",'Ref Score sheet'!C51 = \"blr-off\")","v":false},{"$f":"AND('Ref Score sheet'!B51 = \"h\",'Ref Score sheet'!C51 = \"blr-on\")","v":false},{"$f":"AND('Ref Score sheet'!B51 = \"h\",'Ref Score sheet'!C51 = \"RI-off\")","v":false},{"$f":"AND('Ref Score sheet'!B51 = \"h\",'Ref Score sheet'!C51 = \"RI-on\")","v":false},{"$f":"AND('Ref Score sheet'!B51 = \"h\",'Ref Score sheet'!C51 = \"CON-OFF\")","v":false},{"$f":"AND('Ref Score sheet'!B51 = \"h\",'Ref Score sheet'!C51 = \"CON-ON\")","v":false},{"$f":"AND('Ref Score sheet'!B51 = \"h\",'Ref Score sheet'!C51 = \"RT-on\")","v":false},{"$f":"AND('Ref Score sheet'!B51 = \"h\",'Ref Score sheet'!C51 = \"RT-off\")","v":false},{"$f":"AND('Ref Score sheet'!$B51 = \"h\",'Ref Score sheet'!$C51 = \"rc\")","v":false},{"$f":"AND('Ref Score sheet'!$B51 = \"h\",'Ref Score sheet'!$C51 = \"rcr\")","v":false},{"$f":"AND('Ref Score sheet'!$B51 = \"h\",'Ref Score sheet'!$C51 = \"yc\")","v":false},{"$f":"AND('Ref Score sheet'!$B51 = \"h\",'Ref Score sheet'!$C51 = \"2nd yc\")","v":false},null,{"$f":"AND('Ref Score sheet'!B51 = \"\",'Ref Score sheet'!C51 = \"fh-e\")","v":false},"",null,null,{"$f":"AND('Ref Score sheet'!B51=\"a\",'Ref Score sheet'!C51=\"t\")","v":false},{"$f":"AND('Ref Score sheet'!B51=\"a\",'Ref Score sheet'!C51=\"pt\")","v":false},{"$f":"AND('Ref Score sheet'!B51=\"a\",'Ref Score sheet'!C51=\"c\")","v":false},{"$f":"AND('Ref Score sheet'!B51=\"a\",'Ref Score sheet'!C51=\"p\")","v":false},{"$f":"AND('Ref Score sheet'!B51=\"a\",'Ref Score sheet'!C51=\"dg\")","v":false},0,0,0,0,0,0,0,null,{"$f":"AND('Ref Score sheet'!B51=\"a\",'Ref Score sheet'!C51=\"bl-off\")","v":false},{"$f":"AND('Ref Score sheet'!B51=\"a\",'Ref Score sheet'!C51=\"bl-on\")","v":false},{"$f":"AND('Ref Score sheet'!B51 = \"a\",'Ref Score sheet'!C51 = \"blr-off\")","v":false},{"$f":"AND('Ref Score sheet'!B51 = \"a\",'Ref Score sheet'!C51 = \"blr-on\")","v":false},{"$f":"AND('Ref Score sheet'!B51=\"a\",'Ref Score sheet'!C51=\"RI-off\")","v":false},{"$f":"AND('Ref Score sheet'!B51=\"a\",'Ref Score sheet'!C51=\"RI-on\")","v":false},{"$f":"AND('Ref Score sheet'!B51 = \"a\",'Ref Score sheet'!C51 = \"CON - OFF\")","v":false},{"$f":"AND('Ref Score sheet'!B51 = \"a\",'Ref Score sheet'!C51 = \"CON - ON\")","v":false},{"$f":"AND('Ref Score sheet'!B51=\"a\",'Ref Score sheet'!C51=\"RT-on\")","v":false},{"$f":"AND('Ref Score sheet'!B51=\"a\",'Ref Score sheet'!C51=\"RT-off\")","v":false},{"$f":"AND('Ref Score sheet'!$B51 = \"a\",'Ref Score sheet'!$C51 = \"rc\")","v":false},{"$f":"AND('Ref Score sheet'!$B51 = \"a\",'Ref Score sheet'!$C51 = \"rcr\")","v":false},{"$f":"AND('Ref Score sheet'!$B51 = \"a\",'Ref Score sheet'!$C51 = \"yc\")","v":false},{"$f":"AND('Ref Score sheet'!$B51 = \"a\",'Ref Score sheet'!$C51 = \"2nd yc\")","v":false},null,{"$f":"AND('Ref Score sheet'!B51 = \"\",'Ref Score sheet'!C51 = \"fh-e\")","v":false},""]
[null,{"$f":"AND('Ref Score sheet'!B52 = \"h\",'Ref Score sheet'!C52 = \"t\")","v":false},{"$f":"AND('Ref Score sheet'!B52 = \"h\",'Ref Score sheet'!C52 = \"pt\")","v":false},{"$f":"AND('Ref Score sheet'!B52 = \"h\",'Ref Score sheet'!C52 = \"c\")","v":false},{"$f":"AND('Ref Score sheet'!B52 = \"h\",'Ref Score sheet'!C52 = \"p\")","v":false},{"$f":"AND('Ref Score sheet'!B52 = \"h\",'Ref Score sheet'!C52 = \"dg\")","v":false},0,0,0,0,0,0,0,null,null,{"$f":"AND('Ref Score sheet'!B52 = \"h\",'Ref Score sheet'!C52 = \"bl-off\")","v":false},{"$f":"AND('Ref Score sheet'!B52 = \"h\",'Ref Score sheet'!C52 = \"bl-on\")","v":false},{"$f":"AND('Ref Score sheet'!B52 = \"h\",'Ref Score sheet'!C52 = \"blr-off\")","v":false},{"$f":"AND('Ref Score sheet'!B52 = \"h\",'Ref Score sheet'!C52 = \"blr-on\")","v":false},{"$f":"AND('Ref Score sheet'!B52 = \"h\",'Ref Score sheet'!C52 = \"RI-off\")","v":false},{"$f":"AND('Ref Score sheet'!B52 = \"h\",'Ref Score sheet'!C52 = \"RI-on\")","v":false},{"$f":"AND('Ref Score sheet'!B52 = \"h\",'Ref Score sheet'!C52 = \"CON-OFF\")","v":false},{"$f":"AND('Ref Score sheet'!B52 = \"h\",'Ref Score sheet'!C52 = \"CON-ON\")","v":false},{"$f":"AND('Ref Score sheet'!B52 = \"h\",'Ref Score sheet'!C52 = \"RT-on\")","v":false},{"$f":"AND('Ref Score sheet'!B52 = \"h\",'Ref Score sheet'!C52 = \"RT-off\")","v":false},{"$f":"AND('Ref Score sheet'!$B52 = \"h\",'Ref Score sheet'!$C52 = \"rc\")","v":false},{"$f":"AND('Ref Score sheet'!$B52 = \"h\",'Ref Score sheet'!$C52 = \"rcr\")","v":false},{"$f":"AND('Ref Score sheet'!$B52 = \"h\",'Ref Score sheet'!$C52 = \"yc\")","v":false},{"$f":"AND('Ref Score sheet'!$B52 = \"h\",'Ref Score sheet'!$C52 = \"2nd yc\")","v":false},null,{"$f":"AND('Ref Score sheet'!B52 = \"\",'Ref Score sheet'!C52 = \"fh-e\")","v":false},"",null,null,{"$f":"AND('Ref Score sheet'!B52=\"a\",'Ref Score sheet'!C52=\"t\")","v":false},{"$f":"AND('Ref Score sheet'!B52=\"a\",'Ref Score sheet'!C52=\"pt\")","v":false},{"$f":"AND('Ref Score sheet'!B52=\"a\",'Ref Score sheet'!C52=\"c\")","v":false},{"$f":"AND('Ref Score sheet'!B52=\"a\",'Ref Score sheet'!C52=\"p\")","v":false},{"$f":"AND('Ref Score sheet'!B52=\"a\",'Ref Score sheet'!C52=\"dg\")","v":false},0,0,0,0,0,0,0,null,{"$f":"AND('Ref Score sheet'!B52=\"a\",'Ref Score sheet'!C52=\"bl-off\")","v":false},{"$f":"AND('Ref Score sheet'!B52=\"a\",'Ref Score sheet'!C52=\"bl-on\")","v":false},{"$f":"AND('Ref Score sheet'!B52 = \"a\",'Ref Score sheet'!C52 = \"blr-off\")","v":false},{"$f":"AND('Ref Score sheet'!B52 = \"a\",'Ref Score sheet'!C52 = \"blr-on\")","v":false},{"$f":"AND('Ref Score sheet'!B52=\"a\",'Ref Score sheet'!C52=\"RI-off\")","v":false},{"$f":"AND('Ref Score sheet'!B52=\"a\",'Ref Score sheet'!C52=\"RI-on\")","v":false},{"$f":"AND('Ref Score sheet'!B52 = \"a\",'Ref Score sheet'!C52 = \"CON - OFF\")","v":false},{"$f":"AND('Ref Score sheet'!B52 = \"a\",'Ref Score sheet'!C52 = \"CON - ON\")","v":false},{"$f":"AND('Ref Score sheet'!B52=\"a\",'Ref Score sheet'!C52=\"RT-on\")","v":false},{"$f":"AND('Ref Score sheet'!B52=\"a\",'Ref Score sheet'!C52=\"RT-off\")","v":false},{"$f":"AND('Ref Score sheet'!$B52 = \"a\",'Ref Score sheet'!$C52 = \"rc\")","v":false},{"$f":"AND('Ref Score sheet'!$B52 = \"a\",'Ref Score sheet'!$C52 = \"rcr\")","v":false},{"$f":"AND('Ref Score sheet'!$B52 = \"a\",'Ref Score sheet'!$C52 = \"yc\")","v":false},{"$f":"AND('Ref Score sheet'!$B52 = \"a\",'Ref Score sheet'!$C52 = \"2nd yc\")","v":false},null,{"$f":"AND('Ref Score sheet'!B52 = \"\",'Ref Score sheet'!C52 = \"fh-e\")","v":false},""]
[null,{"$f":"AND('Ref Score sheet'!B53 = \"h\",'Ref Score sheet'!C53 = \"t\")","v":false},{"$f":"AND('Ref Score sheet'!B53 = \"h\",'Ref Score sheet'!C53 = \"pt\")","v":false},{"$f":"AND('Ref Score sheet'!B53 = \"h\",'Ref Score sheet'!C53 = \"c\")","v":false},{"$f":"AND('Ref Score sheet'!B53 = \"h\",'Ref Score sheet'!C53 = \"p\")","v":false},{"$f":"AND('Ref Score sheet'!B53 = \"h\",'Ref Score sheet'!C53 = \"dg\")","v":false},0,0,0,0,0,0,0,null,null,{"$f":"AND('Ref Score sheet'!B53 = \"h\",'Ref Score sheet'!C53 = \"bl-off\")","v":false},{"$f":"AND('Ref Score sheet'!B53 = \"h\",'Ref Score sheet'!C53 = \"bl-on\")","v":false},{"$f":"AND('Ref Score sheet'!B53 = \"h\",'Ref Score sheet'!C53 = \"blr-off\")","v":false},{"$f":"AND('Ref Score sheet'!B53 = \"h\",'Ref Score sheet'!C53 = \"blr-on\")","v":false},{"$f":"AND('Ref Score sheet'!B53 = \"h\",'Ref Score sheet'!C53 = \"RI-off\")","v":false},{"$f":"AND('Ref Score sheet'!B53 = \"h\",'Ref Score sheet'!C53 = \"RI-on\")","v":false},{"$f":"AND('Ref Score sheet'!B53 = \"h\",'Ref Score sheet'!C53 = \"CON-OFF\")","v":false},{"$f":"AND('Ref Score sheet'!B53 = \"h\",'Ref Score sheet'!C53 = \"CON-ON\")","v":false},{"$f":"AND('Ref Score sheet'!B53 = \"h\",'Ref Score sheet'!C53 = \"RT-on\")","v":false},{"$f":"AND('Ref Score sheet'!B53 = \"h\",'Ref Score sheet'!C53 = \"RT-off\")","v":false},{"$f":"AND('Ref Score sheet'!$B53 = \"h\",'Ref Score sheet'!$C53 = \"rc\")","v":false},{"$f":"AND('Ref Score sheet'!$B53 = \"h\",'Ref Score sheet'!$C53 = \"rcr\")","v":false},{"$f":"AND('Ref Score sheet'!$B53 = \"h\",'Ref Score sheet'!$C53 = \"yc\")","v":false},{"$f":"AND('Ref Score sheet'!$B53 = \"h\",'Ref Score sheet'!$C53 = \"2nd yc\")","v":false},null,{"$f":"AND('Ref Score sheet'!B53 = \"\",'Ref Score sheet'!C53 = \"fh-e\")","v":false},"",null,null,{"$f":"AND('Ref Score sheet'!B53=\"a\",'Ref Score sheet'!C53=\"t\")","v":false},{"$f":"AND('Ref Score sheet'!B53=\"a\",'Ref Score sheet'!C53=\"pt\")","v":false},{"$f":"AND('Ref Score sheet'!B53=\"a\",'Ref Score sheet'!C53=\"c\")","v":false},{"$f":"AND('Ref Score sheet'!B53=\"a\",'Ref Score sheet'!C53=\"p\")","v":false},{"$f":"AND('Ref Score sheet'!B53=\"a\",'Ref Score sheet'!C53=\"dg\")","v":false},0,0,0,0,0,0,0,null,{"$f":"AND('Ref Score sheet'!B53=\"a\",'Ref Score sheet'!C53=\"bl-off\")","v":false},{"$f":"AND('Ref Score sheet'!B53=\"a\",'Ref Score sheet'!C53=\"bl-on\")","v":false},{"$f":"AND('Ref Score sheet'!B53 = \"a\",'Ref Score sheet'!C53 = \"blr-off\")","v":false},{"$f":"AND('Ref Score sheet'!B53 = \"a\",'Ref Score sheet'!C53 = \"blr-on\")","v":false},{"$f":"AND('Ref Score sheet'!B53=\"a\",'Ref Score sheet'!C53=\"RI-off\")","v":false},{"$f":"AND('Ref Score sheet'!B53=\"a\",'Ref Score sheet'!C53=\"RI-on\")","v":false},{"$f":"AND('Ref Score sheet'!B53 = \"a\",'Ref Score sheet'!C53 = \"CON - OFF\")","v":false},{"$f":"AND('Ref Score sheet'!B53 = \"a\",'Ref Score sheet'!C53 = \"CON - ON\")","v":false},{"$f":"AND('Ref Score sheet'!B53=\"a\",'Ref Score sheet'!C53=\"RT-on\")","v":false},{"$f":"AND('Ref Score sheet'!B53=\"a\",'Ref Score sheet'!C53=\"RT-off\")","v":false},{"$f":"AND('Ref Score sheet'!$B53 = \"a\",'Ref Score sheet'!$C53 = \"rc\")","v":false},{"$f":"AND('Ref Score sheet'!$B53 = \"a\",'Ref Score sheet'!$C53 = \"rcr\")","v":false},{"$f":"AND('Ref Score sheet'!$B53 = \"a\",'Ref Score sheet'!$C53 = \"yc\")","v":false},{"$f":"AND('Ref Score sheet'!$B53 = \"a\",'Ref Score sheet'!$C53 = \"2nd yc\")","v":false},null,{"$f":"AND('Ref Score sheet'!B53 = \"\",'Ref Score sheet'!C53 = \"fh-e\")","v":false},""]
[null,{"$f":"AND('Ref Score sheet'!B54 = \"h\",'Ref Score sheet'!C54 = \"t\")","v":false},{"$f":"AND('Ref Score sheet'!B54 = \"h\",'Ref Score sheet'!C54 = \"pt\")","v":false},{"$f":"AND('Ref Score sheet'!B54 = \"h\",'Ref Score sheet'!C54 = \"c\")","v":false},{"$f":"AND('Ref Score sheet'!B54 = \"h\",'Ref Score sheet'!C54 = \"p\")","v":false},{"$f":"AND('Ref Score sheet'!B54 = \"h\",'Ref Score sheet'!C54 = \"dg\")","v":false},0,0,0,0,0,0,0,null,null,{"$f":"AND('Ref Score sheet'!B54 = \"h\",'Ref Score sheet'!C54 = \"bl-off\")","v":false},{"$f":"AND('Ref Score sheet'!B54 = \"h\",'Ref Score sheet'!C54 = \"bl-on\")","v":false},{"$f":"AND('Ref Score sheet'!B54 = \"h\",'Ref Score sheet'!C54 = \"blr-off\")","v":false},{"$f":"AND('Ref Score sheet'!B54 = \"h\",'Ref Score sheet'!C54 = \"blr-on\")","v":false},{"$f":"AND('Ref Score sheet'!B54 = \"h\",'Ref Score sheet'!C54 = \"RI-off\")","v":false},{"$f":"AND('Ref Score sheet'!B54 = \"h\",'Ref Score sheet'!C54 = \"RI-on\")","v":false},{"$f":"AND('Ref Score sheet'!B54 = \"h\",'Ref Score sheet'!C54 = \"CON-OFF\")","v":false},{"$f":"AND('Ref Score sheet'!B54 = \"h\",'Ref Score sheet'!C54 = \"CON-ON\")","v":false},{"$f":"AND('Ref Score sheet'!B54 = \"h\",'Ref Score sheet'!C54 = \"RT-on\")","v":false},{"$f":"AND('Ref Score sheet'!B54 = \"h\",'Ref Score sheet'!C54 = \"RT-off\")","v":false},{"$f":"AND('Ref Score sheet'!$B54 = \"h\",'Ref Score sheet'!$C54 = \"rc\")","v":false},{"$f":"AND('Ref Score sheet'!$B54 = \"h\",'Ref Score sheet'!$C54 = \"rcr\")","v":false},{"$f":"AND('Ref Score sheet'!$B54 = \"h\",'Ref Score sheet'!$C54 = \"yc\")","v":false},{"$f":"AND('Ref Score sheet'!$B54 = \"h\",'Ref Score sheet'!$C54 = \"2nd yc\")","v":false},null,{"$f":"AND('Ref Score sheet'!B54 = \"\",'Ref Score sheet'!C54 = \"fh-e\")","v":false},"",null,null,{"$f":"AND('Ref Score sheet'!B54=\"a\",'Ref Score sheet'!C54=\"t\")","v":false},{"$f":"AND('Ref Score sheet'!B54=\"a\",'Ref Score sheet'!C54=\"pt\")","v":false},{"$f":"AND('Ref Score sheet'!B54=\"a\",'Ref Score sheet'!C54=\"c\")","v":false},{"$f":"AND('Ref Score sheet'!B54=\"a\",'Ref Score sheet'!C54=\"p\")","v":false},{"$f":"AND('Ref Score sheet'!B54=\"a\",'Ref Score sheet'!C54=\"dg\")","v":false},0,0,0,0,0,0,0,null,{"$f":"AND('Ref Score sheet'!B54=\"a\",'Ref Score sheet'!C54=\"bl-off\")","v":false},{"$f":"AND('Ref Score sheet'!B54=\"a\",'Ref Score sheet'!C54=\"bl-on\")","v":false},{"$f":"AND('Ref Score sheet'!B54 = \"a\",'Ref Score sheet'!C54 = \"blr-off\")","v":false},{"$f":"AND('Ref Score sheet'!B54 = \"a\",'Ref Score sheet'!C54 = \"blr-on\")","v":false},{"$f":"AND('Ref Score sheet'!B54=\"a\",'Ref Score sheet'!C54=\"RI-off\")","v":false},{"$f":"AND('Ref Score sheet'!B54=\"a\",'Ref Score sheet'!C54=\"RI-on\")","v":false},{"$f":"AND('Ref Score sheet'!B54 = \"a\",'Ref Score sheet'!C54 = \"CON - OFF\")","v":false},{"$f":"AND('Ref Score sheet'!B54 = \"a\",'Ref Score sheet'!C54 = \"CON - ON\")","v":false},{"$f":"AND('Ref Score sheet'!B54=\"a\",'Ref Score sheet'!C54=\"RT-on\")","v":false},{"$f":"AND('Ref Score sheet'!B54=\"a\",'Ref Score sheet'!C54=\"RT-off\")","v":false},{"$f":"AND('Ref Score sheet'!$B54 = \"a\",'Ref Score sheet'!$C54 = \"rc\")","v":false},{"$f":"AND('Ref Score sheet'!$B54 = \"a\",'Ref Score sheet'!$C54 = \"rcr\")","v":false},{"$f":"AND('Ref Score sheet'!$B54 = \"a\",'Ref Score sheet'!$C54 = \"yc\")","v":false},{"$f":"AND('Ref Score sheet'!$B54 = \"a\",'Ref Score sheet'!$C54 = \"2nd yc\")","v":false},null,{"$f":"AND('Ref Score sheet'!B54 = \"\",'Ref Score sheet'!C54 = \"fh-e\")","v":false},""]
[null,{"$f":"AND('Ref Score sheet'!B55 = \"h\",'Ref Score sheet'!C55 = \"t\")","v":false},{"$f":"AND('Ref Score sheet'!B55 = \"h\",'Ref Score sheet'!C55 = \"pt\")","v":false},{"$f":"AND('Ref Score sheet'!B55 = \"h\",'Ref Score sheet'!C55 = \"c\")","v":false},{"$f":"AND('Ref Score sheet'!B55 = \"h\",'Ref Score sheet'!C55 = \"p\")","v":false},{"$f":"AND('Ref Score sheet'!B55 = \"h\",'Ref Score sheet'!C55 = \"dg\")","v":false},0,0,0,0,0,0,0,null,null,{"$f":"AND('Ref Score sheet'!B55 = \"h\",'Ref Score sheet'!C55 = \"bl-off\")","v":false},{"$f":"AND('Ref Score sheet'!B55 = \"h\",'Ref Score sheet'!C55 = \"bl-on\")","v":false},{"$f":"AND('Ref Score sheet'!B55 = \"h\",'Ref Score sheet'!C55 = \"blr-off\")","v":false},{"$f":"AND('Ref Score sheet'!B55 = \"h\",'Ref Score sheet'!C55 = \"blr-on\")","v":false},{"$f":"AND('Ref Score sheet'!B55 = \"h\",'Ref Score sheet'!C55 = \"RI-off\")","v":false},{"$f":"AND('Ref Score sheet'!B55 = \"h\",'Ref Score sheet'!C55 = \"RI-on\")","v":false},{"$f":"AND('Ref Score sheet'!B55 = \"h\",'Ref Score sheet'!C55 = \"CON-OFF\")","v":false},{"$f":"AND('Ref Score sheet'!B55 = \"h\",'Ref Score sheet'!C55 = \"CON-ON\")","v":false},{"$f":"AND('Ref Score sheet'!B55 = \"h\",'Ref Score sheet'!C55 = \"RT-on\")","v":false},{"$f":"AND('Ref Score sheet'!B55 = \"h\",'Ref Score sheet'!C55 = \"RT-off\")","v":false},{"$f":"AND('Ref Score sheet'!$B55 = \"h\",'Ref Score sheet'!$C55 = \"rc\")","v":false},{"$f":"AND('Ref Score sheet'!$B55 = \"h\",'Ref Score sheet'!$C55 = \"rcr\")","v":false},{"$f":"AND('Ref Score sheet'!$B55 = \"h\",'Ref Score sheet'!$C55 = \"yc\")","v":false},{"$f":"AND('Ref Score sheet'!$B55 = \"h\",'Ref Score sheet'!$C55 = \"2nd yc\")","v":false},null,{"$f":"AND('Ref Score sheet'!B55 = \"\",'Ref Score sheet'!C55 = \"fh-e\")","v":false},"",null,null,{"$f":"AND('Ref Score sheet'!B55=\"a\",'Ref Score sheet'!C55=\"t\")","v":false},{"$f":"AND('Ref Score sheet'!B55=\"a\",'Ref Score sheet'!C55=\"pt\")","v":false},{"$f":"AND('Ref Score sheet'!B55=\"a\",'Ref Score sheet'!C55=\"c\")","v":false},{"$f":"AND('Ref Score sheet'!B55=\"a\",'Ref Score sheet'!C55=\"p\")","v":false},{"$f":"AND('Ref Score sheet'!B55=\"a\",'Ref Score sheet'!C55=\"dg\")","v":false},0,0,0,0,0,0,0,null,{"$f":"AND('Ref Score sheet'!B55=\"a\",'Ref Score sheet'!C55=\"bl-off\")","v":false},{"$f":"AND('Ref Score sheet'!B55=\"a\",'Ref Score sheet'!C55=\"bl-on\")","v":false},{"$f":"AND('Ref Score sheet'!B55 = \"a\",'Ref Score sheet'!C55 = \"blr-off\")","v":false},{"$f":"AND('Ref Score sheet'!B55 = \"a\",'Ref Score sheet'!C55 = \"blr-on\")","v":false},{"$f":"AND('Ref Score sheet'!B55=\"a\",'Ref Score sheet'!C55=\"RI-off\")","v":false},{"$f":"AND('Ref Score sheet'!B55=\"a\",'Ref Score sheet'!C55=\"RI-on\")","v":false},{"$f":"AND('Ref Score sheet'!B55 = \"a\",'Ref Score sheet'!C55 = \"CON - OFF\")","v":false},{"$f":"AND('Ref Score sheet'!B55 = \"a\",'Ref Score sheet'!C55 = \"CON - ON\")","v":false},{"$f":"AND('Ref Score sheet'!B55=\"a\",'Ref Score sheet'!C55=\"RT-on\")","v":false},{"$f":"AND('Ref Score sheet'!B55=\"a\",'Ref Score sheet'!C55=\"RT-off\")","v":false},{"$f":"AND('Ref Score sheet'!$B55 = \"a\",'Ref Score sheet'!$C55 = \"rc\")","v":false},{"$f":"AND('Ref Score sheet'!$B55 = \"a\",'Ref Score sheet'!$C55 = \"rcr\")","v":false},{"$f":"AND('Ref Score sheet'!$B55 = \"a\",'Ref Score sheet'!$C55 = \"yc\")","v":false},{"$f":"AND('Ref Score sheet'!$B55 = \"a\",'Ref Score sheet'!$C55 = \"2nd yc\")","v":false},null,{"$f":"AND('Ref Score sheet'!B55 = \"\",'Ref Score sheet'!C55 = \"fh-e\")","v":false},""]
[null,{"$f":"AND('Ref Score sheet'!B56 = \"h\",'Ref Score sheet'!C56 = \"t\")","v":false},{"$f":"AND('Ref Score sheet'!B56 = \"h\",'Ref Score sheet'!C56 = \"pt\")","v":false},{"$f":"AND('Ref Score sheet'!B56 = \"h\",'Ref Score sheet'!C56 = \"c\")","v":false},{"$f":"AND('Ref Score sheet'!B56 = \"h\",'Ref Score sheet'!C56 = \"p\")","v":false},{"$f":"AND('Ref Score sheet'!B56 = \"h\",'Ref Score sheet'!C56 = \"dg\")","v":false},0,0,0,0,0,0,0,null,null,{"$f":"AND('Ref Score sheet'!B56 = \"h\",'Ref Score sheet'!C56 = \"bl-off\")","v":false},{"$f":"AND('Ref Score sheet'!B56 = \"h\",'Ref Score sheet'!C56 = \"bl-on\")","v":false},{"$f":"AND('Ref Score sheet'!B56 = \"h\",'Ref Score sheet'!C56 = \"blr-off\")","v":false},{"$f":"AND('Ref Score sheet'!B56 = \"h\",'Ref Score sheet'!C56 = \"blr-on\")","v":false},{"$f":"AND('Ref Score sheet'!B56 = \"h\",'Ref Score sheet'!C56 = \"RI-off\")","v":false},{"$f":"AND('Ref Score sheet'!B56 = \"h\",'Ref Score sheet'!C56 = \"RI-on\")","v":false},{"$f":"AND('Ref Score sheet'!B56 = \"h\",'Ref Score sheet'!C56 = \"CON-OFF\")","v":false},{"$f":"AND('Ref Score sheet'!B56 = \"h\",'Ref Score sheet'!C56 = \"CON-ON\")","v":false},{"$f":"AND('Ref Score sheet'!B56 = \"h\",'Ref Score sheet'!C56 = \"RT-on\")","v":false},{"$f":"AND('Ref Score sheet'!B56 = \"h\",'Ref Score sheet'!C56 = \"RT-off\")","v":false},{"$f":"AND('Ref Score sheet'!$B56 = \"h\",'Ref Score sheet'!$C56 = \"rc\")","v":false},{"$f":"AND('Ref Score sheet'!$B56 = \"h\",'Ref Score sheet'!$C56 = \"rcr\")","v":false},{"$f":"AND('Ref Score sheet'!$B56 = \"h\",'Ref Score sheet'!$C56 = \"yc\")","v":false},{"$f":"AND('Ref Score sheet'!$B56 = \"h\",'Ref Score sheet'!$C56 = \"2nd yc\")","v":false},null,{"$f":"AND('Ref Score sheet'!B56 = \"\",'Ref Score sheet'!C56 = \"fh-e\")","v":false},"",null,null,{"$f":"AND('Ref Score sheet'!B56=\"a\",'Ref Score sheet'!C56=\"t\")","v":false},{"$f":"AND('Ref Score sheet'!B56=\"a\",'Ref Score sheet'!C56=\"pt\")","v":false},{"$f":"AND('Ref Score sheet'!B56=\"a\",'Ref Score sheet'!C56=\"c\")","v":false},{"$f":"AND('Ref Score sheet'!B56=\"a\",'Ref Score sheet'!C56=\"p\")","v":false},{"$f":"AND('Ref Score sheet'!B56=\"a\",'Ref Score sheet'!C56=\"dg\")","v":false},0,0,0,0,0,0,0,null,{"$f":"AND('Ref Score sheet'!B56=\"a\",'Ref Score sheet'!C56=\"bl-off\")","v":false},{"$f":"AND('Ref Score sheet'!B56=\"a\",'Ref Score sheet'!C56=\"bl-on\")","v":false},{"$f":"AND('Ref Score sheet'!B56 = \"a\",'Ref Score sheet'!C56 = \"blr-off\")","v":false},{"$f":"AND('Ref Score sheet'!B56 = \"a\",'Ref Score sheet'!C56 = \"blr-on\")","v":false},{"$f":"AND('Ref Score sheet'!B56=\"a\",'Ref Score sheet'!C56=\"RI-off\")","v":false},{"$f":"AND('Ref Score sheet'!B56=\"a\",'Ref Score sheet'!C56=\"RI-on\")","v":false},{"$f":"AND('Ref Score sheet'!B56 = \"a\",'Ref Score sheet'!C56 = \"CON - OFF\")","v":false},{"$f":"AND('Ref Score sheet'!B56 = \"a\",'Ref Score sheet'!C56 = \"CON - ON\")","v":false},{"$f":"AND('Ref Score sheet'!B56=\"a\",'Ref Score sheet'!C56=\"RT-on\")","v":false},{"$f":"AND('Ref Score sheet'!B56=\"a\",'Ref Score sheet'!C56=\"RT-off\")","v":false},{"$f":"AND('Ref Score sheet'!$B56 = \"a\",'Ref Score sheet'!$C56 = \"rc\")","v":false},{"$f":"AND('Ref Score sheet'!$B56 = \"a\",'Ref Score sheet'!$C56 = \"rcr\")","v":false},{"$f":"AND('Ref Score sheet'!$B56 = \"a\",'Ref Score sheet'!$C56 = \"yc\")","v":false},{"$f":"AND('Ref Score sheet'!$B56 = \"a\",'Ref Score sheet'!$C56 = \"2nd yc\")","v":false},null,{"$f":"AND('Ref Score sheet'!B56 = \"\",'Ref Score sheet'!C56 = \"fh-e\")","v":false},""]
[null,{"$f":"AND('Ref Score sheet'!B57 = \"h\",'Ref Score sheet'!C57 = \"t\")","v":false},{"$f":"AND('Ref Score sheet'!B57 = \"h\",'Ref Score sheet'!C57 = \"pt\")","v":false},{"$f":"AND('Ref Score sheet'!B57 = \"h\",'Ref Score sheet'!C57 = \"c\")","v":false},{"$f":"AND('Ref Score sheet'!B57 = \"h\",'Ref Score sheet'!C57 = \"p\")","v":false},{"$f":"AND('Ref Score sheet'!B57 = \"h\",'Ref Score sheet'!C57 = \"dg\")","v":false},0,0,0,0,0,0,0,null,null,{"$f":"AND('Ref Score sheet'!B57 = \"h\",'Ref Score sheet'!C57 = \"bl-off\")","v":false},{"$f":"AND('Ref Score sheet'!B57 = \"h\",'Ref Score sheet'!C57 = \"bl-on\")","v":false},{"$f":"AND('Ref Score sheet'!B57 = \"h\",'Ref Score sheet'!C57 = \"blr-off\")","v":false},{"$f":"AND('Ref Score sheet'!B57 = \"h\",'Ref Score sheet'!C57 = \"blr-on\")","v":false},{"$f":"AND('Ref Score sheet'!B57 = \"h\",'Ref Score sheet'!C57 = \"RI-off\")","v":false},{"$f":"AND('Ref Score sheet'!B57 = \"h\",'Ref Score sheet'!C57 = \"RI-on\")","v":false},{"$f":"AND('Ref Score sheet'!B57 = \"h\",'Ref Score sheet'!C57 = \"CON-OFF\")","v":false},{"$f":"AND('Ref Score sheet'!B57 = \"h\",'Ref Score sheet'!C57 = \"CON-ON\")","v":false},{"$f":"AND('Ref Score sheet'!B57 = \"h\",'Ref Score sheet'!C57 = \"RT-on\")","v":false},{"$f":"AND('Ref Score sheet'!B57 = \"h\",'Ref Score sheet'!C57 = \"RT-off\")","v":false},{"$f":"AND('Ref Score sheet'!$B57 = \"h\",'Ref Score sheet'!$C57 = \"rc\")","v":false},{"$f":"AND('Ref Score sheet'!$B57 = \"h\",'Ref Score sheet'!$C57 = \"rcr\")","v":false},{"$f":"AND('Ref Score sheet'!$B57 = \"h\",'Ref Score sheet'!$C57 = \"yc\")","v":false},{"$f":"AND('Ref Score sheet'!$B57 = \"h\",'Ref Score sheet'!$C57 = \"2nd yc\")","v":false},null,{"$f":"AND('Ref Score sheet'!B57 = \"\",'Ref Score sheet'!C57 = \"fh-e\")","v":false},"",null,null,{"$f":"AND('Ref Score sheet'!B57=\"a\",'Ref Score sheet'!C57=\"t\")","v":false},{"$f":"AND('Ref Score sheet'!B57=\"a\",'Ref Score sheet'!C57=\"pt\")","v":false},{"$f":"AND('Ref Score sheet'!B57=\"a\",'Ref Score sheet'!C57=\"c\")","v":false},{"$f":"AND('Ref Score sheet'!B57=\"a\",'Ref Score sheet'!C57=\"p\")","v":false},{"$f":"AND('Ref Score sheet'!B57=\"a\",'Ref Score sheet'!C57=\"dg\")","v":false},0,0,0,0,0,0,0,null,{"$f":"AND('Ref Score sheet'!B57=\"a\",'Ref Score sheet'!C57=\"bl-off\")","v":false},{"$f":"AND('Ref Score sheet'!B57=\"a\",'Ref Score sheet'!C57=\"bl-on\")","v":false},{"$f":"AND('Ref Score sheet'!B57 = \"a\",'Ref Score sheet'!C57 = \"blr-off\")","v":false},{"$f":"AND('Ref Score sheet'!B57 = \"a\",'Ref Score sheet'!C57 = \"blr-on\")","v":false},{"$f":"AND('Ref Score sheet'!B57=\"a\",'Ref Score sheet'!C57=\"RI-off\")","v":false},{"$f":"AND('Ref Score sheet'!B57=\"a\",'Ref Score sheet'!C57=\"RI-on\")","v":false},{"$f":"AND('Ref Score sheet'!B57 = \"a\",'Ref Score sheet'!C57 = \"CON - OFF\")","v":false},{"$f":"AND('Ref Score sheet'!B57 = \"a\",'Ref Score sheet'!C57 = \"CON - ON\")","v":false},{"$f":"AND('Ref Score sheet'!B57=\"a\",'Ref Score sheet'!C57=\"RT-on\")","v":false},{"$f":"AND('Ref Score sheet'!B57=\"a\",'Ref Score sheet'!C57=\"RT-off\")","v":false},{"$f":"AND('Ref Score sheet'!$B57 = \"a\",'Ref Score sheet'!$C57 = \"rc\")","v":false},{"$f":"AND('Ref Score sheet'!$B57 = \"a\",'Ref Score sheet'!$C57 = \"rcr\")","v":false},{"$f":"AND('Ref Score sheet'!$B57 = \"a\",'Ref Score sheet'!$C57 = \"yc\")","v":false},{"$f":"AND('Ref Score sheet'!$B57 = \"a\",'Ref Score sheet'!$C57 = \"2nd yc\")","v":false},null,{"$f":"AND('Ref Score sheet'!B57 = \"\",'Ref Score sheet'!C57 = \"fh-e\")","v":false},""]
[null,{"$f":"AND('Ref Score sheet'!B58 = \"h\",'Ref Score sheet'!C58 = \"t\")","v":false},{"$f":"AND('Ref Score sheet'!B58 = \"h\",'Ref Score sheet'!C58 = \"pt\")","v":false},{"$f":"AND('Ref Score sheet'!B58 = \"h\",'Ref Score sheet'!C58 = \"c\")","v":false},{"$f":"AND('Ref Score sheet'!B58 = \"h\",'Ref Score sheet'!C58 = \"p\")","v":false},{"$f":"AND('Ref Score sheet'!B58 = \"h\",'Ref Score sheet'!C58 = \"dg\")","v":false},0,0,0,0,0,0,0,null,null,{"$f":"AND('Ref Score sheet'!B58 = \"h\",'Ref Score sheet'!C58 = \"bl-off\")","v":false},{"$f":"AND('Ref Score sheet'!B58 = \"h\",'Ref Score sheet'!C58 = \"bl-on\")","v":false},{"$f":"AND('Ref Score sheet'!B58 = \"h\",'Ref Score sheet'!C58 = \"blr-off\")","v":false},{"$f":"AND('Ref Score sheet'!B58 = \"h\",'Ref Score sheet'!C58 = \"blr-on\")","v":false},{"$f":"AND('Ref Score sheet'!B58 = \"h\",'Ref Score sheet'!C58 = \"RI-off\")","v":false},{"$f":"AND('Ref Score sheet'!B58 = \"h\",'Ref Score sheet'!C58 = \"RI-on\")","v":false},{"$f":"AND('Ref Score sheet'!B58 = \"h\",'Ref Score sheet'!C58 = \"CON-OFF\")","v":false},{"$f":"AND('Ref Score sheet'!B58 = \"h\",'Ref Score sheet'!C58 = \"CON-ON\")","v":false},{"$f":"AND('Ref Score sheet'!B58 = \"h\",'Ref Score sheet'!C58 = \"RT-on\")","v":false},{"$f":"AND('Ref Score sheet'!B58 = \"h\",'Ref Score sheet'!C58 = \"RT-off\")","v":false},{"$f":"AND('Ref Score sheet'!$B58 = \"h\",'Ref Score sheet'!$C58 = \"rc\")","v":false},{"$f":"AND('Ref Score sheet'!$B58 = \"h\",'Ref Score sheet'!$C58 = \"rcr\")","v":false},{"$f":"AND('Ref Score sheet'!$B58 = \"h\",'Ref Score sheet'!$C58 = \"yc\")","v":false},{"$f":"AND('Ref Score sheet'!$B58 = \"h\",'Ref Score sheet'!$C58 = \"2nd yc\")","v":false},null,{"$f":"AND('Ref Score sheet'!B58 = \"\",'Ref Score sheet'!C58 = \"fh-e\")","v":false},"",null,null,{"$f":"AND('Ref Score sheet'!B58=\"a\",'Ref Score sheet'!C58=\"t\")","v":false},{"$f":"AND('Ref Score sheet'!B58=\"a\",'Ref Score sheet'!C58=\"pt\")","v":false},{"$f":"AND('Ref Score sheet'!B58=\"a\",'Ref Score sheet'!C58=\"c\")","v":false},{"$f":"AND('Ref Score sheet'!B58=\"a\",'Ref Score sheet'!C58=\"p\")","v":false},{"$f":"AND('Ref Score sheet'!B58=\"a\",'Ref Score sheet'!C58=\"dg\")","v":false},0,0,0,0,0,0,0,null,{"$f":"AND('Ref Score sheet'!B58=\"a\",'Ref Score sheet'!C58=\"bl-off\")","v":false},{"$f":"AND('Ref Score sheet'!B58=\"a\",'Ref Score sheet'!C58=\"bl-on\")","v":false},{"$f":"AND('Ref Score sheet'!B58 = \"a\",'Ref Score sheet'!C58 = \"blr-off\")","v":false},{"$f":"AND('Ref Score sheet'!B58 = \"a\",'Ref Score sheet'!C58 = \"blr-on\")","v":false},{"$f":"AND('Ref Score sheet'!B58=\"a\",'Ref Score sheet'!C58=\"RI-off\")","v":false},{"$f":"AND('Ref Score sheet'!B58=\"a\",'Ref Score sheet'!C58=\"RI-on\")","v":false},{"$f":"AND('Ref Score sheet'!B58 = \"a\",'Ref Score sheet'!C58 = \"CON - OFF\")","v":false},{"$f":"AND('Ref Score sheet'!B58 = \"a\",'Ref Score sheet'!C58 = \"CON - ON\")","v":false},{"$f":"AND('Ref Score sheet'!B58=\"a\",'Ref Score sheet'!C58=\"RT-on\")","v":false},{"$f":"AND('Ref Score sheet'!B58=\"a\",'Ref Score sheet'!C58=\"RT-off\")","v":false},{"$f":"AND('Ref Score sheet'!$B58 = \"a\",'Ref Score sheet'!$C58 = \"rc\")","v":false},{"$f":"AND('Ref Score sheet'!$B58 = \"a\",'Ref Score sheet'!$C58 = \"rcr\")","v":false},{"$f":"AND('Ref Score sheet'!$B58 = \"a\",'Ref Score sheet'!$C58 = \"yc\")","v":false},{"$f":"AND('Ref Score sheet'!$B58 = \"a\",'Ref Score sheet'!$C58 = \"2nd yc\")","v":false},null,{"$f":"AND('Ref Score sheet'!B58 = \"\",'Ref Score sheet'!C58 = \"fh-e\")","v":false},""]
[null,{"$f":"AND('Ref Score sheet'!B59 = \"h\",'Ref Score sheet'!C59 = \"t\")","v":false},{"$f":"AND('Ref Score sheet'!B59 = \"h\",'Ref Score sheet'!C59 = \"pt\")","v":false},{"$f":"AND('Ref Score sheet'!B59 = \"h\",'Ref Score sheet'!C59 = \"c\")","v":false},{"$f":"AND('Ref Score sheet'!B59 = \"h\",'Ref Score sheet'!C59 = \"p\")","v":false},{"$f":"AND('Ref Score sheet'!B59 = \"h\",'Ref Score sheet'!C59 = \"dg\")","v":false},0,0,0,0,0,0,0,null,null,{"$f":"AND('Ref Score sheet'!B59 = \"h\",'Ref Score sheet'!C59 = \"bl-off\")","v":false},{"$f":"AND('Ref Score sheet'!B59 = \"h\",'Ref Score sheet'!C59 = \"bl-on\")","v":false},{"$f":"AND('Ref Score sheet'!B59 = \"h\",'Ref Score sheet'!C59 = \"blr-off\")","v":false},{"$f":"AND('Ref Score sheet'!B59 = \"h\",'Ref Score sheet'!C59 = \"blr-on\")","v":false},{"$f":"AND('Ref Score sheet'!B59 = \"h\",'Ref Score sheet'!C59 = \"RI-off\")","v":false},{"$f":"AND('Ref Score sheet'!B59 = \"h\",'Ref Score sheet'!C59 = \"RI-on\")","v":false},{"$f":"AND('Ref Score sheet'!B59 = \"h\",'Ref Score sheet'!C59 = \"CON-OFF\")","v":false},{"$f":"AND('Ref Score sheet'!B59 = \"h\",'Ref Score sheet'!C59 = \"CON-ON\")","v":false},{"$f":"AND('Ref Score sheet'!B59 = \"h\",'Ref Score sheet'!C59 = \"RT-on\")","v":false},{"$f":"AND('Ref Score sheet'!B59 = \"h\",'Ref Score sheet'!C59 = \"RT-off\")","v":false},{"$f":"AND('Ref Score sheet'!$B59 = \"h\",'Ref Score sheet'!$C59 = \"rc\")","v":false},{"$f":"AND('Ref Score sheet'!$B59 = \"h\",'Ref Score sheet'!$C59 = \"rcr\")","v":false},{"$f":"AND('Ref Score sheet'!$B59 = \"h\",'Ref Score sheet'!$C59 = \"yc\")","v":false},{"$f":"AND('Ref Score sheet'!$B59 = \"h\",'Ref Score sheet'!$C59 = \"2nd yc\")","v":false},null,{"$f":"AND('Ref Score sheet'!B59 = \"\",'Ref Score sheet'!C59 = \"fh-e\")","v":false},"",null,null,{"$f":"AND('Ref Score sheet'!B59=\"a\",'Ref Score sheet'!C59=\"t\")","v":false},{"$f":"AND('Ref Score sheet'!B59=\"a\",'Ref Score sheet'!C59=\"pt\")","v":false},{"$f":"AND('Ref Score sheet'!B59=\"a\",'Ref Score sheet'!C59=\"c\")","v":false},{"$f":"AND('Ref Score sheet'!B59=\"a\",'Ref Score sheet'!C59=\"p\")","v":false},{"$f":"AND('Ref Score sheet'!B59=\"a\",'Ref Score sheet'!C59=\"dg\")","v":false},0,0,0,0,0,0,0,null,{"$f":"AND('Ref Score sheet'!B59=\"a\",'Ref Score sheet'!C59=\"bl-off\")","v":false},{"$f":"AND('Ref Score sheet'!B59=\"a\",'Ref Score sheet'!C59=\"bl-on\")","v":false},{"$f":"AND('Ref Score sheet'!B59 = \"a\",'Ref Score sheet'!C59 = \"blr-off\")","v":false},{"$f":"AND('Ref Score sheet'!B59 = \"a\",'Ref Score sheet'!C59 = \"blr-on\")","v":false},{"$f":"AND('Ref Score sheet'!B59=\"a\",'Ref Score sheet'!C59=\"RI-off\")","v":false},{"$f":"AND('Ref Score sheet'!B59=\"a\",'Ref Score sheet'!C59=\"RI-on\")","v":false},{"$f":"AND('Ref Score sheet'!B59 = \"a\",'Ref Score sheet'!C59 = \"CON - OFF\")","v":false},{"$f":"AND('Ref Score sheet'!B59 = \"a\",'Ref Score sheet'!C59 = \"CON - ON\")","v":false},{"$f":"AND('Ref Score sheet'!B59=\"a\",'Ref Score sheet'!C59=\"RT-on\")","v":false},{"$f":"AND('Ref Score sheet'!B59=\"a\",'Ref Score sheet'!C59=\"RT-off\")","v":false},{"$f":"AND('Ref Score sheet'!$B59 = \"a\",'Ref Score sheet'!$C59 = \"rc\")","v":false},{"$f":"AND('Ref Score sheet'!$B59 = \"a\",'Ref Score sheet'!$C59 = \"rcr\")","v":false},{"$f":"AND('Ref Score sheet'!$B59 = \"a\",'Ref Score sheet'!$C59 = \"yc\")","v":false},{"$f":"AND('Ref Score sheet'!$B59 = \"a\",'Ref Score sheet'!$C59 = \"2nd yc\")","v":false},null,{"$f":"AND('Ref Score sheet'!B59 = \"\",'Ref Score sheet'!C59 = \"fh-e\")","v":false},""]
[null,{"$f":"AND('Ref Score sheet'!B60 = \"h\",'Ref Score sheet'!C60 = \"t\")","v":false},{"$f":"AND('Ref Score sheet'!B60 = \"h\",'Ref Score sheet'!C60 = \"pt\")","v":false},{"$f":"AND('Ref Score sheet'!B60 = \"h\",'Ref Score sheet'!C60 = \"c\")","v":false},{"$f":"AND('Ref Score sheet'!B60 = \"h\",'Ref Score sheet'!C60 = \"p\")","v":false},{"$f":"AND('Ref Score sheet'!B60 = \"h\",'Ref Score sheet'!C60 = \"dg\")","v":false},0,0,0,0,0,0,0,null,null,{"$f":"AND('Ref Score sheet'!B60 = \"h\",'Ref Score sheet'!C60 = \"bl-off\")","v":false},{"$f":"AND('Ref Score sheet'!B60 = \"h\",'Ref Score sheet'!C60 = \"bl-on\")","v":false},{"$f":"AND('Ref Score sheet'!B60 = \"h\",'Ref Score sheet'!C60 = \"blr-off\")","v":false},{"$f":"AND('Ref Score sheet'!B60 = \"h\",'Ref Score sheet'!C60 = \"blr-on\")","v":false},{"$f":"AND('Ref Score sheet'!B60 = \"h\",'Ref Score sheet'!C60 = \"RI-off\")","v":false},{"$f":"AND('Ref Score sheet'!B60 = \"h\",'Ref Score sheet'!C60 = \"RI-on\")","v":false},{"$f":"AND('Ref Score sheet'!B60 = \"h\",'Ref Score sheet'!C60 = \"CON-OFF\")","v":false},{"$f":"AND('Ref Score sheet'!B60 = \"h\",'Ref Score sheet'!C60 = \"CON-ON\")","v":false},{"$f":"AND('Ref Score sheet'!B60 = \"h\",'Ref Score sheet'!C60 = \"RT-on\")","v":false},{"$f":"AND('Ref Score sheet'!B60 = \"h\",'Ref Score sheet'!C60 = \"RT-off\")","v":false},{"$f":"AND('Ref Score sheet'!$B60 = \"h\",'Ref Score sheet'!$C60 = \"rc\")","v":false},{"$f":"AND('Ref Score sheet'!$B60 = \"h\",'Ref Score sheet'!$C60 = \"rcr\")","v":false},{"$f":"AND('Ref Score sheet'!$B60 = \"h\",'Ref Score sheet'!$C60 = \"yc\")","v":false},{"$f":"AND('Ref Score sheet'!$B60 = \"h\",'Ref Score sheet'!$C60 = \"2nd yc\")","v":false},null,{"$f":"AND('Ref Score sheet'!B60 = \"\",'Ref Score sheet'!C60 = \"fh-e\")","v":false},"",null,null,{"$f":"AND('Ref Score sheet'!B60=\"a\",'Ref Score sheet'!C60=\"t\")","v":false},{"$f":"AND('Ref Score sheet'!B60=\"a\",'Ref Score sheet'!C60=\"pt\")","v":false},{"$f":"AND('Ref Score sheet'!B60=\"a\",'Ref Score sheet'!C60=\"c\")","v":false},{"$f":"AND('Ref Score sheet'!B60=\"a\",'Ref Score sheet'!C60=\"p\")","v":false},{"$f":"AND('Ref Score sheet'!B60=\"a\",'Ref Score sheet'!C60=\"dg\")","v":false},0,0,0,0,0,0,0,null,{"$f":"AND('Ref Score sheet'!B60=\"a\",'Ref Score sheet'!C60=\"bl-off\")","v":false},{"$f":"AND('Ref Score sheet'!B60=\"a\",'Ref Score sheet'!C60=\"bl-on\")","v":false},{"$f":"AND('Ref Score sheet'!B60 = \"a\",'Ref Score sheet'!C60 = \"blr-off\")","v":false},{"$f":"AND('Ref Score sheet'!B60 = \"a\",'Ref Score sheet'!C60 = \"blr-on\")","v":false},{"$f":"AND('Ref Score sheet'!B60=\"a\",'Ref Score sheet'!C60=\"RI-off\")","v":false},{"$f":"AND('Ref Score sheet'!B60=\"a\",'Ref Score sheet'!C60=\"RI-on\")","v":false},{"$f":"AND('Ref Score sheet'!B60 = \"a\",'Ref Score sheet'!C60 = \"CON - OFF\")","v":false},{"$f":"AND('Ref Score sheet'!B60 = \"a\",'Ref Score sheet'!C60 = \"CON - ON\")","v":false},{"$f":"AND('Ref Score sheet'!B60=\"a\",'Ref Score sheet'!C60=\"RT-on\")","v":false},{"$f":"AND('Ref Score sheet'!B60=\"a\",'Ref Score sheet'!C60=\"RT-off\")","v":false},{"$f":"AND('Ref Score sheet'!$B60 = \"a\",'Ref Score sheet'!$C60 = \"rc\")","v":false},{"$f":"AND('Ref Score sheet'!$B60 = \"a\",'Ref Score sheet'!$C60 = \"rcr\")","v":false},{"$f":"AND('Ref Score sheet'!$B60 = \"a\",'Ref Score sheet'!$C60 = \"yc\")","v":false},{"$f":"AND('Ref Score sheet'!$B60 = \"a\",'Ref Score sheet'!$C60 = \"2nd yc\")","v":false},null,{"$f":"AND('Ref Score sheet'!B60 = \"\",'Ref Score sheet'!C60 = \"fh-e\")","v":false},""]
[null,{"$f":"AND('Ref Score sheet'!B61 = \"h\",'Ref Score sheet'!C61 = \"t\")","v":false},{"$f":"AND('Ref Score sheet'!B61 = \"h\",'Ref Score sheet'!C61 = \"pt\")","v":false},{"$f":"AND('Ref Score sheet'!B61 = \"h\",'Ref Score sheet'!C61 = \"c\")","v":false},{"$f":"AND('Ref Score sheet'!B61 = \"h\",'Ref Score sheet'!C61 = \"p\")","v":false},{"$f":"AND('Ref Score sheet'!B61 = \"h\",'Ref Score sheet'!C61 = \"dg\")","v":false},0,0,0,0,0,0,0,null,null,{"$f":"AND('Ref Score sheet'!B61 = \"h\",'Ref Score sheet'!C61 = \"bl-off\")","v":false},{"$f":"AND('Ref Score sheet'!B61 = \"h\",'Ref Score sheet'!C61 = \"bl-on\")","v":false},{"$f":"AND('Ref Score sheet'!B61 = \"h\",'Ref Score sheet'!C61 = \"blr-off\")","v":false},{"$f":"AND('Ref Score sheet'!B61 = \"h\",'Ref Score sheet'!C61 = \"blr-on\")","v":false},{"$f":"AND('Ref Score sheet'!B61 = \"h\",'Ref Score sheet'!C61 = \"RI-off\")","v":false},{"$f":"AND('Ref Score sheet'!B61 = \"h\",'Ref Score sheet'!C61 = \"RI-on\")","v":false},{"$f":"AND('Ref Score sheet'!B61 = \"h\",'Ref Score sheet'!C61 = \"CON-OFF\")","v":false},{"$f":"AND('Ref Score sheet'!B61 = \"h\",'Ref Score sheet'!C61 = \"CON-ON\")","v":false},{"$f":"AND('Ref Score sheet'!B61 = \"h\",'Ref Score sheet'!C61 = \"RT-on\")","v":false},{"$f":"AND('Ref Score sheet'!B61 = \"h\",'Ref Score sheet'!C61 = \"RT-off\")","v":false},{"$f":"AND('Ref Score sheet'!$B61 = \"h\",'Ref Score sheet'!$C61 = \"rc\")","v":false},{"$f":"AND('Ref Score sheet'!$B61 = \"h\",'Ref Score sheet'!$C61 = \"rcr\")","v":false},{"$f":"AND('Ref Score sheet'!$B61 = \"h\",'Ref Score sheet'!$C61 = \"yc\")","v":false},{"$f":"AND('Ref Score sheet'!$B61 = \"h\",'Ref Score sheet'!$C61 = \"2nd yc\")","v":false},null,{"$f":"AND('Ref Score sheet'!B61 = \"\",'Ref Score sheet'!C61 = \"fh-e\")","v":false},"",null,null,{"$f":"AND('Ref Score sheet'!B61=\"a\",'Ref Score sheet'!C61=\"t\")","v":false},{"$f":"AND('Ref Score sheet'!B61=\"a\",'Ref Score sheet'!C61=\"pt\")","v":false},{"$f":"AND('Ref Score sheet'!B61=\"a\",'Ref Score sheet'!C61=\"c\")","v":false},{"$f":"AND('Ref Score sheet'!B61=\"a\",'Ref Score sheet'!C61=\"p\")","v":false},{"$f":"AND('Ref Score sheet'!B61=\"a\",'Ref Score sheet'!C61=\"dg\")","v":false},0,0,0,0,0,0,0,null,{"$f":"AND('Ref Score sheet'!B61=\"a\",'Ref Score sheet'!C61=\"bl-off\")","v":false},{"$f":"AND('Ref Score sheet'!B61=\"a\",'Ref Score sheet'!C61=\"bl-on\")","v":false},{"$f":"AND('Ref Score sheet'!B61 = \"a\",'Ref Score sheet'!C61 = \"blr-off\")","v":false},{"$f":"AND('Ref Score sheet'!B61 = \"a\",'Ref Score sheet'!C61 = \"blr-on\")","v":false},{"$f":"AND('Ref Score sheet'!B61=\"a\",'Ref Score sheet'!C61=\"RI-off\")","v":false},{"$f":"AND('Ref Score sheet'!B61=\"a\",'Ref Score sheet'!C61=\"RI-on\")","v":false},{"$f":"AND('Ref Score sheet'!B61 = \"a\",'Ref Score sheet'!C61 = \"CON - OFF\")","v":false},{"$f":"AND('Ref Score sheet'!B61 = \"a\",'Ref Score sheet'!C61 = \"CON - ON\")","v":false},{"$f":"AND('Ref Score sheet'!B61=\"a\",'Ref Score sheet'!C61=\"RT-on\")","v":false},{"$f":"AND('Ref Score sheet'!B61=\"a\",'Ref Score sheet'!C61=\"RT-off\")","v":false},{"$f":"AND('Ref Score sheet'!$B61 = \"a\",'Ref Score sheet'!$C61 = \"rc\")","v":false},{"$f":"AND('Ref Score sheet'!$B61 = \"a\",'Ref Score sheet'!$C61 = \"rcr\")","v":false},{"$f":"AND('Ref Score sheet'!$B61 = \"a\",'Ref Score sheet'!$C61 = \"yc\")","v":false},{"$f":"AND('Ref Score sheet'!$B61 = \"a\",'Ref Score sheet'!$C61 = \"2nd yc\")","v":false},null,{"$f":"AND('Ref Score sheet'!B61 = \"\",'Ref Score sheet'!C61 = \"fh-e\")","v":false},""]
[null,{"$f":"AND('Ref Score sheet'!B62 = \"h\",'Ref Score sheet'!C62 = \"t\")","v":false},{"$f":"AND('Ref Score sheet'!B62 = \"h\",'Ref Score sheet'!C62 = \"pt\")","v":false},{"$f":"AND('Ref Score sheet'!B62 = \"h\",'Ref Score sheet'!C62 = \"c\")","v":false},{"$f":"AND('Ref Score sheet'!B62 = \"h\",'Ref Score sheet'!C62 = \"p\")","v":false},{"$f":"AND('Ref Score sheet'!B62 = \"h\",'Ref Score sheet'!C62 = \"dg\")","v":false},0,0,0,0,0,0,0,null,null,{"$f":"AND('Ref Score sheet'!B62 = \"h\",'Ref Score sheet'!C62 = \"bl-off\")","v":false},{"$f":"AND('Ref Score sheet'!B62 = \"h\",'Ref Score sheet'!C62 = \"bl-on\")","v":false},{"$f":"AND('Ref Score sheet'!B62 = \"h\",'Ref Score sheet'!C62 = \"blr-off\")","v":false},{"$f":"AND('Ref Score sheet'!B62 = \"h\",'Ref Score sheet'!C62 = \"blr-on\")","v":false},{"$f":"AND('Ref Score sheet'!B62 = \"h\",'Ref Score sheet'!C62 = \"RI-off\")","v":false},{"$f":"AND('Ref Score sheet'!B62 = \"h\",'Ref Score sheet'!C62 = \"RI-on\")","v":false},{"$f":"AND('Ref Score sheet'!B62 = \"h\",'Ref Score sheet'!C62 = \"CON-OFF\")","v":false},{"$f":"AND('Ref Score sheet'!B62 = \"h\",'Ref Score sheet'!C62 = \"CON-ON\")","v":false},{"$f":"AND('Ref Score sheet'!B62 = \"h\",'Ref Score sheet'!C62 = \"RT-on\")","v":false},{"$f":"AND('Ref Score sheet'!B62 = \"h\",'Ref Score sheet'!C62 = \"RT-off\")","v":false},{"$f":"AND('Ref Score sheet'!$B62 = \"h\",'Ref Score sheet'!$C62 = \"rc\")","v":false},{"$f":"AND('Ref Score sheet'!$B62 = \"h\",'Ref Score sheet'!$C62 = \"rcr\")","v":false},{"$f":"AND('Ref Score sheet'!$B62 = \"h\",'Ref Score sheet'!$C62 = \"yc\")","v":false},{"$f":"AND('Ref Score sheet'!$B62 = \"h\",'Ref Score sheet'!$C62 = \"2nd yc\")","v":false},null,{"$f":"AND('Ref Score sheet'!B62 = \"\",'Ref Score sheet'!C62 = \"fh-e\")","v":false},"",null,null,{"$f":"AND('Ref Score sheet'!B62=\"a\",'Ref Score sheet'!C62=\"t\")","v":false},{"$f":"AND('Ref Score sheet'!B62=\"a\",'Ref Score sheet'!C62=\"pt\")","v":false},{"$f":"AND('Ref Score sheet'!B62=\"a\",'Ref Score sheet'!C62=\"c\")","v":false},{"$f":"AND('Ref Score sheet'!B62=\"a\",'Ref Score sheet'!C62=\"p\")","v":false},{"$f":"AND('Ref Score sheet'!B62=\"a\",'Ref Score sheet'!C62=\"dg\")","v":false},0,0,0,0,0,0,0,null,{"$f":"AND('Ref Score sheet'!B62=\"a\",'Ref Score sheet'!C62=\"bl-off\")","v":false},{"$f":"AND('Ref Score sheet'!B62=\"a\",'Ref Score sheet'!C62=\"bl-on\")","v":false},{"$f":"AND('Ref Score sheet'!B62 = \"a\",'Ref Score sheet'!C62 = \"blr-off\")","v":false},{"$f":"AND('Ref Score sheet'!B62 = \"a\",'Ref Score sheet'!C62 = \"blr-on\")","v":false},{"$f":"AND('Ref Score sheet'!B62=\"a\",'Ref Score sheet'!C62=\"RI-off\")","v":false},{"$f":"AND('Ref Score sheet'!B62=\"a\",'Ref Score sheet'!C62=\"RI-on\")","v":false},{"$f":"AND('Ref Score sheet'!B62 = \"a\",'Ref Score sheet'!C62 = \"CON - OFF\")","v":false},{"$f":"AND('Ref Score sheet'!B62 = \"a\",'Ref Score sheet'!C62 = \"CON - ON\")","v":false},{"$f":"AND('Ref Score sheet'!B62=\"a\",'Ref Score sheet'!C62=\"RT-on\")","v":false},{"$f":"AND('Ref Score sheet'!B62=\"a\",'Ref Score sheet'!C62=\"RT-off\")","v":false},{"$f":"AND('Ref Score sheet'!$B62 = \"a\",'Ref Score sheet'!$C62 = \"rc\")","v":false},{"$f":"AND('Ref Score sheet'!$B62 = \"a\",'Ref Score sheet'!$C62 = \"rcr\")","v":false},{"$f":"AND('Ref Score sheet'!$B62 = \"a\",'Ref Score sheet'!$C62 = \"yc\")","v":false},{"$f":"AND('Ref Score sheet'!$B62 = \"a\",'Ref Score sheet'!$C62 = \"2nd yc\")","v":false},null,{"$f":"AND('Ref Score sheet'!B62 = \"\",'Ref Score sheet'!C62 = \"fh-e\")","v":false},""]
[null,{"$f":"AND('Ref Score sheet'!B63 = \"h\",'Ref Score sheet'!C63 = \"t\")","v":false},{"$f":"AND('Ref Score sheet'!B63 = \"h\",'Ref Score sheet'!C63 = \"pt\")","v":false},{"$f":"AND('Ref Score sheet'!B63 = \"h\",'Ref Score sheet'!C63 = \"c\")","v":false},{"$f":"AND('Ref Score sheet'!B63 = \"h\",'Ref Score sheet'!C63 = \"p\")","v":false},{"$f":"AND('Ref Score sheet'!B63 = \"h\",'Ref Score sheet'!C63 = \"dg\")","v":false},0,0,0,0,0,0,0,null,null,{"$f":"AND('Ref Score sheet'!B63 = \"h\",'Ref Score sheet'!C63 = \"bl-off\")","v":false},{"$f":"AND('Ref Score sheet'!B63 = \"h\",'Ref Score sheet'!C63 = \"bl-on\")","v":false},{"$f":"AND('Ref Score sheet'!B63 = \"h\",'Ref Score sheet'!C63 = \"blr-off\")","v":false},{"$f":"AND('Ref Score sheet'!B63 = \"h\",'Ref Score sheet'!C63 = \"blr-on\")","v":false},{"$f":"AND('Ref Score sheet'!B63 = \"h\",'Ref Score sheet'!C63 = \"RI-off\")","v":false},{"$f":"AND('Ref Score sheet'!B63 = \"h\",'Ref Score sheet'!C63 = \"RI-on\")","v":false},{"$f":"AND('Ref Score sheet'!B63 = \"h\",'Ref Score sheet'!C63 = \"CON-OFF\")","v":false},{"$f":"AND('Ref Score sheet'!B63 = \"h\",'Ref Score sheet'!C63 = \"CON-ON\")","v":false},{"$f":"AND('Ref Score sheet'!B63 = \"h\",'Ref Score sheet'!C63 = \"RT-on\")","v":false},{"$f":"AND('Ref Score sheet'!B63 = \"h\",'Ref Score sheet'!C63 = \"RT-off\")","v":false},{"$f":"AND('Ref Score sheet'!$B63 = \"h\",'Ref Score sheet'!$C63 = \"rc\")","v":false},{"$f":"AND('Ref Score sheet'!$B63 = \"h\",'Ref Score sheet'!$C63 = \"rcr\")","v":false},{"$f":"AND('Ref Score sheet'!$B63 = \"h\",'Ref Score sheet'!$C63 = \"yc\")","v":false},{"$f":"AND('Ref Score sheet'!$B63 = \"h\",'Ref Score sheet'!$C63 = \"2nd yc\")","v":false},null,{"$f":"AND('Ref Score sheet'!B63 = \"\",'Ref Score sheet'!C63 = \"fh-e\")","v":false},"",null,null,{"$f":"AND('Ref Score sheet'!B63=\"a\",'Ref Score sheet'!C63=\"t\")","v":false},{"$f":"AND('Ref Score sheet'!B63=\"a\",'Ref Score sheet'!C63=\"pt\")","v":false},{"$f":"AND('Ref Score sheet'!B63=\"a\",'Ref Score sheet'!C63=\"c\")","v":false},{"$f":"AND('Ref Score sheet'!B63=\"a\",'Ref Score sheet'!C63=\"p\")","v":false},{"$f":"AND('Ref Score sheet'!B63=\"a\",'Ref Score sheet'!C63=\"dg\")","v":false},0,0,0,0,0,0,0,null,{"$f":"AND('Ref Score sheet'!B63=\"a\",'Ref Score sheet'!C63=\"bl-off\")","v":false},{"$f":"AND('Ref Score sheet'!B63=\"a\",'Ref Score sheet'!C63=\"bl-on\")","v":false},{"$f":"AND('Ref Score sheet'!B63 = \"a\",'Ref Score sheet'!C63 = \"blr-off\")","v":false},{"$f":"AND('Ref Score sheet'!B63 = \"a\",'Ref Score sheet'!C63 = \"blr-on\")","v":false},{"$f":"AND('Ref Score sheet'!B63=\"a\",'Ref Score sheet'!C63=\"RI-off\")","v":false},{"$f":"AND('Ref Score sheet'!B63=\"a\",'Ref Score sheet'!C63=\"RI-on\")","v":false},{"$f":"AND('Ref Score sheet'!B63 = \"a\",'Ref Score sheet'!C63 = \"CON - OFF\")","v":false},{"$f":"AND('Ref Score sheet'!B63 = \"a\",'Ref Score sheet'!C63 = \"CON - ON\")","v":false},{"$f":"AND('Ref Score sheet'!B63=\"a\",'Ref Score sheet'!C63=\"RT-on\")","v":false},{"$f":"AND('Ref Score sheet'!B63=\"a\",'Ref Score sheet'!C63=\"RT-off\")","v":false},{"$f":"AND('Ref Score sheet'!$B63 = \"a\",'Ref Score sheet'!$C63 = \"rc\")","v":false},{"$f":"AND('Ref Score sheet'!$B63 = \"a\",'Ref Score sheet'!$C63 = \"rcr\")","v":false},{"$f":"AND('Ref Score sheet'!$B63 = \"a\",'Ref Score sheet'!$C63 = \"yc\")","v":false},{"$f":"AND('Ref Score sheet'!$B63 = \"a\",'Ref Score sheet'!$C63 = \"2nd yc\")","v":false},null,{"$f":"AND('Ref Score sheet'!B63 = \"\",'Ref Score sheet'!C63 = \"fh-e\")","v":false},""]
[null,{"$f":"AND('Ref Score sheet'!B64 = \"h\",'Ref Score sheet'!C64 = \"t\")","v":false},{"$f":"AND('Ref Score sheet'!B64 = \"h\",'Ref Score sheet'!C64 = \"pt\")","v":false},{"$f":"AND('Ref Score sheet'!B64 = \"h\",'Ref Score sheet'!C64 = \"c\")","v":false},{"$f":"AND('Ref Score sheet'!B64 = \"h\",'Ref Score sheet'!C64 = \"p\")","v":false},{"$f":"AND('Ref Score sheet'!B64 = \"h\",'Ref Score sheet'!C64 = \"dg\")","v":false},0,0,0,0,0,0,0,null,null,{"$f":"AND('Ref Score sheet'!B64 = \"h\",'Ref Score sheet'!C64 = \"bl-off\")","v":false},{"$f":"AND('Ref Score sheet'!B64 = \"h\",'Ref Score sheet'!C64 = \"bl-on\")","v":false},{"$f":"AND('Ref Score sheet'!B64 = \"h\",'Ref Score sheet'!C64 = \"blr-off\")","v":false},{"$f":"AND('Ref Score sheet'!B64 = \"h\",'Ref Score sheet'!C64 = \"blr-on\")","v":false},{"$f":"AND('Ref Score sheet'!B64 = \"h\",'Ref Score sheet'!C64 = \"RI-off\")","v":false},{"$f":"AND('Ref Score sheet'!B64 = \"h\",'Ref Score sheet'!C64 = \"RI-on\")","v":false},{"$f":"AND('Ref Score sheet'!B64 = \"h\",'Ref Score sheet'!C64 = \"CON-OFF\")","v":false},{"$f":"AND('Ref Score sheet'!B64 = \"h\",'Ref Score sheet'!C64 = \"CON-ON\")","v":false},{"$f":"AND('Ref Score sheet'!B64 = \"h\",'Ref Score sheet'!C64 = \"RT-on\")","v":false},{"$f":"AND('Ref Score sheet'!B64 = \"h\",'Ref Score sheet'!C64 = \"RT-off\")","v":false},{"$f":"AND('Ref Score sheet'!$B64 = \"h\",'Ref Score sheet'!$C64 = \"rc\")","v":false},{"$f":"AND('Ref Score sheet'!$B64 = \"h\",'Ref Score sheet'!$C64 = \"rcr\")","v":false},{"$f":"AND('Ref Score sheet'!$B64 = \"h\",'Ref Score sheet'!$C64 = \"yc\")","v":false},{"$f":"AND('Ref Score sheet'!$B64 = \"h\",'Ref Score sheet'!$C64 = \"2nd yc\")","v":false},null,{"$f":"AND('Ref Score sheet'!B64 = \"\",'Ref Score sheet'!C64 = \"fh-e\")","v":false},"",null,null,{"$f":"AND('Ref Score sheet'!B64=\"a\",'Ref Score sheet'!C64=\"t\")","v":false},{"$f":"AND('Ref Score sheet'!B64=\"a\",'Ref Score sheet'!C64=\"pt\")","v":false},{"$f":"AND('Ref Score sheet'!B64=\"a\",'Ref Score sheet'!C64=\"c\")","v":false},{"$f":"AND('Ref Score sheet'!B64=\"a\",'Ref Score sheet'!C64=\"p\")","v":false},{"$f":"AND('Ref Score sheet'!B64=\"a\",'Ref Score sheet'!C64=\"dg\")","v":false},0,0,0,0,0,0,0,null,{"$f":"AND('Ref Score sheet'!B64=\"a\",'Ref Score sheet'!C64=\"bl-off\")","v":false},{"$f":"AND('Ref Score sheet'!B64=\"a\",'Ref Score sheet'!C64=\"bl-on\")","v":false},{"$f":"AND('Ref Score sheet'!B64 = \"a\",'Ref Score sheet'!C64 = \"blr-off\")","v":false},{"$f":"AND('Ref Score sheet'!B64 = \"a\",'Ref Score sheet'!C64 = \"blr-on\")","v":false},{"$f":"AND('Ref Score sheet'!B64=\"a\",'Ref Score sheet'!C64=\"RI-off\")","v":false},{"$f":"AND('Ref Score sheet'!B64=\"a\",'Ref Score sheet'!C64=\"RI-on\")","v":false},{"$f":"AND('Ref Score sheet'!B64 = \"a\",'Ref Score sheet'!C64 = \"CON - OFF\")","v":false},{"$f":"AND('Ref Score sheet'!B64 = \"a\",'Ref Score sheet'!C64 = \"CON - ON\")","v":false},{"$f":"AND('Ref Score sheet'!B64=\"a\",'Ref Score sheet'!C64=\"RT-on\")","v":false},{"$f":"AND('Ref Score sheet'!B64=\"a\",'Ref Score sheet'!C64=\"RT-off\")","v":false},{"$f":"AND('Ref Score sheet'!$B64 = \"a\",'Ref Score sheet'!$C64 = \"rc\")","v":false},{"$f":"AND('Ref Score sheet'!$B64 = \"a\",'Ref Score sheet'!$C64 = \"rcr\")","v":false},{"$f":"AND('Ref Score sheet'!$B64 = \"a\",'Ref Score sheet'!$C64 = \"yc\")","v":false},{"$f":"AND('Ref Score sheet'!$B64 = \"a\",'Ref Score sheet'!$C64 = \"2nd yc\")","v":false},null,{"$f":"AND('Ref Score sheet'!B64 = \"\",'Ref Score sheet'!C64 = \"fh-e\")","v":false},""]
[null,{"$f":"AND('Ref Score sheet'!B65 = \"h\",'Ref Score sheet'!C65 = \"t\")","v":false},{"$f":"AND('Ref Score sheet'!B65 = \"h\",'Ref Score sheet'!C65 = \"pt\")","v":false},{"$f":"AND('Ref Score sheet'!B65 = \"h\",'Ref Score sheet'!C65 = \"c\")","v":false},{"$f":"AND('Ref Score sheet'!B65 = \"h\",'Ref Score sheet'!C65 = \"p\")","v":false},{"$f":"AND('Ref Score sheet'!B65 = \"h\",'Ref Score sheet'!C65 = \"dg\")","v":false},0,0,0,0,0,0,{"$f":"M59+L60","v":0},null,null,{"$f":"AND('Ref Score sheet'!B65 = \"h\",'Ref Score sheet'!C65 = \"bl-off\")","v":false},{"$f":"AND('Ref Score sheet'!B65 = \"h\",'Ref Score sheet'!C65 = \"bl-on\")","v":false},{"$f":"AND('Ref Score sheet'!B65 = \"h\",'Ref Score sheet'!C65 = \"blr-off\")","v":false},{"$f":"AND('Ref Score sheet'!B65 = \"h\",'Ref Score sheet'!C65 = \"blr-on\")","v":false},{"$f":"AND('Ref Score sheet'!B65 = \"h\",'Ref Score sheet'!C65 = \"RI-off\")","v":false},{"$f":"AND('Ref Score sheet'!B65 = \"h\",'Ref Score sheet'!C65 = \"RI-on\")","v":false},{"$f":"AND('Ref Score sheet'!B65 = \"h\",'Ref Score sheet'!C65 = \"CON-OFF\")","v":false},{"$f":"AND('Ref Score sheet'!B65 = \"h\",'Ref Score sheet'!C65 = \"CON-ON\")","v":false},{"$f":"AND('Ref Score sheet'!B65 = \"h\",'Ref Score sheet'!C65 = \"RT-on\")","v":false},{"$f":"AND('Ref Score sheet'!B65 = \"h\",'Ref Score sheet'!C65 = \"RT-off\")","v":false},{"$f":"AND('Ref Score sheet'!$B65 = \"h\",'Ref Score sheet'!$C65 = \"rc\")","v":false},{"$f":"AND('Ref Score sheet'!$B65 = \"h\",'Ref Score sheet'!$C65 = \"rcr\")","v":false},{"$f":"AND('Ref Score sheet'!$B65 = \"h\",'Ref Score sheet'!$C65 = \"yc\")","v":false},{"$f":"AND('Ref Score sheet'!$B65 = \"h\",'Ref Score sheet'!$C65 = \"2nd yc\")","v":false},null,{"$f":"AND('Ref Score sheet'!B65 = \"\",'Ref Score sheet'!C65 = \"fh-e\")","v":false},{"$f":"IF(AE60=TRUE,M60,\"\")","v":""},null,null,{"$f":"AND('Ref Score sheet'!B65=\"a\",'Ref Score sheet'!C65=\"t\")","v":false},{"$f":"AND('Ref Score sheet'!B65=\"a\",'Ref Score sheet'!C65=\"pt\")","v":false},{"$f":"AND('Ref Score sheet'!B65=\"a\",'Ref Score sheet'!C65=\"c\")","v":false},{"$f":"AND('Ref Score sheet'!B65=\"a\",'Ref Score sheet'!C65=\"p\")","v":false},{"$f":"AND('Ref Score sheet'!B65=\"a\",'Ref Score sheet'!C65=\"dg\")","v":false},0,0,0,0,0,0,{"$f":"AT59+AS60","v":0},null,{"$f":"AND('Ref Score sheet'!B65=\"a\",'Ref Score sheet'!C65=\"bl-off\")","v":false},{"$f":"AND('Ref Score sheet'!B65=\"a\",'Ref Score sheet'!C65=\"bl-on\")","v":false},{"$f":"AND('Ref Score sheet'!B65 = \"a\",'Ref Score sheet'!C65 = \"blr-off\")","v":false},{"$f":"AND('Ref Score sheet'!B65 = \"a\",'Ref Score sheet'!C65 = \"blr-on\")","v":false},{"$f":"AND('Ref Score sheet'!B65=\"a\",'Ref Score sheet'!C65=\"RI-off\")","v":false},{"$f":"AND('Ref Score sheet'!B65=\"a\",'Ref Score sheet'!C65=\"RI-on\")","v":false},{"$f":"AND('Ref Score sheet'!B65 = \"a\",'Ref Score sheet'!C65 = \"CON - OFF\")","v":false},{"$f":"AND('Ref Score sheet'!B65 = \"a\",'Ref Score sheet'!C65 = \"CON - ON\")","v":false},{"$f":"AND('Ref Score sheet'!B65=\"a\",'Ref Score sheet'!C65=\"RT-on\")","v":false},{"$f":"AND('Ref Score sheet'!B65=\"a\",'Ref Score sheet'!C65=\"RT-off\")","v":false},{"$f":"AND('Ref Score sheet'!$B65 = \"a\",'Ref Score sheet'!$C65 = \"rc\")","v":false},{"$f":"AND('Ref Score sheet'!$B65 = \"a\",'Ref Score sheet'!$C65 = \"rcr\")","v":false},{"$f":"AND('Ref Score sheet'!$B65 = \"a\",'Ref Score sheet'!$C65 = \"yc\")","v":false},{"$f":"AND('Ref Score sheet'!$B65 = \"a\",'Ref Score sheet'!$C65 = \"2nd yc\")","v":false},null,{"$f":"AND('Ref Score sheet'!B65 = \"\",'Ref Score sheet'!C65 = \"fh-e\")","v":false},{"$f":"IF(BK60=TRUE,AT60,\"\")","v":""}]
[null,{"$f":"AND('Ref Score sheet'!B66 = \"h\",'Ref Score sheet'!C66 = \"t\")","v":false},{"$f":"AND('Ref Score sheet'!B66 = \"h\",'Ref Score sheet'!C66 = \"pt\")","v":false},{"$f":"AND('Ref Score sheet'!B66 = \"h\",'Ref Score sheet'!C66 = \"c\")","v":false},{"$f":"AND('Ref Score sheet'!B66 = \"h\",'Ref Score sheet'!C66 = \"p\")","v":false},{"$f":"AND('Ref Score sheet'!B66 = \"h\",'Ref Score sheet'!C66 = \"dg\")","v":false},0,0,0,0,0,0,{"$f":"M60+L61","v":0},null,null,{"$f":"AND('Ref Score sheet'!B66 = \"h\",'Ref Score sheet'!C66 = \"bl-off\")","v":false},{"$f":"AND('Ref Score sheet'!B66 = \"h\",'Ref Score sheet'!C66 = \"bl-on\")","v":false},{"$f":"AND('Ref Score sheet'!B66 = \"h\",'Ref Score sheet'!C66 = \"blr-off\")","v":false},{"$f":"AND('Ref Score sheet'!B66 = \"h\",'Ref Score sheet'!C66 = \"blr-on\")","v":false},{"$f":"AND('Ref Score sheet'!B66 = \"h\",'Ref Score sheet'!C66 = \"RI-off\")","v":false},{"$f":"AND('Ref Score sheet'!B66 = \"h\",'Ref Score sheet'!C66 = \"RI-on\")","v":false},{"$f":"AND('Ref Score sheet'!B66 = \"h\",'Ref Score sheet'!C66 = \"CON-OFF\")","v":false},{"$f":"AND('Ref Score sheet'!B66 = \"h\",'Ref Score sheet'!C66 = \"CON-ON\")","v":false},{"$f":"AND('Ref Score sheet'!B66 = \"h\",'Ref Score sheet'!C66 = \"RT-on\")","v":false},{"$f":"AND('Ref Score sheet'!B66 = \"h\",'Ref Score sheet'!C66 = \"RT-off\")","v":false},{"$f":"AND('Ref Score sheet'!$B66 = \"h\",'Ref Score sheet'!$C66 = \"rc\")","v":false},{"$f":"AND('Ref Score sheet'!$B66 = \"h\",'Ref Score sheet'!$C66 = \"rcr\")","v":false},{"$f":"AND('Ref Score sheet'!$B66 = \"h\",'Ref Score sheet'!$C66 = \"yc\")","v":false},{"$f":"AND('Ref Score sheet'!$B66 = \"h\",'Ref Score sheet'!$C66 = \"2nd yc\")","v":false},null,{"$f":"AND('Ref Score sheet'!B66 = \"\",'Ref Score sheet'!C66 = \"fh-e\")","v":false},"",null,null,{"$f":"AND('Ref Score sheet'!B66=\"a\",'Ref Score sheet'!C66=\"t\")","v":false},{"$f":"AND('Ref Score sheet'!B66=\"a\",'Ref Score sheet'!C66=\"pt\")","v":false},{"$f":"AND('Ref Score sheet'!B66=\"a\",'Ref Score sheet'!C66=\"c\")","v":false},{"$f":"AND('Ref Score sheet'!B66=\"a\",'Ref Score sheet'!C66=\"p\")","v":false},{"$f":"AND('Ref Score sheet'!B66=\"a\",'Ref Score sheet'!C66=\"dg\")","v":false},0,0,0,0,0,0,{"$f":"AT60+AS61","v":0},null,{"$f":"AND('Ref Score sheet'!B66=\"a\",'Ref Score sheet'!C66=\"bl-off\")","v":false},{"$f":"AND('Ref Score sheet'!B66=\"a\",'Ref Score sheet'!C66=\"bl-on\")","v":false},{"$f":"AND('Ref Score sheet'!B66 = \"a\",'Ref Score sheet'!C66 = \"blr-off\")","v":false},{"$f":"AND('Ref Score sheet'!B66 = \"a\",'Ref Score sheet'!C66 = \"blr-on\")","v":false},{"$f":"AND('Ref Score sheet'!B66=\"a\",'Ref Score sheet'!C66=\"RI-off\")","v":false},{"$f":"AND('Ref Score sheet'!B66=\"a\",'Ref Score sheet'!C66=\"RI-on\")","v":false},{"$f":"AND('Ref Score sheet'!B66 = \"a\",'Ref Score sheet'!C66 = \"CON - OFF\")","v":false},{"$f":"AND('Ref Score sheet'!B66 = \"a\",'Ref Score sheet'!C66 = \"CON - ON\")","v":false},{"$f":"AND('Ref Score sheet'!B66=\"a\",'Ref Score sheet'!C66=\"RT-on\")","v":false},{"$f":"AND('Ref Score sheet'!B66=\"a\",'Ref Score sheet'!C66=\"RT-off\")","v":false},{"$f":"AND('Ref Score sheet'!$B66 = \"a\",'Ref Score sheet'!$C66 = \"rc\")","v":false},{"$f":"AND('Ref Score sheet'!$B66 = \"a\",'Ref Score sheet'!$C66 = \"rcr\")","v":false},{"$f":"AND('Ref Score sheet'!$B66 = \"a\",'Ref Score sheet'!$C66 = \"yc\")","v":false},{"$f":"AND('Ref Score sheet'!$B66 = \"a\",'Ref Score sheet'!$C66 = \"2nd yc\")","v":false},null,{"$f":"AND('Ref Score sheet'!B66 = \"\",'Ref Score sheet'!C66 = \"fh-e\")","v":false},""]
[null,{"$f":"AND('Ref Score sheet'!B67 = \"h\",'Ref Score sheet'!C67 = \"t\")","v":false},{"$f":"AND('Ref Score sheet'!B67 = \"h\",'Ref Score sheet'!C67 = \"pt\")","v":false},{"$f":"AND('Ref Score sheet'!B67 = \"h\",'Ref Score sheet'!C67 = \"c\")","v":false},{"$f":"AND('Ref Score sheet'!B67 = \"h\",'Ref Score sheet'!C67 = \"p\")","v":false},{"$f":"AND('Ref Score sheet'!B67 = \"h\",'Ref Score sheet'!C67 = \"dg\")","v":false},0,0,0,0,0,0,0,null,null,{"$f":"AND('Ref Score sheet'!B67 = \"h\",'Ref Score sheet'!C67 = \"bl-off\")","v":false},{"$f":"AND('Ref Score sheet'!B67 = \"h\",'Ref Score sheet'!C67 = \"bl-on\")","v":false},{"$f":"AND('Ref Score sheet'!B67 = \"h\",'Ref Score sheet'!C67 = \"blr-off\")","v":false},{"$f":"AND('Ref Score sheet'!B67 = \"h\",'Ref Score sheet'!C67 = \"blr-on\")","v":false},{"$f":"AND('Ref Score sheet'!B67 = \"h\",'Ref Score sheet'!C67 = \"RI-off\")","v":false},{"$f":"AND('Ref Score sheet'!B67 = \"h\",'Ref Score sheet'!C67 = \"RI-on\")","v":false},{"$f":"AND('Ref Score sheet'!B67 = \"h\",'Ref Score sheet'!C67 = \"CON-OFF\")","v":false},{"$f":"AND('Ref Score sheet'!B67 = \"h\",'Ref Score sheet'!C67 = \"CON-ON\")","v":false},{"$f":"AND('Ref Score sheet'!B67 = \"h\",'Ref Score sheet'!C67 = \"RT-on\")","v":false},{"$f":"AND('Ref Score sheet'!B67 = \"h\",'Ref Score sheet'!C67 = \"RT-off\")","v":false},{"$f":"AND('Ref Score sheet'!$B67 = \"h\",'Ref Score sheet'!$C67 = \"rc\")","v":false},{"$f":"AND('Ref Score sheet'!$B67 = \"h\",'Ref Score sheet'!$C67 = \"rcr\")","v":false},{"$f":"AND('Ref Score sheet'!$B67 = \"h\",'Ref Score sheet'!$C67 = \"yc\")","v":false},{"$f":"AND('Ref Score sheet'!$B67 = \"h\",'Ref Score sheet'!$C67 = \"2nd yc\")","v":false},null,{"$f":"AND('Ref Score sheet'!B67 = \"\",'Ref Score sheet'!C67 = \"fh-e\")","v":false},"",null,null,{"$f":"AND('Ref Score sheet'!B67=\"a\",'Ref Score sheet'!C67=\"t\")","v":false},{"$f":"AND('Ref Score sheet'!B67=\"a\",'Ref Score sheet'!C67=\"pt\")","v":false},{"$f":"AND('Ref Score sheet'!B67=\"a\",'Ref Score sheet'!C67=\"c\")","v":false},{"$f":"AND('Ref Score sheet'!B67=\"a\",'Ref Score sheet'!C67=\"p\")","v":false},{"$f":"AND('Ref Score sheet'!B67=\"a\",'Ref Score sheet'!C67=\"dg\")","v":false},0,0,0,0,0,0,0,null,{"$f":"AND('Ref Score sheet'!B67=\"a\",'Ref Score sheet'!C67=\"bl-off\")","v":false},{"$f":"AND('Ref Score sheet'!B67=\"a\",'Ref Score sheet'!C67=\"bl-on\")","v":false},{"$f":"AND('Ref Score sheet'!B67 = \"a\",'Ref Score sheet'!C67 = \"blr-off\")","v":false},{"$f":"AND('Ref Score sheet'!B67 = \"a\",'Ref Score sheet'!C67 = \"blr-on\")","v":false},{"$f":"AND('Ref Score sheet'!B67=\"a\",'Ref Score sheet'!C67=\"RI-off\")","v":false},{"$f":"AND('Ref Score sheet'!B67=\"a\",'Ref Score sheet'!C67=\"RI-on\")","v":false},{"$f":"AND('Ref Score sheet'!B67 = \"a\",'Ref Score sheet'!C67 = \"CON - OFF\")","v":false},{"$f":"AND('Ref Score sheet'!B67 = \"a\",'Ref Score sheet'!C67 = \"CON - ON\")","v":false},{"$f":"AND('Ref Score sheet'!B67=\"a\",'Ref Score sheet'!C67=\"RT-on\")","v":false},{"$f":"AND('Ref Score sheet'!B67=\"a\",'Ref Score sheet'!C67=\"RT-off\")","v":false},{"$f":"AND('Ref Score sheet'!$B67 = \"a\",'Ref Score sheet'!$C67 = \"rc\")","v":false},{"$f":"AND('Ref Score sheet'!$B67 = \"a\",'Ref Score sheet'!$C67 = \"rcr\")","v":false},{"$f":"AND('Ref Score sheet'!$B67 = \"a\",'Ref Score sheet'!$C67 = \"yc\")","v":false},{"$f":"AND('Ref Score sheet'!$B67 = \"a\",'Ref Score sheet'!$C67 = \"2nd yc\")","v":false},null,{"$f":"AND('Ref Score sheet'!B67 = \"\",'Ref Score sheet'!C67 = \"fh-e\")","v":false},""]
[null,{"$f":"AND('Ref Score sheet'!B68 = \"h\",'Ref Score sheet'!C68 = \"t\")","v":false},{"$f":"AND('Ref Score sheet'!B68 = \"h\",'Ref Score sheet'!C68 = \"pt\")","v":false},{"$f":"AND('Ref Score sheet'!B68 = \"h\",'Ref Score sheet'!C68 = \"c\")","v":false},{"$f":"AND('Ref Score sheet'!B68 = \"h\",'Ref Score sheet'!C68 = \"p\")","v":false},{"$f":"AND('Ref Score sheet'!B68 = \"h\",'Ref Score sheet'!C68 = \"dg\")","v":false},0,0,0,0,0,0,0,null,null,{"$f":"AND('Ref Score sheet'!B68 = \"h\",'Ref Score sheet'!C68 = \"bl-off\")","v":false},{"$f":"AND('Ref Score sheet'!B68 = \"h\",'Ref Score sheet'!C68 = \"bl-on\")","v":false},{"$f":"AND('Ref Score sheet'!B68 = \"h\",'Ref Score sheet'!C68 = \"blr-off\")","v":false},{"$f":"AND('Ref Score sheet'!B68 = \"h\",'Ref Score sheet'!C68 = \"blr-on\")","v":false},{"$f":"AND('Ref Score sheet'!B68 = \"h\",'Ref Score sheet'!C68 = \"RI-off\")","v":false},{"$f":"AND('Ref Score sheet'!B68 = \"h\",'Ref Score sheet'!C68 = \"RI-on\")","v":false},{"$f":"AND('Ref Score sheet'!B68 = \"h\",'Ref Score sheet'!C68 = \"CON-OFF\")","v":false},{"$f":"AND('Ref Score sheet'!B68 = \"h\",'Ref Score sheet'!C68 = \"CON-ON\")","v":false},{"$f":"AND('Ref Score sheet'!B68 = \"h\",'Ref Score sheet'!C68 = \"RT-on\")","v":false},{"$f":"AND('Ref Score sheet'!B68 = \"h\",'Ref Score sheet'!C68 = \"RT-off\")","v":false},{"$f":"AND('Ref Score sheet'!$B68 = \"h\",'Ref Score sheet'!$C68 = \"rc\")","v":false},{"$f":"AND('Ref Score sheet'!$B68 = \"h\",'Ref Score sheet'!$C68 = \"rcr\")","v":false},{"$f":"AND('Ref Score sheet'!$B68 = \"h\",'Ref Score sheet'!$C68 = \"yc\")","v":false},{"$f":"AND('Ref Score sheet'!$B68 = \"h\",'Ref Score sheet'!$C68 = \"2nd yc\")","v":false},null,{"$f":"AND('Ref Score sheet'!B68 = \"\",'Ref Score sheet'!C68 = \"fh-e\")","v":false},"",null,null,{"$f":"AND('Ref Score sheet'!B68=\"a\",'Ref Score sheet'!C68=\"t\")","v":false},{"$f":"AND('Ref Score sheet'!B68=\"a\",'Ref Score sheet'!C68=\"pt\")","v":false},{"$f":"AND('Ref Score sheet'!B68=\"a\",'Ref Score sheet'!C68=\"c\")","v":false},{"$f":"AND('Ref Score sheet'!B68=\"a\",'Ref Score sheet'!C68=\"p\")","v":false},{"$f":"AND('Ref Score sheet'!B68=\"a\",'Ref Score sheet'!C68=\"dg\")","v":false},0,0,0,0,0,0,0,null,{"$f":"AND('Ref Score sheet'!B68=\"a\",'Ref Score sheet'!C68=\"bl-off\")","v":false},{"$f":"AND('Ref Score sheet'!B68=\"a\",'Ref Score sheet'!C68=\"bl-on\")","v":false},{"$f":"AND('Ref Score sheet'!B68 = \"a\",'Ref Score sheet'!C68 = \"blr-off\")","v":false},{"$f":"AND('Ref Score sheet'!B68 = \"a\",'Ref Score sheet'!C68 = \"blr-on\")","v":false},{"$f":"AND('Ref Score sheet'!B68=\"a\",'Ref Score sheet'!C68=\"RI-off\")","v":false},{"$f":"AND('Ref Score sheet'!B68=\"a\",'Ref Score sheet'!C68=\"RI-on\")","v":false},{"$f":"AND('Ref Score sheet'!B68 = \"a\",'Ref Score sheet'!C68 = \"CON - OFF\")","v":false},{"$f":"AND('Ref Score sheet'!B68 = \"a\",'Ref Score sheet'!C68 = \"CON - ON\")","v":false},{"$f":"AND('Ref Score sheet'!B68=\"a\",'Ref Score sheet'!C68=\"RT-on\")","v":false},{"$f":"AND('Ref Score sheet'!B68=\"a\",'Ref Score sheet'!C68=\"RT-off\")","v":false},{"$f":"AND('Ref Score sheet'!$B68 = \"a\",'Ref Score sheet'!$C68 = \"rc\")","v":false},{"$f":"AND('Ref Score sheet'!$B68 = \"a\",'Ref Score sheet'!$C68 = \"rcr\")","v":false},{"$f":"AND('Ref Score sheet'!$B68 = \"a\",'Ref Score sheet'!$C68 = \"yc\")","v":false},{"$f":"AND('Ref Score sheet'!$B68 = \"a\",'Ref Score sheet'!$C68 = \"2nd yc\")","v":false},null,{"$f":"AND('Ref Score sheet'!B68 = \"\",'Ref Score sheet'!C68 = \"fh-e\")","v":false},""]
[null,{"$f":"AND('Ref Score sheet'!B69 = \"h\",'Ref Score sheet'!C69 = \"t\")","v":false},{"$f":"AND('Ref Score sheet'!B69 = \"h\",'Ref Score sheet'!C69 = \"pt\")","v":false},{"$f":"AND('Ref Score sheet'!B69 = \"h\",'Ref Score sheet'!C69 = \"c\")","v":false},{"$f":"AND('Ref Score sheet'!B69 = \"h\",'Ref Score sheet'!C69 = \"p\")","v":false},{"$f":"AND('Ref Score sheet'!B69 = \"h\",'Ref Score sheet'!C69 = \"dg\")","v":false},0,0,0,0,0,0,0,null,null,{"$f":"AND('Ref Score sheet'!B69 = \"h\",'Ref Score sheet'!C69 = \"bl-off\")","v":false},{"$f":"AND('Ref Score sheet'!B69 = \"h\",'Ref Score sheet'!C69 = \"bl-on\")","v":false},{"$f":"AND('Ref Score sheet'!B69 = \"h\",'Ref Score sheet'!C69 = \"blr-off\")","v":false},{"$f":"AND('Ref Score sheet'!B69 = \"h\",'Ref Score sheet'!C69 = \"blr-on\")","v":false},{"$f":"AND('Ref Score sheet'!B69 = \"h\",'Ref Score sheet'!C69 = \"RI-off\")","v":false},{"$f":"AND('Ref Score sheet'!B69 = \"h\",'Ref Score sheet'!C69 = \"RI-on\")","v":false},{"$f":"AND('Ref Score sheet'!B69 = \"h\",'Ref Score sheet'!C69 = \"CON-OFF\")","v":false},{"$f":"AND('Ref Score sheet'!B69 = \"h\",'Ref Score sheet'!C69 = \"CON-ON\")","v":false},{"$f":"AND('Ref Score sheet'!B69 = \"h\",'Ref Score sheet'!C69 = \"RT-on\")","v":false},{"$f":"AND('Ref Score sheet'!B69 = \"h\",'Ref Score sheet'!C69 = \"RT-off\")","v":false},{"$f":"AND('Ref Score sheet'!$B69 = \"h\",'Ref Score sheet'!$C69 = \"rc\")","v":false},{"$f":"AND('Ref Score sheet'!$B69 = \"h\",'Ref Score sheet'!$C69 = \"rcr\")","v":false},{"$f":"AND('Ref Score sheet'!$B69 = \"h\",'Ref Score sheet'!$C69 = \"yc\")","v":false},{"$f":"AND('Ref Score sheet'!$B69 = \"h\",'Ref Score sheet'!$C69 = \"2nd yc\")","v":false},null,{"$f":"AND('Ref Score sheet'!B69 = \"\",'Ref Score sheet'!C69 = \"fh-e\")","v":false},"",null,null,{"$f":"AND('Ref Score sheet'!B69=\"a\",'Ref Score sheet'!C69=\"t\")","v":false},{"$f":"AND('Ref Score sheet'!B69=\"a\",'Ref Score sheet'!C69=\"pt\")","v":false},{"$f":"AND('Ref Score sheet'!B69=\"a\",'Ref Score sheet'!C69=\"c\")","v":false},{"$f":"AND('Ref Score sheet'!B69=\"a\",'Ref Score sheet'!C69=\"p\")","v":false},{"$f":"AND('Ref Score sheet'!B69=\"a\",'Ref Score sheet'!C69=\"dg\")","v":false},0,0,0,0,0,0,0,null,{"$f":"AND('Ref Score sheet'!B69=\"a\",'Ref Score sheet'!C69=\"bl-off\")","v":false},{"$f":"AND('Ref Score sheet'!B69=\"a\",'Ref Score sheet'!C69=\"bl-on\")","v":false},{"$f":"AND('Ref Score sheet'!B69 = \"a\",'Ref Score sheet'!C69 = \"blr-off\")","v":false},{"$f":"AND('Ref Score sheet'!B69 = \"a\",'Ref Score sheet'!C69 = \"blr-on\")","v":false},{"$f":"AND('Ref Score sheet'!B69=\"a\",'Ref Score sheet'!C69=\"RI-off\")","v":false},{"$f":"AND('Ref Score sheet'!B69=\"a\",'Ref Score sheet'!C69=\"RI-on\")","v":false},{"$f":"AND('Ref Score sheet'!B69 = \"a\",'Ref Score sheet'!C69 = \"CON - OFF\")","v":false},{"$f":"AND('Ref Score sheet'!B69 = \"a\",'Ref Score sheet'!C69 = \"CON - ON\")","v":false},{"$f":"AND('Ref Score sheet'!B69=\"a\",'Ref Score sheet'!C69=\"RT-on\")","v":false},{"$f":"AND('Ref Score sheet'!B69=\"a\",'Ref Score sheet'!C69=\"RT-off\")","v":false},{"$f":"AND('Ref Score sheet'!$B69 = \"a\",'Ref Score sheet'!$C69 = \"rc\")","v":false},{"$f":"AND('Ref Score sheet'!$B69 = \"a\",'Ref Score sheet'!$C69 = \"rcr\")","v":false},{"$f":"AND('Ref Score sheet'!$B69 = \"a\",'Ref Score sheet'!$C69 = \"yc\")","v":false},{"$f":"AND('Ref Score sheet'!$B69 = \"a\",'Ref Score sheet'!$C69 = \"2nd yc\")","v":false},null,{"$f":"AND('Ref Score sheet'!B69 = \"\",'Ref Score sheet'!C69 = \"fh-e\")","v":false},""]
[null,{"$f":"AND('Ref Score sheet'!B70 = \"h\",'Ref Score sheet'!C70 = \"t\")","v":false},{"$f":"AND('Ref Score sheet'!B70 = \"h\",'Ref Score sheet'!C70 = \"pt\")","v":false},{"$f":"AND('Ref Score sheet'!B70 = \"h\",'Ref Score sheet'!C70 = \"c\")","v":false},{"$f":"AND('Ref Score sheet'!B70 = \"h\",'Ref Score sheet'!C70 = \"p\")","v":false},{"$f":"AND('Ref Score sheet'!B70 = \"h\",'Ref Score sheet'!C70 = \"dg\")","v":false},0,0,0,0,0,0,0,null,null,{"$f":"AND('Ref Score sheet'!B70 = \"h\",'Ref Score sheet'!C70 = \"bl-off\")","v":false},{"$f":"AND('Ref Score sheet'!B70 = \"h\",'Ref Score sheet'!C70 = \"bl-on\")","v":false},{"$f":"AND('Ref Score sheet'!B70 = \"h\",'Ref Score sheet'!C70 = \"blr-off\")","v":false},{"$f":"AND('Ref Score sheet'!B70 = \"h\",'Ref Score sheet'!C70 = \"blr-on\")","v":false},{"$f":"AND('Ref Score sheet'!B70 = \"h\",'Ref Score sheet'!C70 = \"RI-off\")","v":false},{"$f":"AND('Ref Score sheet'!B70 = \"h\",'Ref Score sheet'!C70 = \"RI-on\")","v":false},{"$f":"AND('Ref Score sheet'!B70 = \"h\",'Ref Score sheet'!C70 = \"CON-OFF\")","v":false},{"$f":"AND('Ref Score sheet'!B70 = \"h\",'Ref Score sheet'!C70 = \"CON-ON\")","v":false},{"$f":"AND('Ref Score sheet'!B70 = \"h\",'Ref Score sheet'!C70 = \"RT-on\")","v":false},{"$f":"AND('Ref Score sheet'!B70 = \"h\",'Ref Score sheet'!C70 = \"RT-off\")","v":false},{"$f":"AND('Ref Score sheet'!$B70 = \"h\",'Ref Score sheet'!$C70 = \"rc\")","v":false},{"$f":"AND('Ref Score sheet'!$B70 = \"h\",'Ref Score sheet'!$C70 = \"rcr\")","v":false},{"$f":"AND('Ref Score sheet'!$B70 = \"h\",'Ref Score sheet'!$C70 = \"yc\")","v":false},{"$f":"AND('Ref Score sheet'!$B70 = \"h\",'Ref Score sheet'!$C70 = \"2nd yc\")","v":false},null,{"$f":"AND('Ref Score sheet'!B70 = \"\",'Ref Score sheet'!C70 = \"fh-e\")","v":false},"",null,null,{"$f":"AND('Ref Score sheet'!B70=\"a\",'Ref Score sheet'!C70=\"t\")","v":false},{"$f":"AND('Ref Score sheet'!B70=\"a\",'Ref Score sheet'!C70=\"pt\")","v":false},{"$f":"AND('Ref Score sheet'!B70=\"a\",'Ref Score sheet'!C70=\"c\")","v":false},{"$f":"AND('Ref Score sheet'!B70=\"a\",'Ref Score sheet'!C70=\"p\")","v":false},{"$f":"AND('Ref Score sheet'!B70=\"a\",'Ref Score sheet'!C70=\"dg\")","v":false},0,0,0,0,0,0,0,null,{"$f":"AND('Ref Score sheet'!B70=\"a\",'Ref Score sheet'!C70=\"bl-off\")","v":false},{"$f":"AND('Ref Score sheet'!B70=\"a\",'Ref Score sheet'!C70=\"bl-on\")","v":false},{"$f":"AND('Ref Score sheet'!B70 = \"a\",'Ref Score sheet'!C70 = \"blr-off\")","v":false},{"$f":"AND('Ref Score sheet'!B70 = \"a\",'Ref Score sheet'!C70 = \"blr-on\")","v":false},{"$f":"AND('Ref Score sheet'!B70=\"a\",'Ref Score sheet'!C70=\"RI-off\")","v":false},{"$f":"AND('Ref Score sheet'!B70=\"a\",'Ref Score sheet'!C70=\"RI-on\")","v":false},{"$f":"AND('Ref Score sheet'!B70 = \"a\",'Ref Score sheet'!C70 = \"CON - OFF\")","v":false},{"$f":"AND('Ref Score sheet'!B70 = \"a\",'Ref Score sheet'!C70 = \"CON - ON\")","v":false},{"$f":"AND('Ref Score sheet'!B70=\"a\",'Ref Score sheet'!C70=\"RT-on\")","v":false},{"$f":"AND('Ref Score sheet'!B70=\"a\",'Ref Score sheet'!C70=\"RT-off\")","v":false},{"$f":"AND('Ref Score sheet'!$B70 = \"a\",'Ref Score sheet'!$C70 = \"rc\")","v":false},{"$f":"AND('Ref Score sheet'!$B70 = \"a\",'Ref Score sheet'!$C70 = \"rcr\")","v":false},{"$f":"AND('Ref Score sheet'!$B70 = \"a\",'Ref Score sheet'!$C70 = \"yc\")","v":false},{"$f":"AND('Ref Score sheet'!$B70 = \"a\",'Ref Score sheet'!$C70 = \"2nd yc\")","v":false},null,{"$f":"AND('Ref Score sheet'!B70 = \"\",'Ref Score sheet'!C70 = \"fh-e\")","v":false},""]
[null,{"$f":"AND('Ref Score sheet'!B71 = \"h\",'Ref Score sheet'!C71 = \"t\")","v":false},{"$f":"AND('Ref Score sheet'!B71 = \"h\",'Ref Score sheet'!C71 = \"pt\")","v":false},{"$f":"AND('Ref Score sheet'!B71 = \"h\",'Ref Score sheet'!C71 = \"c\")","v":false},{"$f":"AND('Ref Score sheet'!B71 = \"h\",'Ref Score sheet'!C71 = \"p\")","v":false},{"$f":"AND('Ref Score sheet'!B71 = \"h\",'Ref Score sheet'!C71 = \"dg\")","v":false},0,0,0,0,0,0,0,null,null,{"$f":"AND('Ref Score sheet'!B71 = \"h\",'Ref Score sheet'!C71 = \"bl-off\")","v":false},{"$f":"AND('Ref Score sheet'!B71 = \"h\",'Ref Score sheet'!C71 = \"bl-on\")","v":false},{"$f":"AND('Ref Score sheet'!B71 = \"h\",'Ref Score sheet'!C71 = \"blr-off\")","v":false},{"$f":"AND('Ref Score sheet'!B71 = \"h\",'Ref Score sheet'!C71 = \"blr-on\")","v":false},{"$f":"AND('Ref Score sheet'!B71 = \"h\",'Ref Score sheet'!C71 = \"RI-off\")","v":false},{"$f":"AND('Ref Score sheet'!B71 = \"h\",'Ref Score sheet'!C71 = \"RI-on\")","v":false},{"$f":"AND('Ref Score sheet'!B71 = \"h\",'Ref Score sheet'!C71 = \"CON-OFF\")","v":false},{"$f":"AND('Ref Score sheet'!B71 = \"h\",'Ref Score sheet'!C71 = \"CON-ON\")","v":false},{"$f":"AND('Ref Score sheet'!B71 = \"h\",'Ref Score sheet'!C71 = \"RT-on\")","v":false},{"$f":"AND('Ref Score sheet'!B71 = \"h\",'Ref Score sheet'!C71 = \"RT-off\")","v":false},{"$f":"AND('Ref Score sheet'!$B71 = \"h\",'Ref Score sheet'!$C71 = \"rc\")","v":false},{"$f":"AND('Ref Score sheet'!$B71 = \"h\",'Ref Score sheet'!$C71 = \"rcr\")","v":false},{"$f":"AND('Ref Score sheet'!$B71 = \"h\",'Ref Score sheet'!$C71 = \"yc\")","v":false},{"$f":"AND('Ref Score sheet'!$B71 = \"h\",'Ref Score sheet'!$C71 = \"2nd yc\")","v":false},null,{"$f":"AND('Ref Score sheet'!B71 = \"\",'Ref Score sheet'!C71 = \"fh-e\")","v":false},"",null,null,{"$f":"AND('Ref Score sheet'!B71=\"a\",'Ref Score sheet'!C71=\"t\")","v":false},{"$f":"AND('Ref Score sheet'!B71=\"a\",'Ref Score sheet'!C71=\"pt\")","v":false},{"$f":"AND('Ref Score sheet'!B71=\"a\",'Ref Score sheet'!C71=\"c\")","v":false},{"$f":"AND('Ref Score sheet'!B71=\"a\",'Ref Score sheet'!C71=\"p\")","v":false},{"$f":"AND('Ref Score sheet'!B71=\"a\",'Ref Score sheet'!C71=\"dg\")","v":false},0,0,0,0,0,0,0,null,{"$f":"AND('Ref Score sheet'!B71=\"a\",'Ref Score sheet'!C71=\"bl-off\")","v":false},{"$f":"AND('Ref Score sheet'!B71=\"a\",'Ref Score sheet'!C71=\"bl-on\")","v":false},{"$f":"AND('Ref Score sheet'!B71 = \"a\",'Ref Score sheet'!C71 = \"blr-off\")","v":false},{"$f":"AND('Ref Score sheet'!B71 = \"a\",'Ref Score sheet'!C71 = \"blr-on\")","v":false},{"$f":"AND('Ref Score sheet'!B71=\"a\",'Ref Score sheet'!C71=\"RI-off\")","v":false},{"$f":"AND('Ref Score sheet'!B71=\"a\",'Ref Score sheet'!C71=\"RI-on\")","v":false},{"$f":"AND('Ref Score sheet'!B71 = \"a\",'Ref Score sheet'!C71 = \"CON - OFF\")","v":false},{"$f":"AND('Ref Score sheet'!B71 = \"a\",'Ref Score sheet'!C71 = \"CON - ON\")","v":false},{"$f":"AND('Ref Score sheet'!B71=\"a\",'Ref Score sheet'!C71=\"RT-on\")","v":false},{"$f":"AND('Ref Score sheet'!B71=\"a\",'Ref Score sheet'!C71=\"RT-off\")","v":false},{"$f":"AND('Ref Score sheet'!$B71 = \"a\",'Ref Score sheet'!$C71 = \"rc\")","v":false},{"$f":"AND('Ref Score sheet'!$B71 = \"a\",'Ref Score sheet'!$C71 = \"rcr\")","v":false},{"$f":"AND('Ref Score sheet'!$B71 = \"a\",'Ref Score sheet'!$C71 = \"yc\")","v":false},{"$f":"AND('Ref Score sheet'!$B71 = \"a\",'Ref Score sheet'!$C71 = \"2nd yc\")","v":false},null,{"$f":"AND('Ref Score sheet'!B71 = \"\",'Ref Score sheet'!C71 = \"fh-e\")","v":false},""]
[null,{"$f":"AND('Ref Score sheet'!B72 = \"h\",'Ref Score sheet'!C72 = \"t\")","v":false},{"$f":"AND('Ref Score sheet'!B72 = \"h\",'Ref Score sheet'!C72 = \"pt\")","v":false},{"$f":"AND('Ref Score sheet'!B72 = \"h\",'Ref Score sheet'!C72 = \"c\")","v":false},{"$f":"AND('Ref Score sheet'!B72 = \"h\",'Ref Score sheet'!C72 = \"p\")","v":false},{"$f":"AND('Ref Score sheet'!B72 = \"h\",'Ref Score sheet'!C72 = \"dg\")","v":false},0,0,0,0,0,0,0,null,null,{"$f":"AND('Ref Score sheet'!B72 = \"h\",'Ref Score sheet'!C72 = \"bl-off\")","v":false},{"$f":"AND('Ref Score sheet'!B72 = \"h\",'Ref Score sheet'!C72 = \"bl-on\")","v":false},{"$f":"AND('Ref Score sheet'!B72 = \"h\",'Ref Score sheet'!C72 = \"blr-off\")","v":false},{"$f":"AND('Ref Score sheet'!B72 = \"h\",'Ref Score sheet'!C72 = \"blr-on\")","v":false},{"$f":"AND('Ref Score sheet'!B72 = \"h\",'Ref Score sheet'!C72 = \"RI-off\")","v":false},{"$f":"AND('Ref Score sheet'!B72 = \"h\",'Ref Score sheet'!C72 = \"RI-on\")","v":false},{"$f":"AND('Ref Score sheet'!B72 = \"h\",'Ref Score sheet'!C72 = \"CON-OFF\")","v":false},{"$f":"AND('Ref Score sheet'!B72 = \"h\",'Ref Score sheet'!C72 = \"CON-ON\")","v":false},{"$f":"AND('Ref Score sheet'!B72 = \"h\",'Ref Score sheet'!C72 = \"RT-on\")","v":false},{"$f":"AND('Ref Score sheet'!B72 = \"h\",'Ref Score sheet'!C72 = \"RT-off\")","v":false},{"$f":"AND('Ref Score sheet'!$B72 = \"h\",'Ref Score sheet'!$C72 = \"rc\")","v":false},{"$f":"AND('Ref Score sheet'!$B72 = \"h\",'Ref Score sheet'!$C72 = \"rcr\")","v":false},{"$f":"AND('Ref Score sheet'!$B72 = \"h\",'Ref Score sheet'!$C72 = \"yc\")","v":false},{"$f":"AND('Ref Score sheet'!$B72 = \"h\",'Ref Score sheet'!$C72 = \"2nd yc\")","v":false},null,{"$f":"AND('Ref Score sheet'!B72 = \"\",'Ref Score sheet'!C72 = \"fh-e\")","v":false},"",null,null,{"$f":"AND('Ref Score sheet'!B72=\"a\",'Ref Score sheet'!C72=\"t\")","v":false},{"$f":"AND('Ref Score sheet'!B72=\"a\",'Ref Score sheet'!C72=\"pt\")","v":false},{"$f":"AND('Ref Score sheet'!B72=\"a\",'Ref Score sheet'!C72=\"c\")","v":false},{"$f":"AND('Ref Score sheet'!B72=\"a\",'Ref Score sheet'!C72=\"p\")","v":false},{"$f":"AND('Ref Score sheet'!B72=\"a\",'Ref Score sheet'!C72=\"dg\")","v":false},0,0,0,0,0,0,0,null,{"$f":"AND('Ref Score sheet'!B72=\"a\",'Ref Score sheet'!C72=\"bl-off\")","v":false},{"$f":"AND('Ref Score sheet'!B72=\"a\",'Ref Score sheet'!C72=\"bl-on\")","v":false},{"$f":"AND('Ref Score sheet'!B72 = \"a\",'Ref Score sheet'!C72 = \"blr-off\")","v":false},{"$f":"AND('Ref Score sheet'!B72 = \"a\",'Ref Score sheet'!C72 = \"blr-on\")","v":false},{"$f":"AND('Ref Score sheet'!B72=\"a\",'Ref Score sheet'!C72=\"RI-off\")","v":false},{"$f":"AND('Ref Score sheet'!B72=\"a\",'Ref Score sheet'!C72=\"RI-on\")","v":false},{"$f":"AND('Ref Score sheet'!B72 = \"a\",'Ref Score sheet'!C72 = \"CON - OFF\")","v":false},{"$f":"AND('Ref Score sheet'!B72 = \"a\",'Ref Score sheet'!C72 = \"CON - ON\")","v":false},{"$f":"AND('Ref Score sheet'!B72=\"a\",'Ref Score sheet'!C72=\"RT-on\")","v":false},{"$f":"AND('Ref Score sheet'!B72=\"a\",'Ref Score sheet'!C72=\"RT-off\")","v":false},{"$f":"AND('Ref Score sheet'!$B72 = \"a\",'Ref Score sheet'!$C72 = \"rc\")","v":false},{"$f":"AND('Ref Score sheet'!$B72 = \"a\",'Ref Score sheet'!$C72 = \"rcr\")","v":false},{"$f":"AND('Ref Score sheet'!$B72 = \"a\",'Ref Score sheet'!$C72 = \"yc\")","v":false},{"$f":"AND('Ref Score sheet'!$B72 = \"a\",'Ref Score sheet'!$C72 = \"2nd yc\")","v":false},null,{"$f":"AND('Ref Score sheet'!B72 = \"\",'Ref Score sheet'!C72 = \"fh-e\")","v":false},""]
[null,{"$f":"AND('Ref Score sheet'!B73 = \"h\",'Ref Score sheet'!C73 = \"t\")","v":false},{"$f":"AND('Ref Score sheet'!B73 = \"h\",'Ref Score sheet'!C73 = \"pt\")","v":false},{"$f":"AND('Ref Score sheet'!B73 = \"h\",'Ref Score sheet'!C73 = \"c\")","v":false},{"$f":"AND('Ref Score sheet'!B73 = \"h\",'Ref Score sheet'!C73 = \"p\")","v":false},{"$f":"AND('Ref Score sheet'!B73 = \"h\",'Ref Score sheet'!C73 = \"dg\")","v":false},0,0,0,0,0,0,0,null,null,{"$f":"AND('Ref Score sheet'!B73 = \"h\",'Ref Score sheet'!C73 = \"bl-off\")","v":false},{"$f":"AND('Ref Score sheet'!B73 = \"h\",'Ref Score sheet'!C73 = \"bl-on\")","v":false},{"$f":"AND('Ref Score sheet'!B73 = \"h\",'Ref Score sheet'!C73 = \"blr-off\")","v":false},{"$f":"AND('Ref Score sheet'!B73 = \"h\",'Ref Score sheet'!C73 = \"blr-on\")","v":false},{"$f":"AND('Ref Score sheet'!B73 = \"h\",'Ref Score sheet'!C73 = \"RI-off\")","v":false},{"$f":"AND('Ref Score sheet'!B73 = \"h\",'Ref Score sheet'!C73 = \"RI-on\")","v":false},{"$f":"AND('Ref Score sheet'!B73 = \"h\",'Ref Score sheet'!C73 = \"CON-OFF\")","v":false},{"$f":"AND('Ref Score sheet'!B73 = \"h\",'Ref Score sheet'!C73 = \"CON-ON\")","v":false},{"$f":"AND('Ref Score sheet'!B73 = \"h\",'Ref Score sheet'!C73 = \"RT-on\")","v":false},{"$f":"AND('Ref Score sheet'!B73 = \"h\",'Ref Score sheet'!C73 = \"RT-off\")","v":false},{"$f":"AND('Ref Score sheet'!$B73 = \"h\",'Ref Score sheet'!$C73 = \"rc\")","v":false},{"$f":"AND('Ref Score sheet'!$B73 = \"h\",'Ref Score sheet'!$C73 = \"rcr\")","v":false},{"$f":"AND('Ref Score sheet'!$B73 = \"h\",'Ref Score sheet'!$C73 = \"yc\")","v":false},{"$f":"AND('Ref Score sheet'!$B73 = \"h\",'Ref Score sheet'!$C73 = \"2nd yc\")","v":false},null,{"$f":"AND('Ref Score sheet'!B73 = \"\",'Ref Score sheet'!C73 = \"fh-e\")","v":false},"",null,null,{"$f":"AND('Ref Score sheet'!B73=\"a\",'Ref Score sheet'!C73=\"t\")","v":false},{"$f":"AND('Ref Score sheet'!B73=\"a\",'Ref Score sheet'!C73=\"pt\")","v":false},{"$f":"AND('Ref Score sheet'!B73=\"a\",'Ref Score sheet'!C73=\"c\")","v":false},{"$f":"AND('Ref Score sheet'!B73=\"a\",'Ref Score sheet'!C73=\"p\")","v":false},{"$f":"AND('Ref Score sheet'!B73=\"a\",'Ref Score sheet'!C73=\"dg\")","v":false},0,0,0,0,0,0,0,null,{"$f":"AND('Ref Score sheet'!B73=\"a\",'Ref Score sheet'!C73=\"bl-off\")","v":false},{"$f":"AND('Ref Score sheet'!B73=\"a\",'Ref Score sheet'!C73=\"bl-on\")","v":false},{"$f":"AND('Ref Score sheet'!B73 = \"a\",'Ref Score sheet'!C73 = \"blr-off\")","v":false},{"$f":"AND('Ref Score sheet'!B73 = \"a\",'Ref Score sheet'!C73 = \"blr-on\")","v":false},{"$f":"AND('Ref Score sheet'!B73=\"a\",'Ref Score sheet'!C73=\"RI-off\")","v":false},{"$f":"AND('Ref Score sheet'!B73=\"a\",'Ref Score sheet'!C73=\"RI-on\")","v":false},{"$f":"AND('Ref Score sheet'!B73 = \"a\",'Ref Score sheet'!C73 = \"CON - OFF\")","v":false},{"$f":"AND('Ref Score sheet'!B73 = \"a\",'Ref Score sheet'!C73 = \"CON - ON\")","v":false},{"$f":"AND('Ref Score sheet'!B73=\"a\",'Ref Score sheet'!C73=\"RT-on\")","v":false},{"$f":"AND('Ref Score sheet'!B73=\"a\",'Ref Score sheet'!C73=\"RT-off\")","v":false},{"$f":"AND('Ref Score sheet'!$B73 = \"a\",'Ref Score sheet'!$C73 = \"rc\")","v":false},{"$f":"AND('Ref Score sheet'!$B73 = \"a\",'Ref Score sheet'!$C73 = \"rcr\")","v":false},{"$f":"AND('Ref Score sheet'!$B73 = \"a\",'Ref Score sheet'!$C73 = \"yc\")","v":false},{"$f":"AND('Ref Score sheet'!$B73 = \"a\",'Ref Score sheet'!$C73 = \"2nd yc\")","v":false},null,{"$f":"AND('Ref Score sheet'!B73 = \"\",'Ref Score sheet'!C73 = \"fh-e\")","v":false},""]
[null,{"$f":"AND('Ref Score sheet'!B74 = \"h\",'Ref Score sheet'!C74 = \"t\")","v":false},{"$f":"AND('Ref Score sheet'!B74 = \"h\",'Ref Score sheet'!C74 = \"pt\")","v":false},{"$f":"AND('Ref Score sheet'!B74 = \"h\",'Ref Score sheet'!C74 = \"c\")","v":false},{"$f":"AND('Ref Score sheet'!B74 = \"h\",'Ref Score sheet'!C74 = \"p\")","v":false},{"$f":"AND('Ref Score sheet'!B74 = \"h\",'Ref Score sheet'!C74 = \"dg\")","v":false},0,0,0,0,0,0,0,null,null,{"$f":"AND('Ref Score sheet'!B74 = \"h\",'Ref Score sheet'!C74 = \"bl-off\")","v":false},{"$f":"AND('Ref Score sheet'!B74 = \"h\",'Ref Score sheet'!C74 = \"bl-on\")","v":false},{"$f":"AND('Ref Score sheet'!B74 = \"h\",'Ref Score sheet'!C74 = \"blr-off\")","v":false},{"$f":"AND('Ref Score sheet'!B74 = \"h\",'Ref Score sheet'!C74 = \"blr-on\")","v":false},{"$f":"AND('Ref Score sheet'!B74 = \"h\",'Ref Score sheet'!C74 = \"RI-off\")","v":false},{"$f":"AND('Ref Score sheet'!B74 = \"h\",'Ref Score sheet'!C74 = \"RI-on\")","v":false},{"$f":"AND('Ref Score sheet'!B74 = \"h\",'Ref Score sheet'!C74 = \"CON-OFF\")","v":false},{"$f":"AND('Ref Score sheet'!B74 = \"h\",'Ref Score sheet'!C74 = \"CON-ON\")","v":false},{"$f":"AND('Ref Score sheet'!B74 = \"h\",'Ref Score sheet'!C74 = \"RT-on\")","v":false},{"$f":"AND('Ref Score sheet'!B74 = \"h\",'Ref Score sheet'!C74 = \"RT-off\")","v":false},{"$f":"AND('Ref Score sheet'!$B74 = \"h\",'Ref Score sheet'!$C74 = \"rc\")","v":false},{"$f":"AND('Ref Score sheet'!$B74 = \"h\",'Ref Score sheet'!$C74 = \"rcr\")","v":false},{"$f":"AND('Ref Score sheet'!$B74 = \"h\",'Ref Score sheet'!$C74 = \"yc\")","v":false},{"$f":"AND('Ref Score sheet'!$B74 = \"h\",'Ref Score sheet'!$C74 = \"2nd yc\")","v":false},null,{"$f":"AND('Ref Score sheet'!B74 = \"\",'Ref Score sheet'!C74 = \"fh-e\")","v":false},"",null,null,{"$f":"AND('Ref Score sheet'!B74=\"a\",'Ref Score sheet'!C74=\"t\")","v":false},{"$f":"AND('Ref Score sheet'!B74=\"a\",'Ref Score sheet'!C74=\"pt\")","v":false},{"$f":"AND('Ref Score sheet'!B74=\"a\",'Ref Score sheet'!C74=\"c\")","v":false},{"$f":"AND('Ref Score sheet'!B74=\"a\",'Ref Score sheet'!C74=\"p\")","v":false},{"$f":"AND('Ref Score sheet'!B74=\"a\",'Ref Score sheet'!C74=\"dg\")","v":false},0,0,0,0,0,0,0,null,{"$f":"AND('Ref Score sheet'!B74=\"a\",'Ref Score sheet'!C74=\"bl-off\")","v":false},{"$f":"AND('Ref Score sheet'!B74=\"a\",'Ref Score sheet'!C74=\"bl-on\")","v":false},{"$f":"AND('Ref Score sheet'!B74 = \"a\",'Ref Score sheet'!C74 = \"blr-off\")","v":false},{"$f":"AND('Ref Score sheet'!B74 = \"a\",'Ref Score sheet'!C74 = \"blr-on\")","v":false},{"$f":"AND('Ref Score sheet'!B74=\"a\",'Ref Score sheet'!C74=\"RI-off\")","v":false},{"$f":"AND('Ref Score sheet'!B74=\"a\",'Ref Score sheet'!C74=\"RI-on\")","v":false},{"$f":"AND('Ref Score sheet'!B74 = \"a\",'Ref Score sheet'!C74 = \"CON - OFF\")","v":false},{"$f":"AND('Ref Score sheet'!B74 = \"a\",'Ref Score sheet'!C74 = \"CON - ON\")","v":false},{"$f":"AND('Ref Score sheet'!B74=\"a\",'Ref Score sheet'!C74=\"RT-on\")","v":false},{"$f":"AND('Ref Score sheet'!B74=\"a\",'Ref Score sheet'!C74=\"RT-off\")","v":false},{"$f":"AND('Ref Score sheet'!$B74 = \"a\",'Ref Score sheet'!$C74 = \"rc\")","v":false},{"$f":"AND('Ref Score sheet'!$B74 = \"a\",'Ref Score sheet'!$C74 = \"rcr\")","v":false},{"$f":"AND('Ref Score sheet'!$B74 = \"a\",'Ref Score sheet'!$C74 = \"yc\")","v":false},{"$f":"AND('Ref Score sheet'!$B74 = \"a\",'Ref Score sheet'!$C74 = \"2nd yc\")","v":false},null,{"$f":"AND('Ref Score sheet'!B74 = \"\",'Ref Score sheet'!C74 = \"fh-e\")","v":false},""]
[null,{"$f":"AND('Ref Score sheet'!B75 = \"h\",'Ref Score sheet'!C75 = \"t\")","v":false},{"$f":"AND('Ref Score sheet'!B75 = \"h\",'Ref Score sheet'!C75 = \"pt\")","v":false},{"$f":"AND('Ref Score sheet'!B75 = \"h\",'Ref Score sheet'!C75 = \"c\")","v":false},{"$f":"AND('Ref Score sheet'!B75 = \"h\",'Ref Score sheet'!C75 = \"p\")","v":false},{"$f":"AND('Ref Score sheet'!B75 = \"h\",'Ref Score sheet'!C75 = \"dg\")","v":false},0,0,0,0,0,0,0,null,null,{"$f":"AND('Ref Score sheet'!B75 = \"h\",'Ref Score sheet'!C75 = \"bl-off\")","v":false},{"$f":"AND('Ref Score sheet'!B75 = \"h\",'Ref Score sheet'!C75 = \"bl-on\")","v":false},{"$f":"AND('Ref Score sheet'!B75 = \"h\",'Ref Score sheet'!C75 = \"blr-off\")","v":false},{"$f":"AND('Ref Score sheet'!B75 = \"h\",'Ref Score sheet'!C75 = \"blr-on\")","v":false},{"$f":"AND('Ref Score sheet'!B75 = \"h\",'Ref Score sheet'!C75 = \"RI-off\")","v":false},{"$f":"AND('Ref Score sheet'!B75 = \"h\",'Ref Score sheet'!C75 = \"RI-on\")","v":false},{"$f":"AND('Ref Score sheet'!B75 = \"h\",'Ref Score sheet'!C75 = \"CON-OFF\")","v":false},{"$f":"AND('Ref Score sheet'!B75 = \"h\",'Ref Score sheet'!C75 = \"CON-ON\")","v":false},{"$f":"AND('Ref Score sheet'!B75 = \"h\",'Ref Score sheet'!C75 = \"RT-on\")","v":false},{"$f":"AND('Ref Score sheet'!B75 = \"h\",'Ref Score sheet'!C75 = \"RT-off\")","v":false},{"$f":"AND('Ref Score sheet'!$B75 = \"h\",'Ref Score sheet'!$C75 = \"rc\")","v":false},{"$f":"AND('Ref Score sheet'!$B75 = \"h\",'Ref Score sheet'!$C75 = \"rcr\")","v":false},{"$f":"AND('Ref Score sheet'!$B75 = \"h\",'Ref Score sheet'!$C75 = \"yc\")","v":false},{"$f":"AND('Ref Score sheet'!$B75 = \"h\",'Ref Score sheet'!$C75 = \"2nd yc\")","v":false},null,{"$f":"AND('Ref Score sheet'!B75 = \"\",'Ref Score sheet'!C75 = \"fh-e\")","v":false},"",null,null,{"$f":"AND('Ref Score sheet'!B75=\"a\",'Ref Score sheet'!C75=\"t\")","v":false},{"$f":"AND('Ref Score sheet'!B75=\"a\",'Ref Score sheet'!C75=\"pt\")","v":false},{"$f":"AND('Ref Score sheet'!B75=\"a\",'Ref Score sheet'!C75=\"c\")","v":false},{"$f":"AND('Ref Score sheet'!B75=\"a\",'Ref Score sheet'!C75=\"p\")","v":false},{"$f":"AND('Ref Score sheet'!B75=\"a\",'Ref Score sheet'!C75=\"dg\")","v":false},0,0,0,0,0,0,0,null,{"$f":"AND('Ref Score sheet'!B75=\"a\",'Ref Score sheet'!C75=\"bl-off\")","v":false},{"$f":"AND('Ref Score sheet'!B75=\"a\",'Ref Score sheet'!C75=\"bl-on\")","v":false},{"$f":"AND('Ref Score sheet'!B75 = \"a\",'Ref Score sheet'!C75 = \"blr-off\")","v":false},{"$f":"AND('Ref Score sheet'!B75 = \"a\",'Ref Score sheet'!C75 = \"blr-on\")","v":false},{"$f":"AND('Ref Score sheet'!B75=\"a\",'Ref Score sheet'!C75=\"RI-off\")","v":false},{"$f":"AND('Ref Score sheet'!B75=\"a\",'Ref Score sheet'!C75=\"RI-on\")","v":false},{"$f":"AND('Ref Score sheet'!B75 = \"a\",'Ref Score sheet'!C75 = \"CON - OFF\")","v":false},{"$f":"AND('Ref Score sheet'!B75 = \"a\",'Ref Score sheet'!C75 = \"CON - ON\")","v":false},{"$f":"AND('Ref Score sheet'!B75=\"a\",'Ref Score sheet'!C75=\"RT-on\")","v":false},{"$f":"AND('Ref Score sheet'!B75=\"a\",'Ref Score sheet'!C75=\"RT-off\")","v":false},{"$f":"AND('Ref Score sheet'!$B75 = \"a\",'Ref Score sheet'!$C75 = \"rc\")","v":false},{"$f":"AND('Ref Score sheet'!$B75 = \"a\",'Ref Score sheet'!$C75 = \"rcr\")","v":false},{"$f":"AND('Ref Score sheet'!$B75 = \"a\",'Ref Score sheet'!$C75 = \"yc\")","v":false},{"$f":"AND('Ref Score sheet'!$B75 = \"a\",'Ref Score sheet'!$C75 = \"2nd yc\")","v":false},null,{"$f":"AND('Ref Score sheet'!B75 = \"\",'Ref Score sheet'!C75 = \"fh-e\")","v":false},""]
[null,{"$f":"AND('Ref Score sheet'!B76 = \"h\",'Ref Score sheet'!C76 = \"t\")","v":false},{"$f":"AND('Ref Score sheet'!B76 = \"h\",'Ref Score sheet'!C76 = \"pt\")","v":false},{"$f":"AND('Ref Score sheet'!B76 = \"h\",'Ref Score sheet'!C76 = \"c\")","v":false},{"$f":"AND('Ref Score sheet'!B76 = \"h\",'Ref Score sheet'!C76 = \"p\")","v":false},{"$f":"AND('Ref Score sheet'!B76 = \"h\",'Ref Score sheet'!C76 = \"dg\")","v":false},0,0,0,0,0,0,0,null,null,{"$f":"AND('Ref Score sheet'!B76 = \"h\",'Ref Score sheet'!C76 = \"bl-off\")","v":false},{"$f":"AND('Ref Score sheet'!B76 = \"h\",'Ref Score sheet'!C76 = \"bl-on\")","v":false},{"$f":"AND('Ref Score sheet'!B76 = \"h\",'Ref Score sheet'!C76 = \"blr-off\")","v":false},{"$f":"AND('Ref Score sheet'!B76 = \"h\",'Ref Score sheet'!C76 = \"blr-on\")","v":false},{"$f":"AND('Ref Score sheet'!B76 = \"h\",'Ref Score sheet'!C76 = \"RI-off\")","v":false},{"$f":"AND('Ref Score sheet'!B76 = \"h\",'Ref Score sheet'!C76 = \"RI-on\")","v":false},{"$f":"AND('Ref Score sheet'!B76 = \"h\",'Ref Score sheet'!C76 = \"CON-OFF\")","v":false},{"$f":"AND('Ref Score sheet'!B76 = \"h\",'Ref Score sheet'!C76 = \"CON-ON\")","v":false},{"$f":"AND('Ref Score sheet'!B76 = \"h\",'Ref Score sheet'!C76 = \"RT-on\")","v":false},{"$f":"AND('Ref Score sheet'!B76 = \"h\",'Ref Score sheet'!C76 = \"RT-off\")","v":false},{"$f":"AND('Ref Score sheet'!$B76 = \"h\",'Ref Score sheet'!$C76 = \"rc\")","v":false},{"$f":"AND('Ref Score sheet'!$B76 = \"h\",'Ref Score sheet'!$C76 = \"rcr\")","v":false},{"$f":"AND('Ref Score sheet'!$B76 = \"h\",'Ref Score sheet'!$C76 = \"yc\")","v":false},{"$f":"AND('Ref Score sheet'!$B76 = \"h\",'Ref Score sheet'!$C76 = \"2nd yc\")","v":false},null,{"$f":"AND('Ref Score sheet'!B76 = \"\",'Ref Score sheet'!C76 = \"fh-e\")","v":false},"",null,null,{"$f":"AND('Ref Score sheet'!B76=\"a\",'Ref Score sheet'!C76=\"t\")","v":false},{"$f":"AND('Ref Score sheet'!B76=\"a\",'Ref Score sheet'!C76=\"pt\")","v":false},{"$f":"AND('Ref Score sheet'!B76=\"a\",'Ref Score sheet'!C76=\"c\")","v":false},{"$f":"AND('Ref Score sheet'!B76=\"a\",'Ref Score sheet'!C76=\"p\")","v":false},{"$f":"AND('Ref Score sheet'!B76=\"a\",'Ref Score sheet'!C76=\"dg\")","v":false},0,0,0,0,0,0,0,null,{"$f":"AND('Ref Score sheet'!B76=\"a\",'Ref Score sheet'!C76=\"bl-off\")","v":false},{"$f":"AND('Ref Score sheet'!B76=\"a\",'Ref Score sheet'!C76=\"bl-on\")","v":false},{"$f":"AND('Ref Score sheet'!B76 = \"a\",'Ref Score sheet'!C76 = \"blr-off\")","v":false},{"$f":"AND('Ref Score sheet'!B76 = \"a\",'Ref Score sheet'!C76 = \"blr-on\")","v":false},{"$f":"AND('Ref Score sheet'!B76=\"a\",'Ref Score sheet'!C76=\"RI-off\")","v":false},{"$f":"AND('Ref Score sheet'!B76=\"a\",'Ref Score sheet'!C76=\"RI-on\")","v":false},{"$f":"AND('Ref Score sheet'!B76 = \"a\",'Ref Score sheet'!C76 = \"CON - OFF\")","v":false},{"$f":"AND('Ref Score sheet'!B76 = \"a\",'Ref Score sheet'!C76 = \"CON - ON\")","v":false},{"$f":"AND('Ref Score sheet'!B76=\"a\",'Ref Score sheet'!C76=\"RT-on\")","v":false},{"$f":"AND('Ref Score sheet'!B76=\"a\",'Ref Score sheet'!C76=\"RT-off\")","v":false},{"$f":"AND('Ref Score sheet'!$B76 = \"a\",'Ref Score sheet'!$C76 = \"rc\")","v":false},{"$f":"AND('Ref Score sheet'!$B76 = \"a\",'Ref Score sheet'!$C76 = \"rcr\")","v":false},{"$f":"AND('Ref Score sheet'!$B76 = \"a\",'Ref Score sheet'!$C76 = \"yc\")","v":false},{"$f":"AND('Ref Score sheet'!$B76 = \"a\",'Ref Score sheet'!$C76 = \"2nd yc\")","v":false},null,{"$f":"AND('Ref Score sheet'!B76 = \"\",'Ref Score sheet'!C76 = \"fh-e\")","v":false},""]
[null,{"$f":"AND('Ref Score sheet'!B77 = \"h\",'Ref Score sheet'!C77 = \"t\")","v":false},{"$f":"AND('Ref Score sheet'!B77 = \"h\",'Ref Score sheet'!C77 = \"pt\")","v":false},{"$f":"AND('Ref Score sheet'!B77 = \"h\",'Ref Score sheet'!C77 = \"c\")","v":false},{"$f":"AND('Ref Score sheet'!B77 = \"h\",'Ref Score sheet'!C77 = \"p\")","v":false},{"$f":"AND('Ref Score sheet'!B77 = \"h\",'Ref Score sheet'!C77 = \"dg\")","v":false},0,0,0,0,0,0,0,null,null,{"$f":"AND('Ref Score sheet'!B77 = \"h\",'Ref Score sheet'!C77 = \"bl-off\")","v":false},{"$f":"AND('Ref Score sheet'!B77 = \"h\",'Ref Score sheet'!C77 = \"bl-on\")","v":false},{"$f":"AND('Ref Score sheet'!B77 = \"h\",'Ref Score sheet'!C77 = \"blr-off\")","v":false},{"$f":"AND('Ref Score sheet'!B77 = \"h\",'Ref Score sheet'!C77 = \"blr-on\")","v":false},{"$f":"AND('Ref Score sheet'!B77 = \"h\",'Ref Score sheet'!C77 = \"RI-off\")","v":false},{"$f":"AND('Ref Score sheet'!B77 = \"h\",'Ref Score sheet'!C77 = \"RI-on\")","v":false},{"$f":"AND('Ref Score sheet'!B77 = \"h\",'Ref Score sheet'!C77 = \"CON-OFF\")","v":false},{"$f":"AND('Ref Score sheet'!B77 = \"h\",'Ref Score sheet'!C77 = \"CON-ON\")","v":false},{"$f":"AND('Ref Score sheet'!B77 = \"h\",'Ref Score sheet'!C77 = \"RT-on\")","v":false},{"$f":"AND('Ref Score sheet'!B77 = \"h\",'Ref Score sheet'!C77 = \"RT-off\")","v":false},{"$f":"AND('Ref Score sheet'!$B77 = \"h\",'Ref Score sheet'!$C77 = \"rc\")","v":false},{"$f":"AND('Ref Score sheet'!$B77 = \"h\",'Ref Score sheet'!$C77 = \"rcr\")","v":false},{"$f":"AND('Ref Score sheet'!$B77 = \"h\",'Ref Score sheet'!$C77 = \"yc\")","v":false},{"$f":"AND('Ref Score sheet'!$B77 = \"h\",'Ref Score sheet'!$C77 = \"2nd yc\")","v":false},null,{"$f":"AND('Ref Score sheet'!B77 = \"\",'Ref Score sheet'!C77 = \"fh-e\")","v":false},"",null,null,{"$f":"AND('Ref Score sheet'!B77=\"a\",'Ref Score sheet'!C77=\"t\")","v":false},{"$f":"AND('Ref Score sheet'!B77=\"a\",'Ref Score sheet'!C77=\"pt\")","v":false},{"$f":"AND('Ref Score sheet'!B77=\"a\",'Ref Score sheet'!C77=\"c\")","v":false},{"$f":"AND('Ref Score sheet'!B77=\"a\",'Ref Score sheet'!C77=\"p\")","v":false},{"$f":"AND('Ref Score sheet'!B77=\"a\",'Ref Score sheet'!C77=\"dg\")","v":false},0,0,0,0,0,0,0,null,{"$f":"AND('Ref Score sheet'!B77=\"a\",'Ref Score sheet'!C77=\"bl-off\")","v":false},{"$f":"AND('Ref Score sheet'!B77=\"a\",'Ref Score sheet'!C77=\"bl-on\")","v":false},{"$f":"AND('Ref Score sheet'!B77 = \"a\",'Ref Score sheet'!C77 = \"blr-off\")","v":false},{"$f":"AND('Ref Score sheet'!B77 = \"a\",'Ref Score sheet'!C77 = \"blr-on\")","v":false},{"$f":"AND('Ref Score sheet'!B77=\"a\",'Ref Score sheet'!C77=\"RI-off\")","v":false},{"$f":"AND('Ref Score sheet'!B77=\"a\",'Ref Score sheet'!C77=\"RI-on\")","v":false},{"$f":"AND('Ref Score sheet'!B77 = \"a\",'Ref Score sheet'!C77 = \"CON - OFF\")","v":false},{"$f":"AND('Ref Score sheet'!B77 = \"a\",'Ref Score sheet'!C77 = \"CON - ON\")","v":false},{"$f":"AND('Ref Score sheet'!B77=\"a\",'Ref Score sheet'!C77=\"RT-on\")","v":false},{"$f":"AND('Ref Score sheet'!B77=\"a\",'Ref Score sheet'!C77=\"RT-off\")","v":false},{"$f":"AND('Ref Score sheet'!$B77 = \"a\",'Ref Score sheet'!$C77 = \"rc\")","v":false},{"$f":"AND('Ref Score sheet'!$B77 = \"a\",'Ref Score sheet'!$C77 = \"rcr\")","v":false},{"$f":"AND('Ref Score sheet'!$B77 = \"a\",'Ref Score sheet'!$C77 = \"yc\")","v":false},{"$f":"AND('Ref Score sheet'!$B77 = \"a\",'Ref Score sheet'!$C77 = \"2nd yc\")","v":false},null,{"$f":"AND('Ref Score sheet'!B77 = \"\",'Ref Score sheet'!C77 = \"fh-e\")","v":false},""]
[null,{"$f":"AND('Ref Score sheet'!B78 = \"h\",'Ref Score sheet'!C78 = \"t\")","v":false},{"$f":"AND('Ref Score sheet'!B78 = \"h\",'Ref Score sheet'!C78 = \"pt\")","v":false},{"$f":"AND('Ref Score sheet'!B78 = \"h\",'Ref Score sheet'!C78 = \"c\")","v":false},{"$f":"AND('Ref Score sheet'!B78 = \"h\",'Ref Score sheet'!C78 = \"p\")","v":false},{"$f":"AND('Ref Score sheet'!B78 = \"h\",'Ref Score sheet'!C78 = \"dg\")","v":false},0,0,0,0,0,0,0,null,null,{"$f":"AND('Ref Score sheet'!B78 = \"h\",'Ref Score sheet'!C78 = \"bl-off\")","v":false},{"$f":"AND('Ref Score sheet'!B78 = \"h\",'Ref Score sheet'!C78 = \"bl-on\")","v":false},{"$f":"AND('Ref Score sheet'!B78 = \"h\",'Ref Score sheet'!C78 = \"blr-off\")","v":false},{"$f":"AND('Ref Score sheet'!B78 = \"h\",'Ref Score sheet'!C78 = \"blr-on\")","v":false},{"$f":"AND('Ref Score sheet'!B78 = \"h\",'Ref Score sheet'!C78 = \"RI-off\")","v":false},{"$f":"AND('Ref Score sheet'!B78 = \"h\",'Ref Score sheet'!C78 = \"RI-on\")","v":false},{"$f":"AND('Ref Score sheet'!B78 = \"h\",'Ref Score sheet'!C78 = \"CON-OFF\")","v":false},{"$f":"AND('Ref Score sheet'!B78 = \"h\",'Ref Score sheet'!C78 = \"CON-ON\")","v":false},{"$f":"AND('Ref Score sheet'!B78 = \"h\",'Ref Score sheet'!C78 = \"RT-on\")","v":false},{"$f":"AND('Ref Score sheet'!B78 = \"h\",'Ref Score sheet'!C78 = \"RT-off\")","v":false},{"$f":"AND('Ref Score sheet'!$B78 = \"h\",'Ref Score sheet'!$C78 = \"rc\")","v":false},{"$f":"AND('Ref Score sheet'!$B78 = \"h\",'Ref Score sheet'!$C78 = \"rcr\")","v":false},{"$f":"AND('Ref Score sheet'!$B78 = \"h\",'Ref Score sheet'!$C78 = \"yc\")","v":false},{"$f":"AND('Ref Score sheet'!$B78 = \"h\",'Ref Score sheet'!$C78 = \"2nd yc\")","v":false},null,{"$f":"AND('Ref Score sheet'!B78 = \"\",'Ref Score sheet'!C78 = \"fh-e\")","v":false},"",null,null,{"$f":"AND('Ref Score sheet'!B78=\"a\",'Ref Score sheet'!C78=\"t\")","v":false},{"$f":"AND('Ref Score sheet'!B78=\"a\",'Ref Score sheet'!C78=\"pt\")","v":false},{"$f":"AND('Ref Score sheet'!B78=\"a\",'Ref Score sheet'!C78=\"c\")","v":false},{"$f":"AND('Ref Score sheet'!B78=\"a\",'Ref Score sheet'!C78=\"p\")","v":false},{"$f":"AND('Ref Score sheet'!B78=\"a\",'Ref Score sheet'!C78=\"dg\")","v":false},0,0,0,0,0,0,0,null,{"$f":"AND('Ref Score sheet'!B78=\"a\",'Ref Score sheet'!C78=\"bl-off\")","v":false},{"$f":"AND('Ref Score sheet'!B78=\"a\",'Ref Score sheet'!C78=\"bl-on\")","v":false},{"$f":"AND('Ref Score sheet'!B78 = \"a\",'Ref Score sheet'!C78 = \"blr-off\")","v":false},{"$f":"AND('Ref Score sheet'!B78 = \"a\",'Ref Score sheet'!C78 = \"blr-on\")","v":false},{"$f":"AND('Ref Score sheet'!B78=\"a\",'Ref Score sheet'!C78=\"RI-off\")","v":false},{"$f":"AND('Ref Score sheet'!B78=\"a\",'Ref Score sheet'!C78=\"RI-on\")","v":false},{"$f":"AND('Ref Score sheet'!B78 = \"a\",'Ref Score sheet'!C78 = \"CON - OFF\")","v":false},{"$f":"AND('Ref Score sheet'!B78 = \"a\",'Ref Score sheet'!C78 = \"CON - ON\")","v":false},{"$f":"AND('Ref Score sheet'!B78=\"a\",'Ref Score sheet'!C78=\"RT-on\")","v":false},{"$f":"AND('Ref Score sheet'!B78=\"a\",'Ref Score sheet'!C78=\"RT-off\")","v":false},{"$f":"AND('Ref Score sheet'!$B78 = \"a\",'Ref Score sheet'!$C78 = \"rc\")","v":false},{"$f":"AND('Ref Score sheet'!$B78 = \"a\",'Ref Score sheet'!$C78 = \"rcr\")","v":false},{"$f":"AND('Ref Score sheet'!$B78 = \"a\",'Ref Score sheet'!$C78 = \"yc\")","v":false},{"$f":"AND('Ref Score sheet'!$B78 = \"a\",'Ref Score sheet'!$C78 = \"2nd yc\")","v":false},null,{"$f":"AND('Ref Score sheet'!B78 = \"\",'Ref Score sheet'!C78 = \"fh-e\")","v":false},""]
[null,{"$f":"AND('Ref Score sheet'!B79 = \"h\",'Ref Score sheet'!C79 = \"t\")","v":false},{"$f":"AND('Ref Score sheet'!B79 = \"h\",'Ref Score sheet'!C79 = \"pt\")","v":false},{"$f":"AND('Ref Score sheet'!B79 = \"h\",'Ref Score sheet'!C79 = \"c\")","v":false},{"$f":"AND('Ref Score sheet'!B79 = \"h\",'Ref Score sheet'!C79 = \"p\")","v":false},{"$f":"AND('Ref Score sheet'!B79 = \"h\",'Ref Score sheet'!C79 = \"dg\")","v":false},0,0,0,0,0,0,0,null,null,{"$f":"AND('Ref Score sheet'!B79 = \"h\",'Ref Score sheet'!C79 = \"bl-off\")","v":false},{"$f":"AND('Ref Score sheet'!B79 = \"h\",'Ref Score sheet'!C79 = \"bl-on\")","v":false},{"$f":"AND('Ref Score sheet'!B79 = \"h\",'Ref Score sheet'!C79 = \"blr-off\")","v":false},{"$f":"AND('Ref Score sheet'!B79 = \"h\",'Ref Score sheet'!C79 = \"blr-on\")","v":false},{"$f":"AND('Ref Score sheet'!B79 = \"h\",'Ref Score sheet'!C79 = \"RI-off\")","v":false},{"$f":"AND('Ref Score sheet'!B79 = \"h\",'Ref Score sheet'!C79 = \"RI-on\")","v":false},{"$f":"AND('Ref Score sheet'!B79 = \"h\",'Ref Score sheet'!C79 = \"CON-OFF\")","v":false},{"$f":"AND('Ref Score sheet'!B79 = \"h\",'Ref Score sheet'!C79 = \"CON-ON\")","v":false},{"$f":"AND('Ref Score sheet'!B79 = \"h\",'Ref Score sheet'!C79 = \"RT-on\")","v":false},{"$f":"AND('Ref Score sheet'!B79 = \"h\",'Ref Score sheet'!C79 = \"RT-off\")","v":false},{"$f":"AND('Ref Score sheet'!$B79 = \"h\",'Ref Score sheet'!$C79 = \"rc\")","v":false},{"$f":"AND('Ref Score sheet'!$B79 = \"h\",'Ref Score sheet'!$C79 = \"rcr\")","v":false},{"$f":"AND('Ref Score sheet'!$B79 = \"h\",'Ref Score sheet'!$C79 = \"yc\")","v":false},{"$f":"AND('Ref Score sheet'!$B79 = \"h\",'Ref Score sheet'!$C79 = \"2nd yc\")","v":false},null,{"$f":"AND('Ref Score sheet'!B79 = \"\",'Ref Score sheet'!C79 = \"fh-e\")","v":false},"",null,null,{"$f":"AND('Ref Score sheet'!B79=\"a\",'Ref Score sheet'!C79=\"t\")","v":false},{"$f":"AND('Ref Score sheet'!B79=\"a\",'Ref Score sheet'!C79=\"pt\")","v":false},{"$f":"AND('Ref Score sheet'!B79=\"a\",'Ref Score sheet'!C79=\"c\")","v":false},{"$f":"AND('Ref Score sheet'!B79=\"a\",'Ref Score sheet'!C79=\"p\")","v":false},{"$f":"AND('Ref Score sheet'!B79=\"a\",'Ref Score sheet'!C79=\"dg\")","v":false},0,0,0,0,0,0,0,null,{"$f":"AND('Ref Score sheet'!B79=\"a\",'Ref Score sheet'!C79=\"bl-off\")","v":false},{"$f":"AND('Ref Score sheet'!B79=\"a\",'Ref Score sheet'!C79=\"bl-on\")","v":false},{"$f":"AND('Ref Score sheet'!B79 = \"a\",'Ref Score sheet'!C79 = \"blr-off\")","v":false},{"$f":"AND('Ref Score sheet'!B79 = \"a\",'Ref Score sheet'!C79 = \"blr-on\")","v":false},{"$f":"AND('Ref Score sheet'!B79=\"a\",'Ref Score sheet'!C79=\"RI-off\")","v":false},{"$f":"AND('Ref Score sheet'!B79=\"a\",'Ref Score sheet'!C79=\"RI-on\")","v":false},{"$f":"AND('Ref Score sheet'!B79 = \"a\",'Ref Score sheet'!C79 = \"CON - OFF\")","v":false},{"$f":"AND('Ref Score sheet'!B79 = \"a\",'Ref Score sheet'!C79 = \"CON - ON\")","v":false},{"$f":"AND('Ref Score sheet'!B79=\"a\",'Ref Score sheet'!C79=\"RT-on\")","v":false},{"$f":"AND('Ref Score sheet'!B79=\"a\",'Ref Score sheet'!C79=\"RT-off\")","v":false},{"$f":"AND('Ref Score sheet'!$B79 = \"a\",'Ref Score sheet'!$C79 = \"rc\")","v":false},{"$f":"AND('Ref Score sheet'!$B79 = \"a\",'Ref Score sheet'!$C79 = \"rcr\")","v":false},{"$f":"AND('Ref Score sheet'!$B79 = \"a\",'Ref Score sheet'!$C79 = \"yc\")","v":false},{"$f":"AND('Ref Score sheet'!$B79 = \"a\",'Ref Score sheet'!$C79 = \"2nd yc\")","v":false},null,{"$f":"AND('Ref Score sheet'!B79 = \"\",'Ref Score sheet'!C79 = \"fh-e\")","v":false},""]
[null,{"$f":"AND('Ref Score sheet'!B80 = \"h\",'Ref Score sheet'!C80 = \"t\")","v":false},{"$f":"AND('Ref Score sheet'!B80 = \"h\",'Ref Score sheet'!C80 = \"pt\")","v":false},{"$f":"AND('Ref Score sheet'!B80 = \"h\",'Ref Score sheet'!C80 = \"c\")","v":false},{"$f":"AND('Ref Score sheet'!B80 = \"h\",'Ref Score sheet'!C80 = \"p\")","v":false},{"$f":"AND('Ref Score sheet'!B80 = \"h\",'Ref Score sheet'!C80 = \"dg\")","v":false},0,0,0,0,0,0,0,null,null,{"$f":"AND('Ref Score sheet'!B80 = \"h\",'Ref Score sheet'!C80 = \"bl-off\")","v":false},{"$f":"AND('Ref Score sheet'!B80 = \"h\",'Ref Score sheet'!C80 = \"bl-on\")","v":false},{"$f":"AND('Ref Score sheet'!B80 = \"h\",'Ref Score sheet'!C80 = \"blr-off\")","v":false},{"$f":"AND('Ref Score sheet'!B80 = \"h\",'Ref Score sheet'!C80 = \"blr-on\")","v":false},{"$f":"AND('Ref Score sheet'!B80 = \"h\",'Ref Score sheet'!C80 = \"RI-off\")","v":false},{"$f":"AND('Ref Score sheet'!B80 = \"h\",'Ref Score sheet'!C80 = \"RI-on\")","v":false},{"$f":"AND('Ref Score sheet'!B80 = \"h\",'Ref Score sheet'!C80 = \"CON-OFF\")","v":false},{"$f":"AND('Ref Score sheet'!B80 = \"h\",'Ref Score sheet'!C80 = \"CON-ON\")","v":false},{"$f":"AND('Ref Score sheet'!B80 = \"h\",'Ref Score sheet'!C80 = \"RT-on\")","v":false},{"$f":"AND('Ref Score sheet'!B80 = \"h\",'Ref Score sheet'!C80 = \"RT-off\")","v":false},{"$f":"AND('Ref Score sheet'!$B80 = \"h\",'Ref Score sheet'!$C80 = \"rc\")","v":false},{"$f":"AND('Ref Score sheet'!$B80 = \"h\",'Ref Score sheet'!$C80 = \"rcr\")","v":false},{"$f":"AND('Ref Score sheet'!$B80 = \"h\",'Ref Score sheet'!$C80 = \"yc\")","v":false},{"$f":"AND('Ref Score sheet'!$B80 = \"h\",'Ref Score sheet'!$C80 = \"2nd yc\")","v":false},null,{"$f":"AND('Ref Score sheet'!B80 = \"\",'Ref Score sheet'!C80 = \"fh-e\")","v":false},"",null,null,{"$f":"AND('Ref Score sheet'!B80=\"a\",'Ref Score sheet'!C80=\"t\")","v":false},{"$f":"AND('Ref Score sheet'!B80=\"a\",'Ref Score sheet'!C80=\"pt\")","v":false},{"$f":"AND('Ref Score sheet'!B80=\"a\",'Ref Score sheet'!C80=\"c\")","v":false},{"$f":"AND('Ref Score sheet'!B80=\"a\",'Ref Score sheet'!C80=\"p\")","v":false},{"$f":"AND('Ref Score sheet'!B80=\"a\",'Ref Score sheet'!C80=\"dg\")","v":false},0,0,0,0,0,0,0,null,{"$f":"AND('Ref Score sheet'!B80=\"a\",'Ref Score sheet'!C80=\"bl-off\")","v":false},{"$f":"AND('Ref Score sheet'!B80=\"a\",'Ref Score sheet'!C80=\"bl-on\")","v":false},{"$f":"AND('Ref Score sheet'!B80 = \"a\",'Ref Score sheet'!C80 = \"blr-off\")","v":false},{"$f":"AND('Ref Score sheet'!B80 = \"a\",'Ref Score sheet'!C80 = \"blr-on\")","v":false},{"$f":"AND('Ref Score sheet'!B80=\"a\",'Ref Score sheet'!C80=\"RI-off\")","v":false},{"$f":"AND('Ref Score sheet'!B80=\"a\",'Ref Score sheet'!C80=\"RI-on\")","v":false},{"$f":"AND('Ref Score sheet'!B80 = \"a\",'Ref Score sheet'!C80 = \"CON - OFF\")","v":false},{"$f":"AND('Ref Score sheet'!B80 = \"a\",'Ref Score sheet'!C80 = \"CON - ON\")","v":false},{"$f":"AND('Ref Score sheet'!B80=\"a\",'Ref Score sheet'!C80=\"RT-on\")","v":false},{"$f":"AND('Ref Score sheet'!B80=\"a\",'Ref Score sheet'!C80=\"RT-off\")","v":false},{"$f":"AND('Ref Score sheet'!$B80 = \"a\",'Ref Score sheet'!$C80 = \"rc\")","v":false},{"$f":"AND('Ref Score sheet'!$B80 = \"a\",'Ref Score sheet'!$C80 = \"rcr\")","v":false},{"$f":"AND('Ref Score sheet'!$B80 = \"a\",'Ref Score sheet'!$C80 = \"yc\")","v":false},{"$f":"AND('Ref Score sheet'!$B80 = \"a\",'Ref Score sheet'!$C80 = \"2nd yc\")","v":false},null,{"$f":"AND('Ref Score sheet'!B80 = \"\",'Ref Score sheet'!C80 = \"fh-e\")","v":false},""]
[null,{"$f":"AND('Ref Score sheet'!B81 = \"h\",'Ref Score sheet'!C81 = \"t\")","v":false},{"$f":"AND('Ref Score sheet'!B81 = \"h\",'Ref Score sheet'!C81 = \"pt\")","v":false},{"$f":"AND('Ref Score sheet'!B81 = \"h\",'Ref Score sheet'!C81 = \"c\")","v":false},{"$f":"AND('Ref Score sheet'!B81 = \"h\",'Ref Score sheet'!C81 = \"p\")","v":false},{"$f":"AND('Ref Score sheet'!B81 = \"h\",'Ref Score sheet'!C81 = \"dg\")","v":false},{"$f":"IF(B76 = TRUE,5,0)","v":0},{"$f":"IF(C76 = TRUE,7,0)","v":0},{"$f":"IF(D76 = TRUE,2,0)","v":0},{"$f":"IF(E76 = TRUE,3,0)","v":0},{"$f":"IF(F76 = TRUE,3,0)","v":0},{"$f":"SUM(G76:K76)","v":0},0,null,null,{"$f":"AND('Ref Score sheet'!B81 = \"h\",'Ref Score sheet'!C81 = \"bl-off\")","v":false},{"$f":"AND('Ref Score sheet'!B81 = \"h\",'Ref Score sheet'!C81 = \"bl-on\")","v":false},{"$f":"AND('Ref Score sheet'!B81 = \"h\",'Ref Score sheet'!C81 = \"blr-off\")","v":false},{"$f":"AND('Ref Score sheet'!B81 = \"h\",'Ref Score sheet'!C81 = \"blr-on\")","v":false},{"$f":"AND('Ref Score sheet'!B81 = \"h\",'Ref Score sheet'!C81 = \"RI-off\")","v":false},{"$f":"AND('Ref Score sheet'!B81 = \"h\",'Ref Score sheet'!C81 = \"RI-on\")","v":false},{"$f":"AND('Ref Score sheet'!B81 = \"h\",'Ref Score sheet'!C81 = \"CON-OFF\")","v":false},{"$f":"AND('Ref Score sheet'!B81 = \"h\",'Ref Score sheet'!C81 = \"CON-ON\")","v":false},{"$f":"AND('Ref Score sheet'!B81 = \"h\",'Ref Score sheet'!C81 = \"RT-on\")","v":false},{"$f":"AND('Ref Score sheet'!B81 = \"h\",'Ref Score sheet'!C81 = \"RT-off\")","v":false},{"$f":"AND('Ref Score sheet'!$B81 = \"h\",'Ref Score sheet'!$C81 = \"rc\")","v":false},{"$f":"AND('Ref Score sheet'!$B81 = \"h\",'Ref Score sheet'!$C81 = \"rcr\")","v":false},{"$f":"AND('Ref Score sheet'!$B81 = \"h\",'Ref Score sheet'!$C81 = \"yc\")","v":false},{"$f":"AND('Ref Score sheet'!$B81 = \"h\",'Ref Score sheet'!$C81 = \"2nd yc\")","v":false},null,{"$f":"AND('Ref Score sheet'!B81 = \"\",'Ref Score sheet'!C81 = \"fh-e\")","v":false},"",null,null,{"$f":"AND('Ref Score sheet'!B81=\"a\",'Ref Score sheet'!C81=\"t\")","v":false},{"$f":"AND('Ref Score sheet'!B81=\"a\",'Ref Score sheet'!C81=\"pt\")","v":false},{"$f":"AND('Ref Score sheet'!B81=\"a\",'Ref Score sheet'!C81=\"c\")","v":false},{"$f":"AND('Ref Score sheet'!B81=\"a\",'Ref Score sheet'!C81=\"p\")","v":false},{"$f":"AND('Ref Score sheet'!B81=\"a\",'Ref Score sheet'!C81=\"dg\")","v":false},{"$f":"IF(AI76 = TRUE,5,0)","v":0},{"$f":"IF(AJ76 = TRUE,7,0)","v":0},{"$f":"IF(AK76 = TRUE,2,0)","v":0},{"$f":"IF(AL76 = TRUE,3,0)","v":0},{"$f":"IF(AM76 = TRUE,3,0)","v":0},{"$f":"SUM(AN76:AR76)","v":0},0,null,{"$f":"AND('Ref Score sheet'!B81=\"a\",'Ref Score sheet'!C81=\"bl-off\")","v":false},{"$f":"AND('Ref Score sheet'!B81=\"a\",'Ref Score sheet'!C81=\"bl-on\")","v":false},{"$f":"AND('Ref Score sheet'!B81 = \"a\",'Ref Score sheet'!C81 = \"blr-off\")","v":false},{"$f":"AND('Ref Score sheet'!B81 = \"a\",'Ref Score sheet'!C81 = \"blr-on\")","v":false},{"$f":"AND('Ref Score sheet'!B81=\"a\",'Ref Score sheet'!C81=\"RI-off\")","v":false},{"$f":"AND('Ref Score sheet'!B81=\"a\",'Ref Score sheet'!C81=\"RI-on\")","v":false},{"$f":"AND('Ref Score sheet'!B81 = \"a\",'Ref Score sheet'!C81 = \"CON - OFF\")","v":false},{"$f":"AND('Ref Score sheet'!B81 = \"a\",'Ref Score sheet'!C81 = \"CON - ON\")","v":false},{"$f":"AND('Ref Score sheet'!B81=\"a\",'Ref Score sheet'!C81=\"RT-on\")","v":false},{"$f":"AND('Ref Score sheet'!B81=\"a\",'Ref Score sheet'!C81=\"RT-off\")","v":false},{"$f":"AND('Ref Score sheet'!$B81 = \"a\",'Ref Score sheet'!$C81 = \"rc\")","v":false},{"$f":"AND('Ref Score sheet'!$B81 = \"a\",'Ref Score sheet'!$C81 = \"rcr\")","v":false},{"$f":"AND('Ref Score sheet'!$B81 = \"a\",'Ref Score sheet'!$C81 = \"yc\")","v":false},{"$f":"AND('Ref Score sheet'!$B81 = \"a\",'Ref Score sheet'!$C81 = \"2nd yc\")","v":false},null,{"$f":"AND('Ref Score sheet'!B81 = \"\",'Ref Score sheet'!C81 = \"fh-e\")","v":false},""]
[null,{"$f":"AND('Ref Score sheet'!B82 = \"h\",'Ref Score sheet'!C82 = \"t\")","v":false},{"$f":"AND('Ref Score sheet'!B82 = \"h\",'Ref Score sheet'!C82 = \"pt\")","v":false},{"$f":"AND('Ref Score sheet'!B82 = \"h\",'Ref Score sheet'!C82 = \"c\")","v":false},{"$f":"AND('Ref Score sheet'!B82 = \"h\",'Ref Score sheet'!C82 = \"p\")","v":false},{"$f":"AND('Ref Score sheet'!B82 = \"h\",'Ref Score sheet'!C82 = \"dg\")","v":false},0,0,0,0,0,0,0,null,null,{"$f":"AND('Ref Score sheet'!B82 = \"h\",'Ref Score sheet'!C82 = \"bl-off\")","v":false},{"$f":"AND('Ref Score sheet'!B82 = \"h\",'Ref Score sheet'!C82 = \"bl-on\")","v":false},{"$f":"AND('Ref Score sheet'!B82 = \"h\",'Ref Score sheet'!C82 = \"blr-off\")","v":false},{"$f":"AND('Ref Score sheet'!B82 = \"h\",'Ref Score sheet'!C82 = \"blr-on\")","v":false},{"$f":"AND('Ref Score sheet'!B82 = \"h\",'Ref Score sheet'!C82 = \"RI-off\")","v":false},{"$f":"AND('Ref Score sheet'!B82 = \"h\",'Ref Score sheet'!C82 = \"RI-on\")","v":false},{"$f":"AND('Ref Score sheet'!B82 = \"h\",'Ref Score sheet'!C82 = \"CON-OFF\")","v":false},{"$f":"AND('Ref Score sheet'!B82 = \"h\",'Ref Score sheet'!C82 = \"CON-ON\")","v":false},{"$f":"AND('Ref Score sheet'!B82 = \"h\",'Ref Score sheet'!C82 = \"RT-on\")","v":false},{"$f":"AND('Ref Score sheet'!B82 = \"h\",'Ref Score sheet'!C82 = \"RT-off\")","v":false},{"$f":"AND('Ref Score sheet'!$B82 = \"h\",'Ref Score sheet'!$C82 = \"rc\")","v":false},{"$f":"AND('Ref Score sheet'!$B82 = \"h\",'Ref Score sheet'!$C82 = \"rcr\")","v":false},{"$f":"AND('Ref Score sheet'!$B82 = \"h\",'Ref Score sheet'!$C82 = \"yc\")","v":false},{"$f":"AND('Ref Score sheet'!$B82 = \"h\",'Ref Score sheet'!$C82 = \"2nd yc\")","v":false},null,{"$f":"AND('Ref Score sheet'!B82 = \"\",'Ref Score sheet'!C82 = \"fh-e\")","v":false},"",null,null,{"$f":"AND('Ref Score sheet'!B82=\"a\",'Ref Score sheet'!C82=\"t\")","v":false},{"$f":"AND('Ref Score sheet'!B82=\"a\",'Ref Score sheet'!C82=\"pt\")","v":false},{"$f":"AND('Ref Score sheet'!B82=\"a\",'Ref Score sheet'!C82=\"c\")","v":false},{"$f":"AND('Ref Score sheet'!B82=\"a\",'Ref Score sheet'!C82=\"p\")","v":false},{"$f":"AND('Ref Score sheet'!B82=\"a\",'Ref Score sheet'!C82=\"dg\")","v":false},0,0,0,0,0,0,0,null,{"$f":"AND('Ref Score sheet'!B82=\"a\",'Ref Score sheet'!C82=\"bl-off\")","v":false},{"$f":"AND('Ref Score sheet'!B82=\"a\",'Ref Score sheet'!C82=\"bl-on\")","v":false},{"$f":"AND('Ref Score sheet'!B82 = \"a\",'Ref Score sheet'!C82 = \"blr-off\")","v":false},{"$f":"AND('Ref Score sheet'!B82 = \"a\",'Ref Score sheet'!C82 = \"blr-on\")","v":false},{"$f":"AND('Ref Score sheet'!B82=\"a\",'Ref Score sheet'!C82=\"RI-off\")","v":false},{"$f":"AND('Ref Score sheet'!B82=\"a\",'Ref Score sheet'!C82=\"RI-on\")","v":false},{"$f":"AND('Ref Score sheet'!B82 = \"a\",'Ref Score sheet'!C82 = \"CON - OFF\")","v":false},{"$f":"AND('Ref Score sheet'!B82 = \"a\",'Ref Score sheet'!C82 = \"CON - ON\")","v":false},{"$f":"AND('Ref Score sheet'!B82=\"a\",'Ref Score sheet'!C82=\"RT-on\")","v":false},{"$f":"AND('Ref Score sheet'!B82=\"a\",'Ref Score sheet'!C82=\"RT-off\")","v":false},{"$f":"AND('Ref Score sheet'!$B82 = \"a\",'Ref Score sheet'!$C82 = \"rc\")","v":false},{"$f":"AND('Ref Score sheet'!$B82 = \"a\",'Ref Score sheet'!$C82 = \"rcr\")","v":false},{"$f":"AND('Ref Score sheet'!$B82 = \"a\",'Ref Score sheet'!$C82 = \"yc\")","v":false},{"$f":"AND('Ref Score sheet'!$B82 = \"a\",'Ref Score sheet'!$C82 = \"2nd yc\")","v":false},null,{"$f":"AND('Ref Score sheet'!B82 = \"\",'Ref Score sheet'!C82 = \"fh-e\")","v":false},""]
[null,{"$f":"AND('Ref Score sheet'!B83 = \"h\",'Ref Score sheet'!C83 = \"t\")","v":false},{"$f":"AND('Ref Score sheet'!B83 = \"h\",'Ref Score sheet'!C83 = \"pt\")","v":false},{"$f":"AND('Ref Score sheet'!B83 = \"h\",'Ref Score sheet'!C83 = \"c\")","v":false},{"$f":"AND('Ref Score sheet'!B83 = \"h\",'Ref Score sheet'!C83 = \"p\")","v":false},{"$f":"AND('Ref Score sheet'!B83 = \"h\",'Ref Score sheet'!C83 = \"dg\")","v":false},0,0,0,0,0,0,0,null,null,{"$f":"AND('Ref Score sheet'!B83 = \"h\",'Ref Score sheet'!C83 = \"bl-off\")","v":false},{"$f":"AND('Ref Score sheet'!B83 = \"h\",'Ref Score sheet'!C83 = \"bl-on\")","v":false},{"$f":"AND('Ref Score sheet'!B83 = \"h\",'Ref Score sheet'!C83 = \"blr-off\")","v":false},{"$f":"AND('Ref Score sheet'!B83 = \"h\",'Ref Score sheet'!C83 = \"blr-on\")","v":false},{"$f":"AND('Ref Score sheet'!B83 = \"h\",'Ref Score sheet'!C83 = \"RI-off\")","v":false},{"$f":"AND('Ref Score sheet'!B83 = \"h\",'Ref Score sheet'!C83 = \"RI-on\")","v":false},{"$f":"AND('Ref Score sheet'!B83 = \"h\",'Ref Score sheet'!C83 = \"CON-OFF\")","v":false},{"$f":"AND('Ref Score sheet'!B83 = \"h\",'Ref Score sheet'!C83 = \"CON-ON\")","v":false},{"$f":"AND('Ref Score sheet'!B83 = \"h\",'Ref Score sheet'!C83 = \"RT-on\")","v":false},{"$f":"AND('Ref Score sheet'!B83 = \"h\",'Ref Score sheet'!C83 = \"RT-off\")","v":false},{"$f":"AND('Ref Score sheet'!$B83 = \"h\",'Ref Score sheet'!$C83 = \"rc\")","v":false},{"$f":"AND('Ref Score sheet'!$B83 = \"h\",'Ref Score sheet'!$C83 = \"rcr\")","v":false},{"$f":"AND('Ref Score sheet'!$B83 = \"h\",'Ref Score sheet'!$C83 = \"yc\")","v":false},{"$f":"AND('Ref Score sheet'!$B83 = \"h\",'Ref Score sheet'!$C83 = \"2nd yc\")","v":false},null,{"$f":"AND('Ref Score sheet'!B83 = \"\",'Ref Score sheet'!C83 = \"fh-e\")","v":false},"",null,null,{"$f":"AND('Ref Score sheet'!B83=\"a\",'Ref Score sheet'!C83=\"t\")","v":false},{"$f":"AND('Ref Score sheet'!B83=\"a\",'Ref Score sheet'!C83=\"pt\")","v":false},{"$f":"AND('Ref Score sheet'!B83=\"a\",'Ref Score sheet'!C83=\"c\")","v":false},{"$f":"AND('Ref Score sheet'!B83=\"a\",'Ref Score sheet'!C83=\"p\")","v":false},{"$f":"AND('Ref Score sheet'!B83=\"a\",'Ref Score sheet'!C83=\"dg\")","v":false},0,0,0,0,0,0,0,null,{"$f":"AND('Ref Score sheet'!B83=\"a\",'Ref Score sheet'!C83=\"bl-off\")","v":false},{"$f":"AND('Ref Score sheet'!B83=\"a\",'Ref Score sheet'!C83=\"bl-on\")","v":false},{"$f":"AND('Ref Score sheet'!B83 = \"a\",'Ref Score sheet'!C83 = \"blr-off\")","v":false},{"$f":"AND('Ref Score sheet'!B83 = \"a\",'Ref Score sheet'!C83 = \"blr-on\")","v":false},{"$f":"AND('Ref Score sheet'!B83=\"a\",'Ref Score sheet'!C83=\"RI-off\")","v":false},{"$f":"AND('Ref Score sheet'!B83=\"a\",'Ref Score sheet'!C83=\"RI-on\")","v":false},{"$f":"AND('Ref Score sheet'!B83 = \"a\",'Ref Score sheet'!C83 = \"CON - OFF\")","v":false},{"$f":"AND('Ref Score sheet'!B83 = \"a\",'Ref Score sheet'!C83 = \"CON - ON\")","v":false},{"$f":"AND('Ref Score sheet'!B83=\"a\",'Ref Score sheet'!C83=\"RT-on\")","v":false},{"$f":"AND('Ref Score sheet'!B83=\"a\",'Ref Score sheet'!C83=\"RT-off\")","v":false},{"$f":"AND('Ref Score sheet'!$B83 = \"a\",'Ref Score sheet'!$C83 = \"rc\")","v":false},{"$f":"AND('Ref Score sheet'!$B83 = \"a\",'Ref Score sheet'!$C83 = \"rcr\")","v":false},{"$f":"AND('Ref Score sheet'!$B83 = \"a\",'Ref Score sheet'!$C83 = \"yc\")","v":false},{"$f":"AND('Ref Score sheet'!$B83 = \"a\",'Ref Score sheet'!$C83 = \"2nd yc\")","v":false},null,{"$f":"AND('Ref Score sheet'!B83 = \"\",'Ref Score sheet'!C83 = \"fh-e\")","v":false},""]
[null,{"$f":"AND('Ref Score sheet'!B84 = \"h\",'Ref Score sheet'!C84 = \"t\")","v":false},{"$f":"AND('Ref Score sheet'!B84 = \"h\",'Ref Score sheet'!C84 = \"pt\")","v":false},{"$f":"AND('Ref Score sheet'!B84 = \"h\",'Ref Score sheet'!C84 = \"c\")","v":false},{"$f":"AND('Ref Score sheet'!B84 = \"h\",'Ref Score sheet'!C84 = \"p\")","v":false},{"$f":"AND('Ref Score sheet'!B84 = \"h\",'Ref Score sheet'!C84 = \"dg\")","v":false},0,0,0,0,0,0,0,null,null,{"$f":"AND('Ref Score sheet'!B84 = \"h\",'Ref Score sheet'!C84 = \"bl-off\")","v":false},{"$f":"AND('Ref Score sheet'!B84 = \"h\",'Ref Score sheet'!C84 = \"bl-on\")","v":false},{"$f":"AND('Ref Score sheet'!B84 = \"h\",'Ref Score sheet'!C84 = \"blr-off\")","v":false},{"$f":"AND('Ref Score sheet'!B84 = \"h\",'Ref Score sheet'!C84 = \"blr-on\")","v":false},{"$f":"AND('Ref Score sheet'!B84 = \"h\",'Ref Score sheet'!C84 = \"RI-off\")","v":false},{"$f":"AND('Ref Score sheet'!B84 = \"h\",'Ref Score sheet'!C84 = \"RI-on\")","v":false},{"$f":"AND('Ref Score sheet'!B84 = \"h\",'Ref Score sheet'!C84 = \"CON-OFF\")","v":false},{"$f":"AND('Ref Score sheet'!B84 = \"h\",'Ref Score sheet'!C84 = \"CON-ON\")","v":false},{"$f":"AND('Ref Score sheet'!B84 = \"h\",'Ref Score sheet'!C84 = \"RT-on\")","v":false},{"$f":"AND('Ref Score sheet'!B84 = \"h\",'Ref Score sheet'!C84 = \"RT-off\")","v":false},{"$f":"AND('Ref Score sheet'!$B84 = \"h\",'Ref Score sheet'!$C84 = \"rc\")","v":false},{"$f":"AND('Ref Score sheet'!$B84 = \"h\",'Ref Score sheet'!$C84 = \"rcr\")","v":false},{"$f":"AND('Ref Score sheet'!$B84 = \"h\",'Ref Score sheet'!$C84 = \"yc\")","v":false},{"$f":"AND('Ref Score sheet'!$B84 = \"h\",'Ref Score sheet'!$C84 = \"2nd yc\")","v":false},null,{"$f":"AND('Ref Score sheet'!B84 = \"\",'Ref Score sheet'!C84 = \"fh-e\")","v":false},"",null,null,{"$f":"AND('Ref Score sheet'!B84=\"a\",'Ref Score sheet'!C84=\"t\")","v":false},{"$f":"AND('Ref Score sheet'!B84=\"a\",'Ref Score sheet'!C84=\"pt\")","v":false},{"$f":"AND('Ref Score sheet'!B84=\"a\",'Ref Score sheet'!C84=\"c\")","v":false},{"$f":"AND('Ref Score sheet'!B84=\"a\",'Ref Score sheet'!C84=\"p\")","v":false},{"$f":"AND('Ref Score sheet'!B84=\"a\",'Ref Score sheet'!C84=\"dg\")","v":false},0,0,0,0,0,0,0,null,{"$f":"AND('Ref Score sheet'!B84=\"a\",'Ref Score sheet'!C84=\"bl-off\")","v":false},{"$f":"AND('Ref Score sheet'!B84=\"a\",'Ref Score sheet'!C84=\"bl-on\")","v":false},{"$f":"AND('Ref Score sheet'!B84 = \"a\",'Ref Score sheet'!C84 = \"blr-off\")","v":false},{"$f":"AND('Ref Score sheet'!B84 = \"a\",'Ref Score sheet'!C84 = \"blr-on\")","v":false},{"$f":"AND('Ref Score sheet'!B84=\"a\",'Ref Score sheet'!C84=\"RI-off\")","v":false},{"$f":"AND('Ref Score sheet'!B84=\"a\",'Ref Score sheet'!C84=\"RI-on\")","v":false},{"$f":"AND('Ref Score sheet'!B84 = \"a\",'Ref Score sheet'!C84 = \"CON - OFF\")","v":false},{"$f":"AND('Ref Score sheet'!B84 = \"a\",'Ref Score sheet'!C84 = \"CON - ON\")","v":false},{"$f":"AND('Ref Score sheet'!B84=\"a\",'Ref Score sheet'!C84=\"RT-on\")","v":false},{"$f":"AND('Ref Score sheet'!B84=\"a\",'Ref Score sheet'!C84=\"RT-off\")","v":false},{"$f":"AND('Ref Score sheet'!$B84 = \"a\",'Ref Score sheet'!$C84 = \"rc\")","v":false},{"$f":"AND('Ref Score sheet'!$B84 = \"a\",'Ref Score sheet'!$C84 = \"rcr\")","v":false},{"$f":"AND('Ref Score sheet'!$B84 = \"a\",'Ref Score sheet'!$C84 = \"yc\")","v":false},{"$f":"AND('Ref Score sheet'!$B84 = \"a\",'Ref Score sheet'!$C84 = \"2nd yc\")","v":false},null,{"$f":"AND('Ref Score sheet'!B84 = \"\",'Ref Score sheet'!C84 = \"fh-e\")","v":false},""]
[null,{"$f":"AND('Ref Score sheet'!B85 = \"h\",'Ref Score sheet'!C85 = \"t\")","v":false},{"$f":"AND('Ref Score sheet'!B85 = \"h\",'Ref Score sheet'!C85 = \"pt\")","v":false},{"$f":"AND('Ref Score sheet'!B85 = \"h\",'Ref Score sheet'!C85 = \"c\")","v":false},{"$f":"AND('Ref Score sheet'!B85 = \"h\",'Ref Score sheet'!C85 = \"p\")","v":false},{"$f":"AND('Ref Score sheet'!B85 = \"h\",'Ref Score sheet'!C85 = \"dg\")","v":false},0,0,0,0,0,0,0,null,null,{"$f":"AND('Ref Score sheet'!B85 = \"h\",'Ref Score sheet'!C85 = \"bl-off\")","v":false},{"$f":"AND('Ref Score sheet'!B85 = \"h\",'Ref Score sheet'!C85 = \"bl-on\")","v":false},{"$f":"AND('Ref Score sheet'!B85 = \"h\",'Ref Score sheet'!C85 = \"blr-off\")","v":false},{"$f":"AND('Ref Score sheet'!B85 = \"h\",'Ref Score sheet'!C85 = \"blr-on\")","v":false},{"$f":"AND('Ref Score sheet'!B85 = \"h\",'Ref Score sheet'!C85 = \"RI-off\")","v":false},{"$f":"AND('Ref Score sheet'!B85 = \"h\",'Ref Score sheet'!C85 = \"RI-on\")","v":false},{"$f":"AND('Ref Score sheet'!B85 = \"h\",'Ref Score sheet'!C85 = \"CON-OFF\")","v":false},{"$f":"AND('Ref Score sheet'!B85 = \"h\",'Ref Score sheet'!C85 = \"CON-ON\")","v":false},{"$f":"AND('Ref Score sheet'!B85 = \"h\",'Ref Score sheet'!C85 = \"RT-on\")","v":false},{"$f":"AND('Ref Score sheet'!B85 = \"h\",'Ref Score sheet'!C85 = \"RT-off\")","v":false},{"$f":"AND('Ref Score sheet'!$B85 = \"h\",'Ref Score sheet'!$C85 = \"rc\")","v":false},{"$f":"AND('Ref Score sheet'!$B85 = \"h\",'Ref Score sheet'!$C85 = \"rcr\")","v":false},{"$f":"AND('Ref Score sheet'!$B85 = \"h\",'Ref Score sheet'!$C85 = \"yc\")","v":false},{"$f":"AND('Ref Score sheet'!$B85 = \"h\",'Ref Score sheet'!$C85 = \"2nd yc\")","v":false},null,{"$f":"AND('Ref Score sheet'!B85 = \"\",'Ref Score sheet'!C85 = \"fh-e\")","v":false},"",null,null,{"$f":"AND('Ref Score sheet'!B85=\"a\",'Ref Score sheet'!C85=\"t\")","v":false},{"$f":"AND('Ref Score sheet'!B85=\"a\",'Ref Score sheet'!C85=\"pt\")","v":false},{"$f":"AND('Ref Score sheet'!B85=\"a\",'Ref Score sheet'!C85=\"c\")","v":false},{"$f":"AND('Ref Score sheet'!B85=\"a\",'Ref Score sheet'!C85=\"p\")","v":false},{"$f":"AND('Ref Score sheet'!B85=\"a\",'Ref Score sheet'!C85=\"dg\")","v":false},0,0,0,0,0,0,0,null,{"$f":"AND('Ref Score sheet'!B85=\"a\",'Ref Score sheet'!C85=\"bl-off\")","v":false},{"$f":"AND('Ref Score sheet'!B85=\"a\",'Ref Score sheet'!C85=\"bl-on\")","v":false},{"$f":"AND('Ref Score sheet'!B85 = \"a\",'Ref Score sheet'!C85 = \"blr-off\")","v":false},{"$f":"AND('Ref Score sheet'!B85 = \"a\",'Ref Score sheet'!C85 = \"blr-on\")","v":false},{"$f":"AND('Ref Score sheet'!B85=\"a\",'Ref Score sheet'!C85=\"RI-off\")","v":false},{"$f":"AND('Ref Score sheet'!B85=\"a\",'Ref Score sheet'!C85=\"RI-on\")","v":false},{"$f":"AND('Ref Score sheet'!B85 = \"a\",'Ref Score sheet'!C85 = \"CON - OFF\")","v":false},{"$f":"AND('Ref Score sheet'!B85 = \"a\",'Ref Score sheet'!C85 = \"CON - ON\")","v":false},{"$f":"AND('Ref Score sheet'!B85=\"a\",'Ref Score sheet'!C85=\"RT-on\")","v":false},{"$f":"AND('Ref Score sheet'!B85=\"a\",'Ref Score sheet'!C85=\"RT-off\")","v":false},{"$f":"AND('Ref Score sheet'!$B85 = \"a\",'Ref Score sheet'!$C85 = \"rc\")","v":false},{"$f":"AND('Ref Score sheet'!$B85 = \"a\",'Ref Score sheet'!$C85 = \"rcr\")","v":false},{"$f":"AND('Ref Score sheet'!$B85 = \"a\",'Ref Score sheet'!$C85 = \"yc\")","v":false},{"$f":"AND('Ref Score sheet'!$B85 = \"a\",'Ref Score sheet'!$C85 = \"2nd yc\")","v":false},null,{"$f":"AND('Ref Score sheet'!B85 = \"\",'Ref Score sheet'!C85 = \"fh-e\")","v":false},""]
[null,{"$f":"AND('Ref Score sheet'!B86 = \"h\",'Ref Score sheet'!C86 = \"t\")","v":false},{"$f":"AND('Ref Score sheet'!B86 = \"h\",'Ref Score sheet'!C86 = \"pt\")","v":false},{"$f":"AND('Ref Score sheet'!B86 = \"h\",'Ref Score sheet'!C86 = \"c\")","v":false},{"$f":"AND('Ref Score sheet'!B86 = \"h\",'Ref Score sheet'!C86 = \"p\")","v":false},{"$f":"AND('Ref Score sheet'!B86 = \"h\",'Ref Score sheet'!C86 = \"dg\")","v":false},0,0,0,0,0,0,0,null,null,{"$f":"AND('Ref Score sheet'!B86 = \"h\",'Ref Score sheet'!C86 = \"bl-off\")","v":false},{"$f":"AND('Ref Score sheet'!B86 = \"h\",'Ref Score sheet'!C86 = \"bl-on\")","v":false},{"$f":"AND('Ref Score sheet'!B86 = \"h\",'Ref Score sheet'!C86 = \"blr-off\")","v":false},{"$f":"AND('Ref Score sheet'!B86 = \"h\",'Ref Score sheet'!C86 = \"blr-on\")","v":false},{"$f":"AND('Ref Score sheet'!B86 = \"h\",'Ref Score sheet'!C86 = \"RI-off\")","v":false},{"$f":"AND('Ref Score sheet'!B86 = \"h\",'Ref Score sheet'!C86 = \"RI-on\")","v":false},{"$f":"AND('Ref Score sheet'!B86 = \"h\",'Ref Score sheet'!C86 = \"CON-OFF\")","v":false},{"$f":"AND('Ref Score sheet'!B86 = \"h\",'Ref Score sheet'!C86 = \"CON-ON\")","v":false},{"$f":"AND('Ref Score sheet'!B86 = \"h\",'Ref Score sheet'!C86 = \"RT-on\")","v":false},{"$f":"AND('Ref Score sheet'!B86 = \"h\",'Ref Score sheet'!C86 = \"RT-off\")","v":false},{"$f":"AND('Ref Score sheet'!$B86 = \"h\",'Ref Score sheet'!$C86 = \"rc\")","v":false},{"$f":"AND('Ref Score sheet'!$B86 = \"h\",'Ref Score sheet'!$C86 = \"rcr\")","v":false},{"$f":"AND('Ref Score sheet'!$B86 = \"h\",'Ref Score sheet'!$C86 = \"yc\")","v":false},{"$f":"AND('Ref Score sheet'!$B86 = \"h\",'Ref Score sheet'!$C86 = \"2nd yc\")","v":false},null,{"$f":"AND('Ref Score sheet'!B86 = \"\",'Ref Score sheet'!C86 = \"fh-e\")","v":false},"",null,null,{"$f":"AND('Ref Score sheet'!B86=\"a\",'Ref Score sheet'!C86=\"t\")","v":false},{"$f":"AND('Ref Score sheet'!B86=\"a\",'Ref Score sheet'!C86=\"pt\")","v":false},{"$f":"AND('Ref Score sheet'!B86=\"a\",'Ref Score sheet'!C86=\"c\")","v":false},{"$f":"AND('Ref Score sheet'!B86=\"a\",'Ref Score sheet'!C86=\"p\")","v":false},{"$f":"AND('Ref Score sheet'!B86=\"a\",'Ref Score sheet'!C86=\"dg\")","v":false},0,0,0,0,0,0,0,null,{"$f":"AND('Ref Score sheet'!B86=\"a\",'Ref Score sheet'!C86=\"bl-off\")","v":false},{"$f":"AND('Ref Score sheet'!B86=\"a\",'Ref Score sheet'!C86=\"bl-on\")","v":false},{"$f":"AND('Ref Score sheet'!B86 = \"a\",'Ref Score sheet'!C86 = \"blr-off\")","v":false},{"$f":"AND('Ref Score sheet'!B86 = \"a\",'Ref Score sheet'!C86 = \"blr-on\")","v":false},{"$f":"AND('Ref Score sheet'!B86=\"a\",'Ref Score sheet'!C86=\"RI-off\")","v":false},{"$f":"AND('Ref Score sheet'!B86=\"a\",'Ref Score sheet'!C86=\"RI-on\")","v":false},{"$f":"AND('Ref Score sheet'!B86 = \"a\",'Ref Score sheet'!C86 = \"CON - OFF\")","v":false},{"$f":"AND('Ref Score sheet'!B86 = \"a\",'Ref Score sheet'!C86 = \"CON - ON\")","v":false},{"$f":"AND('Ref Score sheet'!B86=\"a\",'Ref Score sheet'!C86=\"RT-on\")","v":false},{"$f":"AND('Ref Score sheet'!B86=\"a\",'Ref Score sheet'!C86=\"RT-off\")","v":false},{"$f":"AND('Ref Score sheet'!$B86 = \"a\",'Ref Score sheet'!$C86 = \"rc\")","v":false},{"$f":"AND('Ref Score sheet'!$B86 = \"a\",'Ref Score sheet'!$C86 = \"rcr\")","v":false},{"$f":"AND('Ref Score sheet'!$B86 = \"a\",'Ref Score sheet'!$C86 = \"yc\")","v":false},{"$f":"AND('Ref Score sheet'!$B86 = \"a\",'Ref Score sheet'!$C86 = \"2nd yc\")","v":false},null,{"$f":"AND('Ref Score sheet'!B86 = \"\",'Ref Score sheet'!C86 = \"fh-e\")","v":false},""]
[null,{"$f":"AND('Ref Score sheet'!B87 = \"h\",'Ref Score sheet'!C87 = \"t\")","v":false},{"$f":"AND('Ref Score sheet'!B87 = \"h\",'Ref Score sheet'!C87 = \"pt\")","v":false},{"$f":"AND('Ref Score sheet'!B87 = \"h\",'Ref Score sheet'!C87 = \"c\")","v":false},{"$f":"AND('Ref Score sheet'!B87 = \"h\",'Ref Score sheet'!C87 = \"p\")","v":false},{"$f":"AND('Ref Score sheet'!B87 = \"h\",'Ref Score sheet'!C87 = \"dg\")","v":false},0,0,0,0,0,0,0,null,null,{"$f":"AND('Ref Score sheet'!B87 = \"h\",'Ref Score sheet'!C87 = \"bl-off\")","v":false},{"$f":"AND('Ref Score sheet'!B87 = \"h\",'Ref Score sheet'!C87 = \"bl-on\")","v":false},{"$f":"AND('Ref Score sheet'!B87 = \"h\",'Ref Score sheet'!C87 = \"blr-off\")","v":false},{"$f":"AND('Ref Score sheet'!B87 = \"h\",'Ref Score sheet'!C87 = \"blr-on\")","v":false},{"$f":"AND('Ref Score sheet'!B87 = \"h\",'Ref Score sheet'!C87 = \"RI-off\")","v":false},{"$f":"AND('Ref Score sheet'!B87 = \"h\",'Ref Score sheet'!C87 = \"RI-on\")","v":false},{"$f":"AND('Ref Score sheet'!B87 = \"h\",'Ref Score sheet'!C87 = \"CON-OFF\")","v":false},{"$f":"AND('Ref Score sheet'!B87 = \"h\",'Ref Score sheet'!C87 = \"CON-ON\")","v":false},{"$f":"AND('Ref Score sheet'!B87 = \"h\",'Ref Score sheet'!C87 = \"RT-on\")","v":false},{"$f":"AND('Ref Score sheet'!B87 = \"h\",'Ref Score sheet'!C87 = \"RT-off\")","v":false},{"$f":"AND('Ref Score sheet'!$B87 = \"h\",'Ref Score sheet'!$C87 = \"rc\")","v":false},{"$f":"AND('Ref Score sheet'!$B87 = \"h\",'Ref Score sheet'!$C87 = \"rcr\")","v":false},{"$f":"AND('Ref Score sheet'!$B87 = \"h\",'Ref Score sheet'!$C87 = \"yc\")","v":false},{"$f":"AND('Ref Score sheet'!$B87 = \"h\",'Ref Score sheet'!$C87 = \"2nd yc\")","v":false},null,{"$f":"AND('Ref Score sheet'!B87 = \"\",'Ref Score sheet'!C87 = \"fh-e\")","v":false},"",null,null,{"$f":"AND('Ref Score sheet'!B87=\"a\",'Ref Score sheet'!C87=\"t\")","v":false},{"$f":"AND('Ref Score sheet'!B87=\"a\",'Ref Score sheet'!C87=\"pt\")","v":false},{"$f":"AND('Ref Score sheet'!B87=\"a\",'Ref Score sheet'!C87=\"c\")","v":false},{"$f":"AND('Ref Score sheet'!B87=\"a\",'Ref Score sheet'!C87=\"p\")","v":false},{"$f":"AND('Ref Score sheet'!B87=\"a\",'Ref Score sheet'!C87=\"dg\")","v":false},0,0,0,0,0,0,0,null,{"$f":"AND('Ref Score sheet'!B87=\"a\",'Ref Score sheet'!C87=\"bl-off\")","v":false},{"$f":"AND('Ref Score sheet'!B87=\"a\",'Ref Score sheet'!C87=\"bl-on\")","v":false},{"$f":"AND('Ref Score sheet'!B87 = \"a\",'Ref Score sheet'!C87 = \"blr-off\")","v":false},{"$f":"AND('Ref Score sheet'!B87 = \"a\",'Ref Score sheet'!C87 = \"blr-on\")","v":false},{"$f":"AND('Ref Score sheet'!B87=\"a\",'Ref Score sheet'!C87=\"RI-off\")","v":false},{"$f":"AND('Ref Score sheet'!B87=\"a\",'Ref Score sheet'!C87=\"RI-on\")","v":false},{"$f":"AND('Ref Score sheet'!B87 = \"a\",'Ref Score sheet'!C87 = \"CON - OFF\")","v":false},{"$f":"AND('Ref Score sheet'!B87 = \"a\",'Ref Score sheet'!C87 = \"CON - ON\")","v":false},{"$f":"AND('Ref Score sheet'!B87=\"a\",'Ref Score sheet'!C87=\"RT-on\")","v":false},{"$f":"AND('Ref Score sheet'!B87=\"a\",'Ref Score sheet'!C87=\"RT-off\")","v":false},{"$f":"AND('Ref Score sheet'!$B87 = \"a\",'Ref Score sheet'!$C87 = \"rc\")","v":false},{"$f":"AND('Ref Score sheet'!$B87 = \"a\",'Ref Score sheet'!$C87 = \"rcr\")","v":false},{"$f":"AND('Ref Score sheet'!$B87 = \"a\",'Ref Score sheet'!$C87 = \"yc\")","v":false},{"$f":"AND('Ref Score sheet'!$B87 = \"a\",'Ref Score sheet'!$C87 = \"2nd yc\")","v":false},null,{"$f":"AND('Ref Score sheet'!B87 = \"\",'Ref Score sheet'!C87 = \"fh-e\")","v":false},""]
[null,{"$f":"AND('Ref Score sheet'!B88 = \"h\",'Ref Score sheet'!C88 = \"t\")","v":false},{"$f":"AND('Ref Score sheet'!B88 = \"h\",'Ref Score sheet'!C88 = \"pt\")","v":false},{"$f":"AND('Ref Score sheet'!B88 = \"h\",'Ref Score sheet'!C88 = \"c\")","v":false},{"$f":"AND('Ref Score sheet'!B88 = \"h\",'Ref Score sheet'!C88 = \"p\")","v":false},{"$f":"AND('Ref Score sheet'!B88 = \"h\",'Ref Score sheet'!C88 = \"dg\")","v":false},0,0,0,0,0,0,0,null,null,{"$f":"AND('Ref Score sheet'!B88 = \"h\",'Ref Score sheet'!C88 = \"bl-off\")","v":false},{"$f":"AND('Ref Score sheet'!B88 = \"h\",'Ref Score sheet'!C88 = \"bl-on\")","v":false},{"$f":"AND('Ref Score sheet'!B88 = \"h\",'Ref Score sheet'!C88 = \"blr-off\")","v":false},{"$f":"AND('Ref Score sheet'!B88 = \"h\",'Ref Score sheet'!C88 = \"blr-on\")","v":false},{"$f":"AND('Ref Score sheet'!B88 = \"h\",'Ref Score sheet'!C88 = \"RI-off\")","v":false},{"$f":"AND('Ref Score sheet'!B88 = \"h\",'Ref Score sheet'!C88 = \"RI-on\")","v":false},{"$f":"AND('Ref Score sheet'!B88 = \"h\",'Ref Score sheet'!C88 = \"CON-OFF\")","v":false},{"$f":"AND('Ref Score sheet'!B88 = \"h\",'Ref Score sheet'!C88 = \"CON-ON\")","v":false},{"$f":"AND('Ref Score sheet'!B88 = \"h\",'Ref Score sheet'!C88 = \"RT-on\")","v":false},{"$f":"AND('Ref Score sheet'!B88 = \"h\",'Ref Score sheet'!C88 = \"RT-off\")","v":false},{"$f":"AND('Ref Score sheet'!$B88 = \"h\",'Ref Score sheet'!$C88 = \"rc\")","v":false},{"$f":"AND('Ref Score sheet'!$B88 = \"h\",'Ref Score sheet'!$C88 = \"rcr\")","v":false},{"$f":"AND('Ref Score sheet'!$B88 = \"h\",'Ref Score sheet'!$C88 = \"yc\")","v":false},{"$f":"AND('Ref Score sheet'!$B88 = \"h\",'Ref Score sheet'!$C88 = \"2nd yc\")","v":false},null,{"$f":"AND('Ref Score sheet'!B88 = \"\",'Ref Score sheet'!C88 = \"fh-e\")","v":false},"",null,null,{"$f":"AND('Ref Score sheet'!B88=\"a\",'Ref Score sheet'!C88=\"t\")","v":false},{"$f":"AND('Ref Score sheet'!B88=\"a\",'Ref Score sheet'!C88=\"pt\")","v":false},{"$f":"AND('Ref Score sheet'!B88=\"a\",'Ref Score sheet'!C88=\"c\")","v":false},{"$f":"AND('Ref Score sheet'!B88=\"a\",'Ref Score sheet'!C88=\"p\")","v":false},{"$f":"AND('Ref Score sheet'!B88=\"a\",'Ref Score sheet'!C88=\"dg\")","v":false},0,0,0,0,0,0,0,null,{"$f":"AND('Ref Score sheet'!B88=\"a\",'Ref Score sheet'!C88=\"bl-off\")","v":false},{"$f":"AND('Ref Score sheet'!B88=\"a\",'Ref Score sheet'!C88=\"bl-on\")","v":false},{"$f":"AND('Ref Score sheet'!B88 = \"a\",'Ref Score sheet'!C88 = \"blr-off\")","v":false},{"$f":"AND('Ref Score sheet'!B88 = \"a\",'Ref Score sheet'!C88 = \"blr-on\")","v":false},{"$f":"AND('Ref Score sheet'!B88=\"a\",'Ref Score sheet'!C88=\"RI-off\")","v":false},{"$f":"AND('Ref Score sheet'!B88=\"a\",'Ref Score sheet'!C88=\"RI-on\")","v":false},{"$f":"AND('Ref Score sheet'!B88 = \"a\",'Ref Score sheet'!C88 = \"CON - OFF\")","v":false},{"$f":"AND('Ref Score sheet'!B88 = \"a\",'Ref Score sheet'!C88 = \"CON - ON\")","v":false},{"$f":"AND('Ref Score sheet'!B88=\"a\",'Ref Score sheet'!C88=\"RT-on\")","v":false},{"$f":"AND('Ref Score sheet'!B88=\"a\",'Ref Score sheet'!C88=\"RT-off\")","v":false},{"$f":"AND('Ref Score sheet'!$B88 = \"a\",'Ref Score sheet'!$C88 = \"rc\")","v":false},{"$f":"AND('Ref Score sheet'!$B88 = \"a\",'Ref Score sheet'!$C88 = \"rcr\")","v":false},{"$f":"AND('Ref Score sheet'!$B88 = \"a\",'Ref Score sheet'!$C88 = \"yc\")","v":false},{"$f":"AND('Ref Score sheet'!$B88 = \"a\",'Ref Score sheet'!$C88 = \"2nd yc\")","v":false},null,{"$f":"AND('Ref Score sheet'!B88 = \"\",'Ref Score sheet'!C88 = \"fh-e\")","v":false},""]
[null,{"$f":"AND('Ref Score sheet'!B89 = \"h\",'Ref Score sheet'!C89 = \"t\")","v":false},{"$f":"AND('Ref Score sheet'!B89 = \"h\",'Ref Score sheet'!C89 = \"pt\")","v":false},{"$f":"AND('Ref Score sheet'!B89 = \"h\",'Ref Score sheet'!C89 = \"c\")","v":false},{"$f":"AND('Ref Score sheet'!B89 = \"h\",'Ref Score sheet'!C89 = \"p\")","v":false},{"$f":"AND('Ref Score sheet'!B89 = \"h\",'Ref Score sheet'!C89 = \"dg\")","v":false},0,0,0,0,0,0,0,null,null,{"$f":"AND('Ref Score sheet'!B89 = \"h\",'Ref Score sheet'!C89 = \"bl-off\")","v":false},{"$f":"AND('Ref Score sheet'!B89 = \"h\",'Ref Score sheet'!C89 = \"bl-on\")","v":false},{"$f":"AND('Ref Score sheet'!B89 = \"h\",'Ref Score sheet'!C89 = \"blr-off\")","v":false},{"$f":"AND('Ref Score sheet'!B89 = \"h\",'Ref Score sheet'!C89 = \"blr-on\")","v":false},{"$f":"AND('Ref Score sheet'!B89 = \"h\",'Ref Score sheet'!C89 = \"RI-off\")","v":false},{"$f":"AND('Ref Score sheet'!B89 = \"h\",'Ref Score sheet'!C89 = \"RI-on\")","v":false},{"$f":"AND('Ref Score sheet'!B89 = \"h\",'Ref Score sheet'!C89 = \"CON-OFF\")","v":false},{"$f":"AND('Ref Score sheet'!B89 = \"h\",'Ref Score sheet'!C89 = \"CON-ON\")","v":false},{"$f":"AND('Ref Score sheet'!B89 = \"h\",'Ref Score sheet'!C89 = \"RT-on\")","v":false},{"$f":"AND('Ref Score sheet'!B89 = \"h\",'Ref Score sheet'!C89 = \"RT-off\")","v":false},{"$f":"AND('Ref Score sheet'!$B89 = \"h\",'Ref Score sheet'!$C89 = \"rc\")","v":false},{"$f":"AND('Ref Score sheet'!$B89 = \"h\",'Ref Score sheet'!$C89 = \"rcr\")","v":false},{"$f":"AND('Ref Score sheet'!$B89 = \"h\",'Ref Score sheet'!$C89 = \"yc\")","v":false},{"$f":"AND('Ref Score sheet'!$B89 = \"h\",'Ref Score sheet'!$C89 = \"2nd yc\")","v":false},null,{"$f":"AND('Ref Score sheet'!B89 = \"\",'Ref Score sheet'!C89 = \"fh-e\")","v":false},"",null,null,{"$f":"AND('Ref Score sheet'!B89=\"a\",'Ref Score sheet'!C89=\"t\")","v":false},{"$f":"AND('Ref Score sheet'!B89=\"a\",'Ref Score sheet'!C89=\"pt\")","v":false},{"$f":"AND('Ref Score sheet'!B89=\"a\",'Ref Score sheet'!C89=\"c\")","v":false},{"$f":"AND('Ref Score sheet'!B89=\"a\",'Ref Score sheet'!C89=\"p\")","v":false},{"$f":"AND('Ref Score sheet'!B89=\"a\",'Ref Score sheet'!C89=\"dg\")","v":false},0,0,0,0,0,0,0,null,{"$f":"AND('Ref Score sheet'!B89=\"a\",'Ref Score sheet'!C89=\"bl-off\")","v":false},{"$f":"AND('Ref Score sheet'!B89=\"a\",'Ref Score sheet'!C89=\"bl-on\")","v":false},{"$f":"AND('Ref Score sheet'!B89 = \"a\",'Ref Score sheet'!C89 = \"blr-off\")","v":false},{"$f":"AND('Ref Score sheet'!B89 = \"a\",'Ref Score sheet'!C89 = \"blr-on\")","v":false},{"$f":"AND('Ref Score sheet'!B89=\"a\",'Ref Score sheet'!C89=\"RI-off\")","v":false},{"$f":"AND('Ref Score sheet'!B89=\"a\",'Ref Score sheet'!C89=\"RI-on\")","v":false},{"$f":"AND('Ref Score sheet'!B89 = \"a\",'Ref Score sheet'!C89 = \"CON - OFF\")","v":false},{"$f":"AND('Ref Score sheet'!B89 = \"a\",'Ref Score sheet'!C89 = \"CON - ON\")","v":false},{"$f":"AND('Ref Score sheet'!B89=\"a\",'Ref Score sheet'!C89=\"RT-on\")","v":false},{"$f":"AND('Ref Score sheet'!B89=\"a\",'Ref Score sheet'!C89=\"RT-off\")","v":false},{"$f":"AND('Ref Score sheet'!$B89 = \"a\",'Ref Score sheet'!$C89 = \"rc\")","v":false},{"$f":"AND('Ref Score sheet'!$B89 = \"a\",'Ref Score sheet'!$C89 = \"rcr\")","v":false},{"$f":"AND('Ref Score sheet'!$B89 = \"a\",'Ref Score sheet'!$C89 = \"yc\")","v":false},{"$f":"AND('Ref Score sheet'!$B89 = \"a\",'Ref Score sheet'!$C89 = \"2nd yc\")","v":false},null,{"$f":"AND('Ref Score sheet'!B89 = \"\",'Ref Score sheet'!C89 = \"fh-e\")","v":false},""]
[null,{"$f":"AND('Ref Score sheet'!B90 = \"h\",'Ref Score sheet'!C90 = \"t\")","v":false},{"$f":"AND('Ref Score sheet'!B90 = \"h\",'Ref Score sheet'!C90 = \"pt\")","v":false},{"$f":"AND('Ref Score sheet'!B90 = \"h\",'Ref Score sheet'!C90 = \"c\")","v":false},{"$f":"AND('Ref Score sheet'!B90 = \"h\",'Ref Score sheet'!C90 = \"p\")","v":false},{"$f":"AND('Ref Score sheet'!B90 = \"h\",'Ref Score sheet'!C90 = \"dg\")","v":false},0,0,0,0,0,0,0,null,null,{"$f":"AND('Ref Score sheet'!B90 = \"h\",'Ref Score sheet'!C90 = \"bl-off\")","v":false},{"$f":"AND('Ref Score sheet'!B90 = \"h\",'Ref Score sheet'!C90 = \"bl-on\")","v":false},{"$f":"AND('Ref Score sheet'!B90 = \"h\",'Ref Score sheet'!C90 = \"blr-off\")","v":false},{"$f":"AND('Ref Score sheet'!B90 = \"h\",'Ref Score sheet'!C90 = \"blr-on\")","v":false},{"$f":"AND('Ref Score sheet'!B90 = \"h\",'Ref Score sheet'!C90 = \"RI-off\")","v":false},{"$f":"AND('Ref Score sheet'!B90 = \"h\",'Ref Score sheet'!C90 = \"RI-on\")","v":false},{"$f":"AND('Ref Score sheet'!B90 = \"h\",'Ref Score sheet'!C90 = \"CON-OFF\")","v":false},{"$f":"AND('Ref Score sheet'!B90 = \"h\",'Ref Score sheet'!C90 = \"CON-ON\")","v":false},{"$f":"AND('Ref Score sheet'!B90 = \"h\",'Ref Score sheet'!C90 = \"RT-on\")","v":false},{"$f":"AND('Ref Score sheet'!B90 = \"h\",'Ref Score sheet'!C90 = \"RT-off\")","v":false},{"$f":"AND('Ref Score sheet'!$B90 = \"h\",'Ref Score sheet'!$C90 = \"rc\")","v":false},{"$f":"AND('Ref Score sheet'!$B90 = \"h\",'Ref Score sheet'!$C90 = \"rcr\")","v":false},{"$f":"AND('Ref Score sheet'!$B90 = \"h\",'Ref Score sheet'!$C90 = \"yc\")","v":false},{"$f":"AND('Ref Score sheet'!$B90 = \"h\",'Ref Score sheet'!$C90 = \"2nd yc\")","v":false},null,{"$f":"AND('Ref Score sheet'!B90 = \"\",'Ref Score sheet'!C90 = \"fh-e\")","v":false},"",null,null,{"$f":"AND('Ref Score sheet'!B90=\"a\",'Ref Score sheet'!C90=\"t\")","v":false},{"$f":"AND('Ref Score sheet'!B90=\"a\",'Ref Score sheet'!C90=\"pt\")","v":false},{"$f":"AND('Ref Score sheet'!B90=\"a\",'Ref Score sheet'!C90=\"c\")","v":false},{"$f":"AND('Ref Score sheet'!B90=\"a\",'Ref Score sheet'!C90=\"p\")","v":false},{"$f":"AND('Ref Score sheet'!B90=\"a\",'Ref Score sheet'!C90=\"dg\")","v":false},0,0,0,0,0,0,0,null,{"$f":"AND('Ref Score sheet'!B90=\"a\",'Ref Score sheet'!C90=\"bl-off\")","v":false},{"$f":"AND('Ref Score sheet'!B90=\"a\",'Ref Score sheet'!C90=\"bl-on\")","v":false},{"$f":"AND('Ref Score sheet'!B90 = \"a\",'Ref Score sheet'!C90 = \"blr-off\")","v":false},{"$f":"AND('Ref Score sheet'!B90 = \"a\",'Ref Score sheet'!C90 = \"blr-on\")","v":false},{"$f":"AND('Ref Score sheet'!B90=\"a\",'Ref Score sheet'!C90=\"RI-off\")","v":false},{"$f":"AND('Ref Score sheet'!B90=\"a\",'Ref Score sheet'!C90=\"RI-on\")","v":false},{"$f":"AND('Ref Score sheet'!B90 = \"a\",'Ref Score sheet'!C90 = \"CON - OFF\")","v":false},{"$f":"AND('Ref Score sheet'!B90 = \"a\",'Ref Score sheet'!C90 = \"CON - ON\")","v":false},{"$f":"AND('Ref Score sheet'!B90=\"a\",'Ref Score sheet'!C90=\"RT-on\")","v":false},{"$f":"AND('Ref Score sheet'!B90=\"a\",'Ref Score sheet'!C90=\"RT-off\")","v":false},{"$f":"AND('Ref Score sheet'!$B90 = \"a\",'Ref Score sheet'!$C90 = \"rc\")","v":false},{"$f":"AND('Ref Score sheet'!$B90 = \"a\",'Ref Score sheet'!$C90 = \"rcr\")","v":false},{"$f":"AND('Ref Score sheet'!$B90 = \"a\",'Ref Score sheet'!$C90 = \"yc\")","v":false},{"$f":"AND('Ref Score sheet'!$B90 = \"a\",'Ref Score sheet'!$C90 = \"2nd yc\")","v":false},null,{"$f":"AND('Ref Score sheet'!B90 = \"\",'Ref Score sheet'!C90 = \"fh-e\")","v":false},""]
[null,{"$f":"AND('Ref Score sheet'!B91 = \"h\",'Ref Score sheet'!C91 = \"t\")","v":false},{"$f":"AND('Ref Score sheet'!B91 = \"h\",'Ref Score sheet'!C91 = \"pt\")","v":false},{"$f":"AND('Ref Score sheet'!B91 = \"h\",'Ref Score sheet'!C91 = \"c\")","v":false},{"$f":"AND('Ref Score sheet'!B91 = \"h\",'Ref Score sheet'!C91 = \"p\")","v":false},{"$f":"AND('Ref Score sheet'!B91 = \"h\",'Ref Score sheet'!C91 = \"dg\")","v":false},0,0,0,0,0,0,0,null,null,{"$f":"AND('Ref Score sheet'!B91 = \"h\",'Ref Score sheet'!C91 = \"bl-off\")","v":false},{"$f":"AND('Ref Score sheet'!B91 = \"h\",'Ref Score sheet'!C91 = \"bl-on\")","v":false},{"$f":"AND('Ref Score sheet'!B91 = \"h\",'Ref Score sheet'!C91 = \"blr-off\")","v":false},{"$f":"AND('Ref Score sheet'!B91 = \"h\",'Ref Score sheet'!C91 = \"blr-on\")","v":false},{"$f":"AND('Ref Score sheet'!B91 = \"h\",'Ref Score sheet'!C91 = \"RI-off\")","v":false},{"$f":"AND('Ref Score sheet'!B91 = \"h\",'Ref Score sheet'!C91 = \"RI-on\")","v":false},{"$f":"AND('Ref Score sheet'!B91 = \"h\",'Ref Score sheet'!C91 = \"CON-OFF\")","v":false},{"$f":"AND('Ref Score sheet'!B91 = \"h\",'Ref Score sheet'!C91 = \"CON-ON\")","v":false},{"$f":"AND('Ref Score sheet'!B91 = \"h\",'Ref Score sheet'!C91 = \"RT-on\")","v":false},{"$f":"AND('Ref Score sheet'!B91 = \"h\",'Ref Score sheet'!C91 = \"RT-off\")","v":false},{"$f":"AND('Ref Score sheet'!$B91 = \"h\",'Ref Score sheet'!$C91 = \"rc\")","v":false},{"$f":"AND('Ref Score sheet'!$B91 = \"h\",'Ref Score sheet'!$C91 = \"rcr\")","v":false},{"$f":"AND('Ref Score sheet'!$B91 = \"h\",'Ref Score sheet'!$C91 = \"yc\")","v":false},{"$f":"AND('Ref Score sheet'!$B91 = \"h\",'Ref Score sheet'!$C91 = \"2nd yc\")","v":false},null,{"$f":"AND('Ref Score sheet'!B91 = \"\",'Ref Score sheet'!C91 = \"fh-e\")","v":false},"",null,null,{"$f":"AND('Ref Score sheet'!B91=\"a\",'Ref Score sheet'!C91=\"t\")","v":false},{"$f":"AND('Ref Score sheet'!B91=\"a\",'Ref Score sheet'!C91=\"pt\")","v":false},{"$f":"AND('Ref Score sheet'!B91=\"a\",'Ref Score sheet'!C91=\"c\")","v":false},{"$f":"AND('Ref Score sheet'!B91=\"a\",'Ref Score sheet'!C91=\"p\")","v":false},{"$f":"AND('Ref Score sheet'!B91=\"a\",'Ref Score sheet'!C91=\"dg\")","v":false},0,0,0,0,0,0,0,null,{"$f":"AND('Ref Score sheet'!B91=\"a\",'Ref Score sheet'!C91=\"bl-off\")","v":false},{"$f":"AND('Ref Score sheet'!B91=\"a\",'Ref Score sheet'!C91=\"bl-on\")","v":false},{"$f":"AND('Ref Score sheet'!B91 = \"a\",'Ref Score sheet'!C91 = \"blr-off\")","v":false},{"$f":"AND('Ref Score sheet'!B91 = \"a\",'Ref Score sheet'!C91 = \"blr-on\")","v":false},{"$f":"AND('Ref Score sheet'!B91=\"a\",'Ref Score sheet'!C91=\"RI-off\")","v":false},{"$f":"AND('Ref Score sheet'!B91=\"a\",'Ref Score sheet'!C91=\"RI-on\")","v":false},{"$f":"AND('Ref Score sheet'!B91 = \"a\",'Ref Score sheet'!C91 = \"CON - OFF\")","v":false},{"$f":"AND('Ref Score sheet'!B91 = \"a\",'Ref Score sheet'!C91 = \"CON - ON\")","v":false},{"$f":"AND('Ref Score sheet'!B91=\"a\",'Ref Score sheet'!C91=\"RT-on\")","v":false},{"$f":"AND('Ref Score sheet'!B91=\"a\",'Ref Score sheet'!C91=\"RT-off\")","v":false},{"$f":"AND('Ref Score sheet'!$B91 = \"a\",'Ref Score sheet'!$C91 = \"rc\")","v":false},{"$f":"AND('Ref Score sheet'!$B91 = \"a\",'Ref Score sheet'!$C91 = \"rcr\")","v":false},{"$f":"AND('Ref Score sheet'!$B91 = \"a\",'Ref Score sheet'!$C91 = \"yc\")","v":false},{"$f":"AND('Ref Score sheet'!$B91 = \"a\",'Ref Score sheet'!$C91 = \"2nd yc\")","v":false},null,{"$f":"AND('Ref Score sheet'!B91 = \"\",'Ref Score sheet'!C91 = \"fh-e\")","v":false},""]
[null,{"$f":"AND('Ref Score sheet'!B92 = \"h\",'Ref Score sheet'!C92 = \"t\")","v":false},{"$f":"AND('Ref Score sheet'!B92 = \"h\",'Ref Score sheet'!C92 = \"pt\")","v":false},{"$f":"AND('Ref Score sheet'!B92 = \"h\",'Ref Score sheet'!C92 = \"c\")","v":false},{"$f":"AND('Ref Score sheet'!B92 = \"h\",'Ref Score sheet'!C92 = \"p\")","v":false},{"$f":"AND('Ref Score sheet'!B92 = \"h\",'Ref Score sheet'!C92 = \"dg\")","v":false},0,0,0,0,0,0,0,null,null,{"$f":"AND('Ref Score sheet'!B92 = \"h\",'Ref Score sheet'!C92 = \"bl-off\")","v":false},{"$f":"AND('Ref Score sheet'!B92 = \"h\",'Ref Score sheet'!C92 = \"bl-on\")","v":false},{"$f":"AND('Ref Score sheet'!B92 = \"h\",'Ref Score sheet'!C92 = \"blr-off\")","v":false},{"$f":"AND('Ref Score sheet'!B92 = \"h\",'Ref Score sheet'!C92 = \"blr-on\")","v":false},{"$f":"AND('Ref Score sheet'!B92 = \"h\",'Ref Score sheet'!C92 = \"RI-off\")","v":false},{"$f":"AND('Ref Score sheet'!B92 = \"h\",'Ref Score sheet'!C92 = \"RI-on\")","v":false},{"$f":"AND('Ref Score sheet'!B92 = \"h\",'Ref Score sheet'!C92 = \"CON-OFF\")","v":false},{"$f":"AND('Ref Score sheet'!B92 = \"h\",'Ref Score sheet'!C92 = \"CON-ON\")","v":false},{"$f":"AND('Ref Score sheet'!B92 = \"h\",'Ref Score sheet'!C92 = \"RT-on\")","v":false},{"$f":"AND('Ref Score sheet'!B92 = \"h\",'Ref Score sheet'!C92 = \"RT-off\")","v":false},{"$f":"AND('Ref Score sheet'!$B92 = \"h\",'Ref Score sheet'!$C92 = \"rc\")","v":false},{"$f":"AND('Ref Score sheet'!$B92 = \"h\",'Ref Score sheet'!$C92 = \"rcr\")","v":false},{"$f":"AND('Ref Score sheet'!$B92 = \"h\",'Ref Score sheet'!$C92 = \"yc\")","v":false},{"$f":"AND('Ref Score sheet'!$B92 = \"h\",'Ref Score sheet'!$C92 = \"2nd yc\")","v":false},null,{"$f":"AND('Ref Score sheet'!B92 = \"\",'Ref Score sheet'!C92 = \"fh-e\")","v":false},"",null,null,{"$f":"AND('Ref Score sheet'!B92=\"a\",'Ref Score sheet'!C92=\"t\")","v":false},{"$f":"AND('Ref Score sheet'!B92=\"a\",'Ref Score sheet'!C92=\"pt\")","v":false},{"$f":"AND('Ref Score sheet'!B92=\"a\",'Ref Score sheet'!C92=\"c\")","v":false},{"$f":"AND('Ref Score sheet'!B92=\"a\",'Ref Score sheet'!C92=\"p\")","v":false},{"$f":"AND('Ref Score sheet'!B92=\"a\",'Ref Score sheet'!C92=\"dg\")","v":false},0,0,0,0,0,0,0,null,{"$f":"AND('Ref Score sheet'!B92=\"a\",'Ref Score sheet'!C92=\"bl-off\")","v":false},{"$f":"AND('Ref Score sheet'!B92=\"a\",'Ref Score sheet'!C92=\"bl-on\")","v":false},{"$f":"AND('Ref Score sheet'!B92 = \"a\",'Ref Score sheet'!C92 = \"blr-off\")","v":false},{"$f":"AND('Ref Score sheet'!B92 = \"a\",'Ref Score sheet'!C92 = \"blr-on\")","v":false},{"$f":"AND('Ref Score sheet'!B92=\"a\",'Ref Score sheet'!C92=\"RI-off\")","v":false},{"$f":"AND('Ref Score sheet'!B92=\"a\",'Ref Score sheet'!C92=\"RI-on\")","v":false},{"$f":"AND('Ref Score sheet'!B92 = \"a\",'Ref Score sheet'!C92 = \"CON - OFF\")","v":false},{"$f":"AND('Ref Score sheet'!B92 = \"a\",'Ref Score sheet'!C92 = \"CON - ON\")","v":false},{"$f":"AND('Ref Score sheet'!B92=\"a\",'Ref Score sheet'!C92=\"RT-on\")","v":false},{"$f":"AND('Ref Score sheet'!B92=\"a\",'Ref Score sheet'!C92=\"RT-off\")","v":false},{"$f":"AND('Ref Score sheet'!$B92 = \"a\",'Ref Score sheet'!$C92 = \"rc\")","v":false},{"$f":"AND('Ref Score sheet'!$B92 = \"a\",'Ref Score sheet'!$C92 = \"rcr\")","v":false},{"$f":"AND('Ref Score sheet'!$B92 = \"a\",'Ref Score sheet'!$C92 = \"yc\")","v":false},{"$f":"AND('Ref Score sheet'!$B92 = \"a\",'Ref Score sheet'!$C92 = \"2nd yc\")","v":false},null,{"$f":"AND('Ref Score sheet'!B92 = \"\",'Ref Score sheet'!C92 = \"fh-e\")","v":false},""]
[null,{"$f":"AND('Ref Score sheet'!B93 = \"h\",'Ref Score sheet'!C93 = \"t\")","v":false},{"$f":"AND('Ref Score sheet'!B93 = \"h\",'Ref Score sheet'!C93 = \"pt\")","v":false},{"$f":"AND('Ref Score sheet'!B93 = \"h\",'Ref Score sheet'!C93 = \"c\")","v":false},{"$f":"AND('Ref Score sheet'!B93 = \"h\",'Ref Score sheet'!C93 = \"p\")","v":false},{"$f":"AND('Ref Score sheet'!B93 = \"h\",'Ref Score sheet'!C93 = \"dg\")","v":false},0,0,0,0,0,0,0,null,null,{"$f":"AND('Ref Score sheet'!B93 = \"h\",'Ref Score sheet'!C93 = \"bl-off\")","v":false},{"$f":"AND('Ref Score sheet'!B93 = \"h\",'Ref Score sheet'!C93 = \"bl-on\")","v":false},{"$f":"AND('Ref Score sheet'!B93 = \"h\",'Ref Score sheet'!C93 = \"blr-off\")","v":false},{"$f":"AND('Ref Score sheet'!B93 = \"h\",'Ref Score sheet'!C93 = \"blr-on\")","v":false},{"$f":"AND('Ref Score sheet'!B93 = \"h\",'Ref Score sheet'!C93 = \"RI-off\")","v":false},{"$f":"AND('Ref Score sheet'!B93 = \"h\",'Ref Score sheet'!C93 = \"RI-on\")","v":false},{"$f":"AND('Ref Score sheet'!B93 = \"h\",'Ref Score sheet'!C93 = \"CON-OFF\")","v":false},{"$f":"AND('Ref Score sheet'!B93 = \"h\",'Ref Score sheet'!C93 = \"CON-ON\")","v":false},{"$f":"AND('Ref Score sheet'!B93 = \"h\",'Ref Score sheet'!C93 = \"RT-on\")","v":false},{"$f":"AND('Ref Score sheet'!B93 = \"h\",'Ref Score sheet'!C93 = \"RT-off\")","v":false},{"$f":"AND('Ref Score sheet'!$B93 = \"h\",'Ref Score sheet'!$C93 = \"rc\")","v":false},{"$f":"AND('Ref Score sheet'!$B93 = \"h\",'Ref Score sheet'!$C93 = \"rcr\")","v":false},{"$f":"AND('Ref Score sheet'!$B93 = \"h\",'Ref Score sheet'!$C93 = \"yc\")","v":false},{"$f":"AND('Ref Score sheet'!$B93 = \"h\",'Ref Score sheet'!$C93 = \"2nd yc\")","v":false},null,{"$f":"AND('Ref Score sheet'!B93 = \"\",'Ref Score sheet'!C93 = \"fh-e\")","v":false},"",null,null,{"$f":"AND('Ref Score sheet'!B93=\"a\",'Ref Score sheet'!C93=\"t\")","v":false},{"$f":"AND('Ref Score sheet'!B93=\"a\",'Ref Score sheet'!C93=\"pt\")","v":false},{"$f":"AND('Ref Score sheet'!B93=\"a\",'Ref Score sheet'!C93=\"c\")","v":false},{"$f":"AND('Ref Score sheet'!B93=\"a\",'Ref Score sheet'!C93=\"p\")","v":false},{"$f":"AND('Ref Score sheet'!B93=\"a\",'Ref Score sheet'!C93=\"dg\")","v":false},0,0,0,0,0,0,0,null,{"$f":"AND('Ref Score sheet'!B93=\"a\",'Ref Score sheet'!C93=\"bl-off\")","v":false},{"$f":"AND('Ref Score sheet'!B93=\"a\",'Ref Score sheet'!C93=\"bl-on\")","v":false},{"$f":"AND('Ref Score sheet'!B93 = \"a\",'Ref Score sheet'!C93 = \"blr-off\")","v":false},{"$f":"AND('Ref Score sheet'!B93 = \"a\",'Ref Score sheet'!C93 = \"blr-on\")","v":false},{"$f":"AND('Ref Score sheet'!B93=\"a\",'Ref Score sheet'!C93=\"RI-off\")","v":false},{"$f":"AND('Ref Score sheet'!B93=\"a\",'Ref Score sheet'!C93=\"RI-on\")","v":false},{"$f":"AND('Ref Score sheet'!B93 = \"a\",'Ref Score sheet'!C93 = \"CON - OFF\")","v":false},{"$f":"AND('Ref Score sheet'!B93 = \"a\",'Ref Score sheet'!C93 = \"CON - ON\")","v":false},{"$f":"AND('Ref Score sheet'!B93=\"a\",'Ref Score sheet'!C93=\"RT-on\")","v":false},{"$f":"AND('Ref Score sheet'!B93=\"a\",'Ref Score sheet'!C93=\"RT-off\")","v":false},{"$f":"AND('Ref Score sheet'!$B93 = \"a\",'Ref Score sheet'!$C93 = \"rc\")","v":false},{"$f":"AND('Ref Score sheet'!$B93 = \"a\",'Ref Score sheet'!$C93 = \"rcr\")","v":false},{"$f":"AND('Ref Score sheet'!$B93 = \"a\",'Ref Score sheet'!$C93 = \"yc\")","v":false},{"$f":"AND('Ref Score sheet'!$B93 = \"a\",'Ref Score sheet'!$C93 = \"2nd yc\")","v":false},null,{"$f":"AND('Ref Score sheet'!B93 = \"\",'Ref Score sheet'!C93 = \"fh-e\")","v":false},""]
[null,{"$f":"AND('Ref Score sheet'!B94 = \"h\",'Ref Score sheet'!C94 = \"t\")","v":false},{"$f":"AND('Ref Score sheet'!B94 = \"h\",'Ref Score sheet'!C94 = \"pt\")","v":false},{"$f":"AND('Ref Score sheet'!B94 = \"h\",'Ref Score sheet'!C94 = \"c\")","v":false},{"$f":"AND('Ref Score sheet'!B94 = \"h\",'Ref Score sheet'!C94 = \"p\")","v":false},{"$f":"AND('Ref Score sheet'!B94 = \"h\",'Ref Score sheet'!C94 = \"dg\")","v":false},0,0,0,0,0,0,0,null,null,{"$f":"AND('Ref Score sheet'!B94 = \"h\",'Ref Score sheet'!C94 = \"bl-off\")","v":false},{"$f":"AND('Ref Score sheet'!B94 = \"h\",'Ref Score sheet'!C94 = \"bl-on\")","v":false},{"$f":"AND('Ref Score sheet'!B94 = \"h\",'Ref Score sheet'!C94 = \"blr-off\")","v":false},{"$f":"AND('Ref Score sheet'!B94 = \"h\",'Ref Score sheet'!C94 = \"blr-on\")","v":false},{"$f":"AND('Ref Score sheet'!B94 = \"h\",'Ref Score sheet'!C94 = \"RI-off\")","v":false},{"$f":"AND('Ref Score sheet'!B94 = \"h\",'Ref Score sheet'!C94 = \"RI-on\")","v":false},{"$f":"AND('Ref Score sheet'!B94 = \"h\",'Ref Score sheet'!C94 = \"CON-OFF\")","v":false},{"$f":"AND('Ref Score sheet'!B94 = \"h\",'Ref Score sheet'!C94 = \"CON-ON\")","v":false},{"$f":"AND('Ref Score sheet'!B94 = \"h\",'Ref Score sheet'!C94 = \"RT-on\")","v":false},{"$f":"AND('Ref Score sheet'!B94 = \"h\",'Ref Score sheet'!C94 = \"RT-off\")","v":false},{"$f":"AND('Ref Score sheet'!$B94 = \"h\",'Ref Score sheet'!$C94 = \"rc\")","v":false},{"$f":"AND('Ref Score sheet'!$B94 = \"h\",'Ref Score sheet'!$C94 = \"rcr\")","v":false},{"$f":"AND('Ref Score sheet'!$B94 = \"h\",'Ref Score sheet'!$C94 = \"yc\")","v":false},{"$f":"AND('Ref Score sheet'!$B94 = \"h\",'Ref Score sheet'!$C94 = \"2nd yc\")","v":false},null,{"$f":"AND('Ref Score sheet'!B94 = \"\",'Ref Score sheet'!C94 = \"fh-e\")","v":false},"",null,null,{"$f":"AND('Ref Score sheet'!B94=\"a\",'Ref Score sheet'!C94=\"t\")","v":false},{"$f":"AND('Ref Score sheet'!B94=\"a\",'Ref Score sheet'!C94=\"pt\")","v":false},{"$f":"AND('Ref Score sheet'!B94=\"a\",'Ref Score sheet'!C94=\"c\")","v":false},{"$f":"AND('Ref Score sheet'!B94=\"a\",'Ref Score sheet'!C94=\"p\")","v":false},{"$f":"AND('Ref Score sheet'!B94=\"a\",'Ref Score sheet'!C94=\"dg\")","v":false},0,0,0,0,0,0,0,null,{"$f":"AND('Ref Score sheet'!B94=\"a\",'Ref Score sheet'!C94=\"bl-off\")","v":false},{"$f":"AND('Ref Score sheet'!B94=\"a\",'Ref Score sheet'!C94=\"bl-on\")","v":false},{"$f":"AND('Ref Score sheet'!B94 = \"a\",'Ref Score sheet'!C94 = \"blr-off\")","v":false},{"$f":"AND('Ref Score sheet'!B94 = \"a\",'Ref Score sheet'!C94 = \"blr-on\")","v":false},{"$f":"AND('Ref Score sheet'!B94=\"a\",'Ref Score sheet'!C94=\"RI-off\")","v":false},{"$f":"AND('Ref Score sheet'!B94=\"a\",'Ref Score sheet'!C94=\"RI-on\")","v":false},{"$f":"AND('Ref Score sheet'!B94 = \"a\",'Ref Score sheet'!C94 = \"CON - OFF\")","v":false},{"$f":"AND('Ref Score sheet'!B94 = \"a\",'Ref Score sheet'!C94 = \"CON - ON\")","v":false},{"$f":"AND('Ref Score sheet'!B94=\"a\",'Ref Score sheet'!C94=\"RT-on\")","v":false},{"$f":"AND('Ref Score sheet'!B94=\"a\",'Ref Score sheet'!C94=\"RT-off\")","v":false},{"$f":"AND('Ref Score sheet'!$B94 = \"a\",'Ref Score sheet'!$C94 = \"rc\")","v":false},{"$f":"AND('Ref Score sheet'!$B94 = \"a\",'Ref Score sheet'!$C94 = \"rcr\")","v":false},{"$f":"AND('Ref Score sheet'!$B94 = \"a\",'Ref Score sheet'!$C94 = \"yc\")","v":false},{"$f":"AND('Ref Score sheet'!$B94 = \"a\",'Ref Score sheet'!$C94 = \"2nd yc\")","v":false},null,{"$f":"AND('Ref Score sheet'!B94 = \"\",'Ref Score sheet'!C94 = \"fh-e\")","v":false},""]
[null,{"$f":"AND('Ref Score sheet'!B95 = \"h\",'Ref Score sheet'!C95 = \"t\")","v":false},{"$f":"AND('Ref Score sheet'!B95 = \"h\",'Ref Score sheet'!C95 = \"pt\")","v":false},{"$f":"AND('Ref Score sheet'!B95 = \"h\",'Ref Score sheet'!C95 = \"c\")","v":false},{"$f":"AND('Ref Score sheet'!B95 = \"h\",'Ref Score sheet'!C95 = \"p\")","v":false},{"$f":"AND('Ref Score sheet'!B95 = \"h\",'Ref Score sheet'!C95 = \"dg\")","v":false},0,0,0,0,0,0,0,null,null,{"$f":"AND('Ref Score sheet'!B95 = \"h\",'Ref Score sheet'!C95 = \"bl-off\")","v":false},{"$f":"AND('Ref Score sheet'!B95 = \"h\",'Ref Score sheet'!C95 = \"bl-on\")","v":false},{"$f":"AND('Ref Score sheet'!B95 = \"h\",'Ref Score sheet'!C95 = \"blr-off\")","v":false},{"$f":"AND('Ref Score sheet'!B95 = \"h\",'Ref Score sheet'!C95 = \"blr-on\")","v":false},{"$f":"AND('Ref Score sheet'!B95 = \"h\",'Ref Score sheet'!C95 = \"RI-off\")","v":false},{"$f":"AND('Ref Score sheet'!B95 = \"h\",'Ref Score sheet'!C95 = \"RI-on\")","v":false},{"$f":"AND('Ref Score sheet'!B95 = \"h\",'Ref Score sheet'!C95 = \"CON-OFF\")","v":false},{"$f":"AND('Ref Score sheet'!B95 = \"h\",'Ref Score sheet'!C95 = \"CON-ON\")","v":false},{"$f":"AND('Ref Score sheet'!B95 = \"h\",'Ref Score sheet'!C95 = \"RT-on\")","v":false},{"$f":"AND('Ref Score sheet'!B95 = \"h\",'Ref Score sheet'!C95 = \"RT-off\")","v":false},{"$f":"AND('Ref Score sheet'!$B95 = \"h\",'Ref Score sheet'!$C95 = \"rc\")","v":false},{"$f":"AND('Ref Score sheet'!$B95 = \"h\",'Ref Score sheet'!$C95 = \"rcr\")","v":false},{"$f":"AND('Ref Score sheet'!$B95 = \"h\",'Ref Score sheet'!$C95 = \"yc\")","v":false},{"$f":"AND('Ref Score sheet'!$B95 = \"h\",'Ref Score sheet'!$C95 = \"2nd yc\")","v":false},null,{"$f":"AND('Ref Score sheet'!B95 = \"\",'Ref Score sheet'!C95 = \"fh-e\")","v":false},"",null,null,{"$f":"AND('Ref Score sheet'!B95=\"a\",'Ref Score sheet'!C95=\"t\")","v":false},{"$f":"AND('Ref Score sheet'!B95=\"a\",'Ref Score sheet'!C95=\"pt\")","v":false},{"$f":"AND('Ref Score sheet'!B95=\"a\",'Ref Score sheet'!C95=\"c\")","v":false},{"$f":"AND('Ref Score sheet'!B95=\"a\",'Ref Score sheet'!C95=\"p\")","v":false},{"$f":"AND('Ref Score sheet'!B95=\"a\",'Ref Score sheet'!C95=\"dg\")","v":false},0,0,0,0,0,0,0,null,{"$f":"AND('Ref Score sheet'!B95=\"a\",'Ref Score sheet'!C95=\"bl-off\")","v":false},{"$f":"AND('Ref Score sheet'!B95=\"a\",'Ref Score sheet'!C95=\"bl-on\")","v":false},{"$f":"AND('Ref Score sheet'!B95 = \"a\",'Ref Score sheet'!C95 = \"blr-off\")","v":false},{"$f":"AND('Ref Score sheet'!B95 = \"a\",'Ref Score sheet'!C95 = \"blr-on\")","v":false},{"$f":"AND('Ref Score sheet'!B95=\"a\",'Ref Score sheet'!C95=\"RI-off\")","v":false},{"$f":"AND('Ref Score sheet'!B95=\"a\",'Ref Score sheet'!C95=\"RI-on\")","v":false},{"$f":"AND('Ref Score sheet'!B95 = \"a\",'Ref Score sheet'!C95 = \"CON - OFF\")","v":false},{"$f":"AND('Ref Score sheet'!B95 = \"a\",'Ref Score sheet'!C95 = \"CON - ON\")","v":false},{"$f":"AND('Ref Score sheet'!B95=\"a\",'Ref Score sheet'!C95=\"RT-on\")","v":false},{"$f":"AND('Ref Score sheet'!B95=\"a\",'Ref Score sheet'!C95=\"RT-off\")","v":false},{"$f":"AND('Ref Score sheet'!$B95 = \"a\",'Ref Score sheet'!$C95 = \"rc\")","v":false},{"$f":"AND('Ref Score sheet'!$B95 = \"a\",'Ref Score sheet'!$C95 = \"rcr\")","v":false},{"$f":"AND('Ref Score sheet'!$B95 = \"a\",'Ref Score sheet'!$C95 = \"yc\")","v":false},{"$f":"AND('Ref Score sheet'!$B95 = \"a\",'Ref Score sheet'!$C95 = \"2nd yc\")","v":false},null,{"$f":"AND('Ref Score sheet'!B95 = \"\",'Ref Score sheet'!C95 = \"fh-e\")","v":false},""]
[null,{"$f":"AND('Ref Score sheet'!B96 = \"h\",'Ref Score sheet'!C96 = \"t\")","v":false},{"$f":"AND('Ref Score sheet'!B96 = \"h\",'Ref Score sheet'!C96 = \"pt\")","v":false},{"$f":"AND('Ref Score sheet'!B96 = \"h\",'Ref Score sheet'!C96 = \"c\")","v":false},{"$f":"AND('Ref Score sheet'!B96 = \"h\",'Ref Score sheet'!C96 = \"p\")","v":false},{"$f":"AND('Ref Score sheet'!B96 = \"h\",'Ref Score sheet'!C96 = \"dg\")","v":false},0,0,0,0,0,0,0,null,null,{"$f":"AND('Ref Score sheet'!B96 = \"h\",'Ref Score sheet'!C96 = \"bl-off\")","v":false},{"$f":"AND('Ref Score sheet'!B96 = \"h\",'Ref Score sheet'!C96 = \"bl-on\")","v":false},{"$f":"AND('Ref Score sheet'!B96 = \"h\",'Ref Score sheet'!C96 = \"blr-off\")","v":false},{"$f":"AND('Ref Score sheet'!B96 = \"h\",'Ref Score sheet'!C96 = \"blr-on\")","v":false},{"$f":"AND('Ref Score sheet'!B96 = \"h\",'Ref Score sheet'!C96 = \"RI-off\")","v":false},{"$f":"AND('Ref Score sheet'!B96 = \"h\",'Ref Score sheet'!C96 = \"RI-on\")","v":false},{"$f":"AND('Ref Score sheet'!B96 = \"h\",'Ref Score sheet'!C96 = \"CON-OFF\")","v":false},{"$f":"AND('Ref Score sheet'!B96 = \"h\",'Ref Score sheet'!C96 = \"CON-ON\")","v":false},{"$f":"AND('Ref Score sheet'!B96 = \"h\",'Ref Score sheet'!C96 = \"RT-on\")","v":false},{"$f":"AND('Ref Score sheet'!B96 = \"h\",'Ref Score sheet'!C96 = \"RT-off\")","v":false},{"$f":"AND('Ref Score sheet'!$B96 = \"h\",'Ref Score sheet'!$C96 = \"rc\")","v":false},{"$f":"AND('Ref Score sheet'!$B96 = \"h\",'Ref Score sheet'!$C96 = \"rcr\")","v":false},{"$f":"AND('Ref Score sheet'!$B96 = \"h\",'Ref Score sheet'!$C96 = \"yc\")","v":false},{"$f":"AND('Ref Score sheet'!$B96 = \"h\",'Ref Score sheet'!$C96 = \"2nd yc\")","v":false},null,{"$f":"AND('Ref Score sheet'!B96 = \"\",'Ref Score sheet'!C96 = \"fh-e\")","v":false},"",null,null,{"$f":"AND('Ref Score sheet'!B96=\"a\",'Ref Score sheet'!C96=\"t\")","v":false},{"$f":"AND('Ref Score sheet'!B96=\"a\",'Ref Score sheet'!C96=\"pt\")","v":false},{"$f":"AND('Ref Score sheet'!B96=\"a\",'Ref Score sheet'!C96=\"c\")","v":false},{"$f":"AND('Ref Score sheet'!B96=\"a\",'Ref Score sheet'!C96=\"p\")","v":false},{"$f":"AND('Ref Score sheet'!B96=\"a\",'Ref Score sheet'!C96=\"dg\")","v":false},0,0,0,0,0,0,0,null,{"$f":"AND('Ref Score sheet'!B96=\"a\",'Ref Score sheet'!C96=\"bl-off\")","v":false},{"$f":"AND('Ref Score sheet'!B96=\"a\",'Ref Score sheet'!C96=\"bl-on\")","v":false},{"$f":"AND('Ref Score sheet'!B96 = \"a\",'Ref Score sheet'!C96 = \"blr-off\")","v":false},{"$f":"AND('Ref Score sheet'!B96 = \"a\",'Ref Score sheet'!C96 = \"blr-on\")","v":false},{"$f":"AND('Ref Score sheet'!B96=\"a\",'Ref Score sheet'!C96=\"RI-off\")","v":false},{"$f":"AND('Ref Score sheet'!B96=\"a\",'Ref Score sheet'!C96=\"RI-on\")","v":false},{"$f":"AND('Ref Score sheet'!B96 = \"a\",'Ref Score sheet'!C96 = \"CON - OFF\")","v":false},{"$f":"AND('Ref Score sheet'!B96 = \"a\",'Ref Score sheet'!C96 = \"CON - ON\")","v":false},{"$f":"AND('Ref Score sheet'!B96=\"a\",'Ref Score sheet'!C96=\"RT-on\")","v":false},{"$f":"AND('Ref Score sheet'!B96=\"a\",'Ref Score sheet'!C96=\"RT-off\")","v":false},{"$f":"AND('Ref Score sheet'!$B96 = \"a\",'Ref Score sheet'!$C96 = \"rc\")","v":false},{"$f":"AND('Ref Score sheet'!$B96 = \"a\",'Ref Score sheet'!$C96 = \"rcr\")","v":false},{"$f":"AND('Ref Score sheet'!$B96 = \"a\",'Ref Score sheet'!$C96 = \"yc\")","v":false},{"$f":"AND('Ref Score sheet'!$B96 = \"a\",'Ref Score sheet'!$C96 = \"2nd yc\")","v":false},null,{"$f":"AND('Ref Score sheet'!B96 = \"\",'Ref Score sheet'!C96 = \"fh-e\")","v":false},""]
[null,{"$f":"AND('Ref Score sheet'!B97 = \"h\",'Ref Score sheet'!C97 = \"t\")","v":false},{"$f":"AND('Ref Score sheet'!B97 = \"h\",'Ref Score sheet'!C97 = \"pt\")","v":false},{"$f":"AND('Ref Score sheet'!B97 = \"h\",'Ref Score sheet'!C97 = \"c\")","v":false},{"$f":"AND('Ref Score sheet'!B97 = \"h\",'Ref Score sheet'!C97 = \"p\")","v":false},{"$f":"AND('Ref Score sheet'!B97 = \"h\",'Ref Score sheet'!C97 = \"dg\")","v":false},0,0,0,0,0,0,0,null,null,{"$f":"AND('Ref Score sheet'!B97 = \"h\",'Ref Score sheet'!C97 = \"bl-off\")","v":false},{"$f":"AND('Ref Score sheet'!B97 = \"h\",'Ref Score sheet'!C97 = \"bl-on\")","v":false},{"$f":"AND('Ref Score sheet'!B97 = \"h\",'Ref Score sheet'!C97 = \"blr-off\")","v":false},{"$f":"AND('Ref Score sheet'!B97 = \"h\",'Ref Score sheet'!C97 = \"blr-on\")","v":false},{"$f":"AND('Ref Score sheet'!B97 = \"h\",'Ref Score sheet'!C97 = \"RI-off\")","v":false},{"$f":"AND('Ref Score sheet'!B97 = \"h\",'Ref Score sheet'!C97 = \"RI-on\")","v":false},{"$f":"AND('Ref Score sheet'!B97 = \"h\",'Ref Score sheet'!C97 = \"CON-OFF\")","v":false},{"$f":"AND('Ref Score sheet'!B97 = \"h\",'Ref Score sheet'!C97 = \"CON-ON\")","v":false},{"$f":"AND('Ref Score sheet'!B97 = \"h\",'Ref Score sheet'!C97 = \"RT-on\")","v":false},{"$f":"AND('Ref Score sheet'!B97 = \"h\",'Ref Score sheet'!C97 = \"RT-off\")","v":false},{"$f":"AND('Ref Score sheet'!$B97 = \"h\",'Ref Score sheet'!$C97 = \"rc\")","v":false},{"$f":"AND('Ref Score sheet'!$B97 = \"h\",'Ref Score sheet'!$C97 = \"rcr\")","v":false},{"$f":"AND('Ref Score sheet'!$B97 = \"h\",'Ref Score sheet'!$C97 = \"yc\")","v":false},{"$f":"AND('Ref Score sheet'!$B97 = \"h\",'Ref Score sheet'!$C97 = \"2nd yc\")","v":false},null,{"$f":"AND('Ref Score sheet'!B97 = \"\",'Ref Score sheet'!C97 = \"fh-e\")","v":false},"",null,null,{"$f":"AND('Ref Score sheet'!B97=\"a\",'Ref Score sheet'!C97=\"t\")","v":false},{"$f":"AND('Ref Score sheet'!B97=\"a\",'Ref Score sheet'!C97=\"pt\")","v":false},{"$f":"AND('Ref Score sheet'!B97=\"a\",'Ref Score sheet'!C97=\"c\")","v":false},{"$f":"AND('Ref Score sheet'!B97=\"a\",'Ref Score sheet'!C97=\"p\")","v":false},{"$f":"AND('Ref Score sheet'!B97=\"a\",'Ref Score sheet'!C97=\"dg\")","v":false},0,0,0,0,0,0,0,null,{"$f":"AND('Ref Score sheet'!B97=\"a\",'Ref Score sheet'!C97=\"bl-off\")","v":false},{"$f":"AND('Ref Score sheet'!B97=\"a\",'Ref Score sheet'!C97=\"bl-on\")","v":false},{"$f":"AND('Ref Score sheet'!B97 = \"a\",'Ref Score sheet'!C97 = \"blr-off\")","v":false},{"$f":"AND('Ref Score sheet'!B97 = \"a\",'Ref Score sheet'!C97 = \"blr-on\")","v":false},{"$f":"AND('Ref Score sheet'!B97=\"a\",'Ref Score sheet'!C97=\"RI-off\")","v":false},{"$f":"AND('Ref Score sheet'!B97=\"a\",'Ref Score sheet'!C97=\"RI-on\")","v":false},{"$f":"AND('Ref Score sheet'!B97 = \"a\",'Ref Score sheet'!C97 = \"CON - OFF\")","v":false},{"$f":"AND('Ref Score sheet'!B97 = \"a\",'Ref Score sheet'!C97 = \"CON - ON\")","v":false},{"$f":"AND('Ref Score sheet'!B97=\"a\",'Ref Score sheet'!C97=\"RT-on\")","v":false},{"$f":"AND('Ref Score sheet'!B97=\"a\",'Ref Score sheet'!C97=\"RT-off\")","v":false},{"$f":"AND('Ref Score sheet'!$B97 = \"a\",'Ref Score sheet'!$C97 = \"rc\")","v":false},{"$f":"AND('Ref Score sheet'!$B97 = \"a\",'Ref Score sheet'!$C97 = \"rcr\")","v":false},{"$f":"AND('Ref Score sheet'!$B97 = \"a\",'Ref Score sheet'!$C97 = \"yc\")","v":false},{"$f":"AND('Ref Score sheet'!$B97 = \"a\",'Ref Score sheet'!$C97 = \"2nd yc\")","v":false},null,{"$f":"AND('Ref Score sheet'!B97 = \"\",'Ref Score sheet'!C97 = \"fh-e\")","v":false},{"$f":"IF(BK92=TRUE,AT92,\"\")","v":""}]
[null,{"$f":"AND('Ref Score sheet'!B98 = \"h\",'Ref Score sheet'!C98 = \"t\")","v":false},{"$f":"AND('Ref Score sheet'!B98 = \"h\",'Ref Score sheet'!C98 = \"pt\")","v":false},{"$f":"AND('Ref Score sheet'!B98 = \"h\",'Ref Score sheet'!C98 = \"c\")","v":false},{"$f":"AND('Ref Score sheet'!B98 = \"h\",'Ref Score sheet'!C98 = \"p\")","v":false},{"$f":"AND('Ref Score sheet'!B98 = \"h\",'Ref Score sheet'!C98 = \"dg\")","v":false},0,0,0,0,0,0,{"$f":"M92+L93","v":0},null,null,{"$f":"AND('Ref Score sheet'!B98 = \"h\",'Ref Score sheet'!C98 = \"bl-off\")","v":false},{"$f":"AND('Ref Score sheet'!B98 = \"h\",'Ref Score sheet'!C98 = \"bl-on\")","v":false},{"$f":"AND('Ref Score sheet'!B98 = \"h\",'Ref Score sheet'!C98 = \"blr-off\")","v":false},{"$f":"AND('Ref Score sheet'!B98 = \"h\",'Ref Score sheet'!C98 = \"blr-on\")","v":false},{"$f":"AND('Ref Score sheet'!B98 = \"h\",'Ref Score sheet'!C98 = \"RI-off\")","v":false},{"$f":"AND('Ref Score sheet'!B98 = \"h\",'Ref Score sheet'!C98 = \"RI-on\")","v":false},{"$f":"AND('Ref Score sheet'!B98 = \"h\",'Ref Score sheet'!C98 = \"CON-OFF\")","v":false},{"$f":"AND('Ref Score sheet'!B98 = \"h\",'Ref Score sheet'!C98 = \"CON-ON\")","v":false},{"$f":"AND('Ref Score sheet'!B98 = \"h\",'Ref Score sheet'!C98 = \"RT-on\")","v":false},{"$f":"AND('Ref Score sheet'!B98 = \"h\",'Ref Score sheet'!C98 = \"RT-off\")","v":false},{"$f":"AND('Ref Score sheet'!$B98 = \"h\",'Ref Score sheet'!$C98 = \"rc\")","v":false},{"$f":"AND('Ref Score sheet'!$B98 = \"h\",'Ref Score sheet'!$C98 = \"rcr\")","v":false},{"$f":"AND('Ref Score sheet'!$B98 = \"h\",'Ref Score sheet'!$C98 = \"yc\")","v":false},{"$f":"AND('Ref Score sheet'!$B98 = \"h\",'Ref Score sheet'!$C98 = \"2nd yc\")","v":false},null,{"$f":"AND('Ref Score sheet'!B98 = \"\",'Ref Score sheet'!C98 = \"fh-e\")","v":false},"",null,null,{"$f":"AND('Ref Score sheet'!B98=\"a\",'Ref Score sheet'!C98=\"t\")","v":false},{"$f":"AND('Ref Score sheet'!B98=\"a\",'Ref Score sheet'!C98=\"pt\")","v":false},{"$f":"AND('Ref Score sheet'!B98=\"a\",'Ref Score sheet'!C98=\"c\")","v":false},{"$f":"AND('Ref Score sheet'!B98=\"a\",'Ref Score sheet'!C98=\"p\")","v":false},{"$f":"AND('Ref Score sheet'!B98=\"a\",'Ref Score sheet'!C98=\"dg\")","v":false},0,0,0,0,0,0,{"$f":"AT92+AS93","v":0},null,{"$f":"AND('Ref Score sheet'!B98=\"a\",'Ref Score sheet'!C98=\"bl-off\")","v":false},{"$f":"AND('Ref Score sheet'!B98=\"a\",'Ref Score sheet'!C98=\"bl-on\")","v":false},{"$f":"AND('Ref Score sheet'!B98 = \"a\",'Ref Score sheet'!C98 = \"blr-off\")","v":false},{"$f":"AND('Ref Score sheet'!B98 = \"a\",'Ref Score sheet'!C98 = \"blr-on\")","v":false},{"$f":"AND('Ref Score sheet'!B98=\"a\",'Ref Score sheet'!C98=\"RI-off\")","v":false},{"$f":"AND('Ref Score sheet'!B98=\"a\",'Ref Score sheet'!C98=\"RI-on\")","v":false},{"$f":"AND('Ref Score sheet'!B98 = \"a\",'Ref Score sheet'!C98 = \"CON - OFF\")","v":false},{"$f":"AND('Ref Score sheet'!B98 = \"a\",'Ref Score sheet'!C98 = \"CON - ON\")","v":false},{"$f":"AND('Ref Score sheet'!B98=\"a\",'Ref Score sheet'!C98=\"RT-on\")","v":false},{"$f":"AND('Ref Score sheet'!B98=\"a\",'Ref Score sheet'!C98=\"RT-off\")","v":false},{"$f":"AND('Ref Score sheet'!$B98 = \"a\",'Ref Score sheet'!$C98 = \"rc\")","v":false},{"$f":"AND('Ref Score sheet'!$B98 = \"a\",'Ref Score sheet'!$C98 = \"rcr\")","v":false},{"$f":"AND('Ref Score sheet'!$B98 = \"a\",'Ref Score sheet'!$C98 = \"yc\")","v":false},{"$f":"AND('Ref Score sheet'!$B98 = \"a\",'Ref Score sheet'!$C98 = \"2nd yc\")","v":false},null,{"$f":"AND('Ref Score sheet'!B98 = \"\",'Ref Score sheet'!C98 = \"fh-e\")","v":false},""]
[null,{"$f":"AND('Ref Score sheet'!B99 = \"h\",'Ref Score sheet'!C99 = \"t\")","v":false},{"$f":"AND('Ref Score sheet'!B99 = \"h\",'Ref Score sheet'!C99 = \"pt\")","v":false},{"$f":"AND('Ref Score sheet'!B99 = \"h\",'Ref Score sheet'!C99 = \"c\")","v":false},{"$f":"AND('Ref Score sheet'!B99 = \"h\",'Ref Score sheet'!C99 = \"p\")","v":false},{"$f":"AND('Ref Score sheet'!B99 = \"h\",'Ref Score sheet'!C99 = \"dg\")","v":false},0,0,0,0,0,0,0,null,null,{"$f":"AND('Ref Score sheet'!B99 = \"h\",'Ref Score sheet'!C99 = \"bl-off\")","v":false},{"$f":"AND('Ref Score sheet'!B99 = \"h\",'Ref Score sheet'!C99 = \"bl-on\")","v":false},{"$f":"AND('Ref Score sheet'!B99 = \"h\",'Ref Score sheet'!C99 = \"blr-off\")","v":false},{"$f":"AND('Ref Score sheet'!B99 = \"h\",'Ref Score sheet'!C99 = \"blr-on\")","v":false},{"$f":"AND('Ref Score sheet'!B99 = \"h\",'Ref Score sheet'!C99 = \"RI-off\")","v":false},{"$f":"AND('Ref Score sheet'!B99 = \"h\",'Ref Score sheet'!C99 = \"RI-on\")","v":false},{"$f":"AND('Ref Score sheet'!B99 = \"h\",'Ref Score sheet'!C99 = \"CON-OFF\")","v":false},{"$f":"AND('Ref Score sheet'!B99 = \"h\",'Ref Score sheet'!C99 = \"CON-ON\")","v":false},{"$f":"AND('Ref Score sheet'!B99 = \"h\",'Ref Score sheet'!C99 = \"RT-on\")","v":false},{"$f":"AND('Ref Score sheet'!B99 = \"h\",'Ref Score sheet'!C99 = \"RT-off\")","v":false},{"$f":"AND('Ref Score sheet'!$B99 = \"h\",'Ref Score sheet'!$C99 = \"rc\")","v":false},{"$f":"AND('Ref Score sheet'!$B99 = \"h\",'Ref Score sheet'!$C99 = \"rcr\")","v":false},{"$f":"AND('Ref Score sheet'!$B99 = \"h\",'Ref Score sheet'!$C99 = \"yc\")","v":false},{"$f":"AND('Ref Score sheet'!$B99 = \"h\",'Ref Score sheet'!$C99 = \"2nd yc\")","v":false},null,{"$f":"AND('Ref Score sheet'!B99 = \"\",'Ref Score sheet'!C99 = \"fh-e\")","v":false},"",null,null,{"$f":"AND('Ref Score sheet'!B99=\"a\",'Ref Score sheet'!C99=\"t\")","v":false},{"$f":"AND('Ref Score sheet'!B99=\"a\",'Ref Score sheet'!C99=\"pt\")","v":false},{"$f":"AND('Ref Score sheet'!B99=\"a\",'Ref Score sheet'!C99=\"c\")","v":false},{"$f":"AND('Ref Score sheet'!B99=\"a\",'Ref Score sheet'!C99=\"p\")","v":false},{"$f":"AND('Ref Score sheet'!B99=\"a\",'Ref Score sheet'!C99=\"dg\")","v":false},0,0,0,0,0,0,0,null,{"$f":"AND('Ref Score sheet'!B99=\"a\",'Ref Score sheet'!C99=\"bl-off\")","v":false},{"$f":"AND('Ref Score sheet'!B99=\"a\",'Ref Score sheet'!C99=\"bl-on\")","v":false},{"$f":"AND('Ref Score sheet'!B99 = \"a\",'Ref Score sheet'!C99 = \"blr-off\")","v":false},{"$f":"AND('Ref Score sheet'!B99 = \"a\",'Ref Score sheet'!C99 = \"blr-on\")","v":false},{"$f":"AND('Ref Score sheet'!B99=\"a\",'Ref Score sheet'!C99=\"RI-off\")","v":false},{"$f":"AND('Ref Score sheet'!B99=\"a\",'Ref Score sheet'!C99=\"RI-on\")","v":false},{"$f":"AND('Ref Score sheet'!B99 = \"a\",'Ref Score sheet'!C99 = \"CON - OFF\")","v":false},{"$f":"AND('Ref Score sheet'!B99 = \"a\",'Ref Score sheet'!C99 = \"CON - ON\")","v":false},{"$f":"AND('Ref Score sheet'!B99=\"a\",'Ref Score sheet'!C99=\"RT-on\")","v":false},{"$f":"AND('Ref Score sheet'!B99=\"a\",'Ref Score sheet'!C99=\"RT-off\")","v":false},{"$f":"AND('Ref Score sheet'!$B99 = \"a\",'Ref Score sheet'!$C99 = \"rc\")","v":false},{"$f":"AND('Ref Score sheet'!$B99 = \"a\",'Ref Score sheet'!$C99 = \"rcr\")","v":false},{"$f":"AND('Ref Score sheet'!$B99 = \"a\",'Ref Score sheet'!$C99 = \"yc\")","v":false},{"$f":"AND('Ref Score sheet'!$B99 = \"a\",'Ref Score sheet'!$C99 = \"2nd yc\")","v":false},null,{"$f":"AND('Ref Score sheet'!B99 = \"\",'Ref Score sheet'!C99 = \"fh-e\")","v":false},""]
[null,{"$f":"AND('Ref Score sheet'!B100 = \"h\",'Ref Score sheet'!C100 = \"t\")","v":false},{"$f":"AND('Ref Score sheet'!B100 = \"h\",'Ref Score sheet'!C100 = \"pt\")","v":false},{"$f":"AND('Ref Score sheet'!B100 = \"h\",'Ref Score sheet'!C100 = \"c\")","v":false},{"$f":"AND('Ref Score sheet'!B100 = \"h\",'Ref Score sheet'!C100 = \"p\")","v":false},{"$f":"AND('Ref Score sheet'!B100 = \"h\",'Ref Score sheet'!C100 = \"dg\")","v":false},0,0,0,0,0,0,0,null,null,{"$f":"AND('Ref Score sheet'!B100 = \"h\",'Ref Score sheet'!C100 = \"bl-off\")","v":false},{"$f":"AND('Ref Score sheet'!B100 = \"h\",'Ref Score sheet'!C100 = \"bl-on\")","v":false},{"$f":"AND('Ref Score sheet'!B100 = \"h\",'Ref Score sheet'!C100 = \"blr-off\")","v":false},{"$f":"AND('Ref Score sheet'!B100 = \"h\",'Ref Score sheet'!C100 = \"blr-on\")","v":false},{"$f":"AND('Ref Score sheet'!B100 = \"h\",'Ref Score sheet'!C100 = \"RI-off\")","v":false},{"$f":"AND('Ref Score sheet'!B100 = \"h\",'Ref Score sheet'!C100 = \"RI-on\")","v":false},{"$f":"AND('Ref Score sheet'!B100 = \"h\",'Ref Score sheet'!C100 = \"CON-OFF\")","v":false},{"$f":"AND('Ref Score sheet'!B100 = \"h\",'Ref Score sheet'!C100 = \"CON-ON\")","v":false},{"$f":"AND('Ref Score sheet'!B100 = \"h\",'Ref Score sheet'!C100 = \"RT-on\")","v":false},{"$f":"AND('Ref Score sheet'!B100 = \"h\",'Ref Score sheet'!C100 = \"RT-off\")","v":false},{"$f":"AND('Ref Score sheet'!$B100 = \"h\",'Ref Score sheet'!$C100 = \"rc\")","v":false},{"$f":"AND('Ref Score sheet'!$B100 = \"h\",'Ref Score sheet'!$C100 = \"rcr\")","v":false},{"$f":"AND('Ref Score sheet'!$B100 = \"h\",'Ref Score sheet'!$C100 = \"yc\")","v":false},{"$f":"AND('Ref Score sheet'!$B100 = \"h\",'Ref Score sheet'!$C100 = \"2nd yc\")","v":false},null,{"$f":"AND('Ref Score sheet'!B100 = \"\",'Ref Score sheet'!C100 = \"fh-e\")","v":false},"",null,null,{"$f":"AND('Ref Score sheet'!B100=\"a\",'Ref Score sheet'!C100=\"t\")","v":false},{"$f":"AND('Ref Score sheet'!B100=\"a\",'Ref Score sheet'!C100=\"pt\")","v":false},{"$f":"AND('Ref Score sheet'!B100=\"a\",'Ref Score sheet'!C100=\"c\")","v":false},{"$f":"AND('Ref Score sheet'!B100=\"a\",'Ref Score sheet'!C100=\"p\")","v":false},{"$f":"AND('Ref Score sheet'!B100=\"a\",'Ref Score sheet'!C100=\"dg\")","v":false},0,0,0,0,0,0,0,null,{"$f":"AND('Ref Score sheet'!B100=\"a\",'Ref Score sheet'!C100=\"bl-off\")","v":false},{"$f":"AND('Ref Score sheet'!B100=\"a\",'Ref Score sheet'!C100=\"bl-on\")","v":false},{"$f":"AND('Ref Score sheet'!B100 = \"a\",'Ref Score sheet'!C100 = \"blr-off\")","v":false},{"$f":"AND('Ref Score sheet'!B100 = \"a\",'Ref Score sheet'!C100 = \"blr-on\")","v":false},{"$f":"AND('Ref Score sheet'!B100=\"a\",'Ref Score sheet'!C100=\"RI-off\")","v":false},{"$f":"AND('Ref Score sheet'!B100=\"a\",'Ref Score sheet'!C100=\"RI-on\")","v":false},{"$f":"AND('Ref Score sheet'!B100 = \"a\",'Ref Score sheet'!C100 = \"CON - OFF\")","v":false},{"$f":"AND('Ref Score sheet'!B100 = \"a\",'Ref Score sheet'!C100 = \"CON - ON\")","v":false},{"$f":"AND('Ref Score sheet'!B100=\"a\",'Ref Score sheet'!C100=\"RT-on\")","v":false},{"$f":"AND('Ref Score sheet'!B100=\"a\",'Ref Score sheet'!C100=\"RT-off\")","v":false},{"$f":"AND('Ref Score sheet'!$B100 = \"a\",'Ref Score sheet'!$C100 = \"rc\")","v":false},{"$f":"AND('Ref Score sheet'!$B100 = \"a\",'Ref Score sheet'!$C100 = \"rcr\")","v":false},{"$f":"AND('Ref Score sheet'!$B100 = \"a\",'Ref Score sheet'!$C100 = \"yc\")","v":false},{"$f":"AND('Ref Score sheet'!$B100 = \"a\",'Ref Score sheet'!$C100 = \"2nd yc\")","v":false},null,{"$f":"AND('Ref Score sheet'!B100 = \"\",'Ref Score sheet'!C100 = \"fh-e\")","v":false},""]
[null,{"$f":"AND('Ref Score sheet'!B101 = \"h\",'Ref Score sheet'!C101 = \"t\")","v":false},{"$f":"AND('Ref Score sheet'!B101 = \"h\",'Ref Score sheet'!C101 = \"pt\")","v":false},{"$f":"AND('Ref Score sheet'!B101 = \"h\",'Ref Score sheet'!C101 = \"c\")","v":false},{"$f":"AND('Ref Score sheet'!B101 = \"h\",'Ref Score sheet'!C101 = \"p\")","v":false},{"$f":"AND('Ref Score sheet'!B101 = \"h\",'Ref Score sheet'!C101 = \"dg\")","v":false},0,0,0,0,0,0,0,null,null,{"$f":"AND('Ref Score sheet'!B101 = \"h\",'Ref Score sheet'!C101 = \"bl-off\")","v":false},{"$f":"AND('Ref Score sheet'!B101 = \"h\",'Ref Score sheet'!C101 = \"bl-on\")","v":false},{"$f":"AND('Ref Score sheet'!B101 = \"h\",'Ref Score sheet'!C101 = \"blr-off\")","v":false},{"$f":"AND('Ref Score sheet'!B101 = \"h\",'Ref Score sheet'!C101 = \"blr-on\")","v":false},{"$f":"AND('Ref Score sheet'!B101 = \"h\",'Ref Score sheet'!C101 = \"RI-off\")","v":false},{"$f":"AND('Ref Score sheet'!B101 = \"h\",'Ref Score sheet'!C101 = \"RI-on\")","v":false},{"$f":"AND('Ref Score sheet'!B101 = \"h\",'Ref Score sheet'!C101 = \"CON-OFF\")","v":false},{"$f":"AND('Ref Score sheet'!B101 = \"h\",'Ref Score sheet'!C101 = \"CON-ON\")","v":false},{"$f":"AND('Ref Score sheet'!B101 = \"h\",'Ref Score sheet'!C101 = \"RT-on\")","v":false},{"$f":"AND('Ref Score sheet'!B101 = \"h\",'Ref Score sheet'!C101 = \"RT-off\")","v":false},{"$f":"AND('Ref Score sheet'!$B101 = \"h\",'Ref Score sheet'!$C101 = \"rc\")","v":false},{"$f":"AND('Ref Score sheet'!$B101 = \"h\",'Ref Score sheet'!$C101 = \"rcr\")","v":false},{"$f":"AND('Ref Score sheet'!$B101 = \"h\",'Ref Score sheet'!$C101 = \"yc\")","v":false},{"$f":"AND('Ref Score sheet'!$B101 = \"h\",'Ref Score sheet'!$C101 = \"2nd yc\")","v":false},null,{"$f":"AND('Ref Score sheet'!B101 = \"\",'Ref Score sheet'!C101 = \"fh-e\")","v":false},"",null,null,{"$f":"AND('Ref Score sheet'!B101=\"a\",'Ref Score sheet'!C101=\"t\")","v":false},{"$f":"AND('Ref Score sheet'!B101=\"a\",'Ref Score sheet'!C101=\"pt\")","v":false},{"$f":"AND('Ref Score sheet'!B101=\"a\",'Ref Score sheet'!C101=\"c\")","v":false},{"$f":"AND('Ref Score sheet'!B101=\"a\",'Ref Score sheet'!C101=\"p\")","v":false},{"$f":"AND('Ref Score sheet'!B101=\"a\",'Ref Score sheet'!C101=\"dg\")","v":false},0,0,0,0,0,0,0,null,{"$f":"AND('Ref Score sheet'!B101=\"a\",'Ref Score sheet'!C101=\"bl-off\")","v":false},{"$f":"AND('Ref Score sheet'!B101=\"a\",'Ref Score sheet'!C101=\"bl-on\")","v":false},{"$f":"AND('Ref Score sheet'!B101 = \"a\",'Ref Score sheet'!C101 = \"blr-off\")","v":false},{"$f":"AND('Ref Score sheet'!B101 = \"a\",'Ref Score sheet'!C101 = \"blr-on\")","v":false},{"$f":"AND('Ref Score sheet'!B101=\"a\",'Ref Score sheet'!C101=\"RI-off\")","v":false},{"$f":"AND('Ref Score sheet'!B101=\"a\",'Ref Score sheet'!C101=\"RI-on\")","v":false},{"$f":"AND('Ref Score sheet'!B101 = \"a\",'Ref Score sheet'!C101 = \"CON - OFF\")","v":false},{"$f":"AND('Ref Score sheet'!B101 = \"a\",'Ref Score sheet'!C101 = \"CON - ON\")","v":false},{"$f":"AND('Ref Score sheet'!B101=\"a\",'Ref Score sheet'!C101=\"RT-on\")","v":false},{"$f":"AND('Ref Score sheet'!B101=\"a\",'Ref Score sheet'!C101=\"RT-off\")","v":false},{"$f":"AND('Ref Score sheet'!$B101 = \"a\",'Ref Score sheet'!$C101 = \"rc\")","v":false},{"$f":"AND('Ref Score sheet'!$B101 = \"a\",'Ref Score sheet'!$C101 = \"rcr\")","v":false},{"$f":"AND('Ref Score sheet'!$B101 = \"a\",'Ref Score sheet'!$C101 = \"yc\")","v":false},{"$f":"AND('Ref Score sheet'!$B101 = \"a\",'Ref Score sheet'!$C101 = \"2nd yc\")","v":false},null,{"$f":"AND('Ref Score sheet'!B101 = \"\",'Ref Score sheet'!C101 = \"fh-e\")","v":false},""]
[null,{"$f":"AND('Ref Score sheet'!B102 = \"h\",'Ref Score sheet'!C102 = \"t\")","v":false},{"$f":"AND('Ref Score sheet'!B102 = \"h\",'Ref Score sheet'!C102 = \"pt\")","v":false},{"$f":"AND('Ref Score sheet'!B102 = \"h\",'Ref Score sheet'!C102 = \"c\")","v":false},{"$f":"AND('Ref Score sheet'!B102 = \"h\",'Ref Score sheet'!C102 = \"p\")","v":false},{"$f":"AND('Ref Score sheet'!B102 = \"h\",'Ref Score sheet'!C102 = \"dg\")","v":false},0,0,0,0,0,0,0,null,null,{"$f":"AND('Ref Score sheet'!B102 = \"h\",'Ref Score sheet'!C102 = \"bl-off\")","v":false},{"$f":"AND('Ref Score sheet'!B102 = \"h\",'Ref Score sheet'!C102 = \"bl-on\")","v":false},{"$f":"AND('Ref Score sheet'!B102 = \"h\",'Ref Score sheet'!C102 = \"blr-off\")","v":false},{"$f":"AND('Ref Score sheet'!B102 = \"h\",'Ref Score sheet'!C102 = \"blr-on\")","v":false},{"$f":"AND('Ref Score sheet'!B102 = \"h\",'Ref Score sheet'!C102 = \"RI-off\")","v":false},{"$f":"AND('Ref Score sheet'!B102 = \"h\",'Ref Score sheet'!C102 = \"RI-on\")","v":false},{"$f":"AND('Ref Score sheet'!B102 = \"h\",'Ref Score sheet'!C102 = \"CON-OFF\")","v":false},{"$f":"AND('Ref Score sheet'!B102 = \"h\",'Ref Score sheet'!C102 = \"CON-ON\")","v":false},{"$f":"AND('Ref Score sheet'!B102 = \"h\",'Ref Score sheet'!C102 = \"RT-on\")","v":false},{"$f":"AND('Ref Score sheet'!B102 = \"h\",'Ref Score sheet'!C102 = \"RT-off\")","v":false},{"$f":"AND('Ref Score sheet'!$B102 = \"h\",'Ref Score sheet'!$C102 = \"rc\")","v":false},{"$f":"AND('Ref Score sheet'!$B102 = \"h\",'Ref Score sheet'!$C102 = \"rcr\")","v":false},{"$f":"AND('Ref Score sheet'!$B102 = \"h\",'Ref Score sheet'!$C102 = \"yc\")","v":false},{"$f":"AND('Ref Score sheet'!$B102 = \"h\",'Ref Score sheet'!$C102 = \"2nd yc\")","v":false},null,{"$f":"AND('Ref Score sheet'!B102 = \"\",'Ref Score sheet'!C102 = \"fh-e\")","v":false},"",null,null,{"$f":"AND('Ref Score sheet'!B102=\"a\",'Ref Score sheet'!C102=\"t\")","v":false},{"$f":"AND('Ref Score sheet'!B102=\"a\",'Ref Score sheet'!C102=\"pt\")","v":false},{"$f":"AND('Ref Score sheet'!B102=\"a\",'Ref Score sheet'!C102=\"c\")","v":false},{"$f":"AND('Ref Score sheet'!B102=\"a\",'Ref Score sheet'!C102=\"p\")","v":false},{"$f":"AND('Ref Score sheet'!B102=\"a\",'Ref Score sheet'!C102=\"dg\")","v":false},0,0,0,0,0,0,0,null,{"$f":"AND('Ref Score sheet'!B102=\"a\",'Ref Score sheet'!C102=\"bl-off\")","v":false},{"$f":"AND('Ref Score sheet'!B102=\"a\",'Ref Score sheet'!C102=\"bl-on\")","v":false},{"$f":"AND('Ref Score sheet'!B102 = \"a\",'Ref Score sheet'!C102 = \"blr-off\")","v":false},{"$f":"AND('Ref Score sheet'!B102 = \"a\",'Ref Score sheet'!C102 = \"blr-on\")","v":false},{"$f":"AND('Ref Score sheet'!B102=\"a\",'Ref Score sheet'!C102=\"RI-off\")","v":false},{"$f":"AND('Ref Score sheet'!B102=\"a\",'Ref Score sheet'!C102=\"RI-on\")","v":false},{"$f":"AND('Ref Score sheet'!B102 = \"a\",'Ref Score sheet'!C102 = \"CON - OFF\")","v":false},{"$f":"AND('Ref Score sheet'!B102 = \"a\",'Ref Score sheet'!C102 = \"CON - ON\")","v":false},{"$f":"AND('Ref Score sheet'!B102=\"a\",'Ref Score sheet'!C102=\"RT-on\")","v":false},{"$f":"AND('Ref Score sheet'!B102=\"a\",'Ref Score sheet'!C102=\"RT-off\")","v":false},{"$f":"AND('Ref Score sheet'!$B102 = \"a\",'Ref Score sheet'!$C102 = \"rc\")","v":false},{"$f":"AND('Ref Score sheet'!$B102 = \"a\",'Ref Score sheet'!$C102 = \"rcr\")","v":false},{"$f":"AND('Ref Score sheet'!$B102 = \"a\",'Ref Score sheet'!$C102 = \"yc\")","v":false},{"$f":"AND('Ref Score sheet'!$B102 = \"a\",'Ref Score sheet'!$C102 = \"2nd yc\")","v":false},null,{"$f":"AND('Ref Score sheet'!B102 = \"\",'Ref Score sheet'!C102 = \"fh-e\")","v":false},""]
[null,{"$f":"AND('Ref Score sheet'!B103 = \"h\",'Ref Score sheet'!C103 = \"t\")","v":false},{"$f":"AND('Ref Score sheet'!B103 = \"h\",'Ref Score sheet'!C103 = \"pt\")","v":false},{"$f":"AND('Ref Score sheet'!B103 = \"h\",'Ref Score sheet'!C103 = \"c\")","v":false},{"$f":"AND('Ref Score sheet'!B103 = \"h\",'Ref Score sheet'!C103 = \"p\")","v":false},{"$f":"AND('Ref Score sheet'!B103 = \"h\",'Ref Score sheet'!C103 = \"dg\")","v":false},0,0,0,0,0,0,0,null,null,{"$f":"AND('Ref Score sheet'!B103 = \"h\",'Ref Score sheet'!C103 = \"bl-off\")","v":false},{"$f":"AND('Ref Score sheet'!B103 = \"h\",'Ref Score sheet'!C103 = \"bl-on\")","v":false},{"$f":"AND('Ref Score sheet'!B103 = \"h\",'Ref Score sheet'!C103 = \"blr-off\")","v":false},{"$f":"AND('Ref Score sheet'!B103 = \"h\",'Ref Score sheet'!C103 = \"blr-on\")","v":false},{"$f":"AND('Ref Score sheet'!B103 = \"h\",'Ref Score sheet'!C103 = \"RI-off\")","v":false},{"$f":"AND('Ref Score sheet'!B103 = \"h\",'Ref Score sheet'!C103 = \"RI-on\")","v":false},{"$f":"AND('Ref Score sheet'!B103 = \"h\",'Ref Score sheet'!C103 = \"CON-OFF\")","v":false},{"$f":"AND('Ref Score sheet'!B103 = \"h\",'Ref Score sheet'!C103 = \"CON-ON\")","v":false},{"$f":"AND('Ref Score sheet'!B103 = \"h\",'Ref Score sheet'!C103 = \"RT-on\")","v":false},{"$f":"AND('Ref Score sheet'!B103 = \"h\",'Ref Score sheet'!C103 = \"RT-off\")","v":false},{"$f":"AND('Ref Score sheet'!$B103 = \"h\",'Ref Score sheet'!$C103 = \"rc\")","v":false},{"$f":"AND('Ref Score sheet'!$B103 = \"h\",'Ref Score sheet'!$C103 = \"rcr\")","v":false},{"$f":"AND('Ref Score sheet'!$B103 = \"h\",'Ref Score sheet'!$C103 = \"yc\")","v":false},{"$f":"AND('Ref Score sheet'!$B103 = \"h\",'Ref Score sheet'!$C103 = \"2nd yc\")","v":false},null,{"$f":"AND('Ref Score sheet'!B103 = \"\",'Ref Score sheet'!C103 = \"fh-e\")","v":false},"",null,null,{"$f":"AND('Ref Score sheet'!B103=\"a\",'Ref Score sheet'!C103=\"t\")","v":false},{"$f":"AND('Ref Score sheet'!B103=\"a\",'Ref Score sheet'!C103=\"pt\")","v":false},{"$f":"AND('Ref Score sheet'!B103=\"a\",'Ref Score sheet'!C103=\"c\")","v":false},{"$f":"AND('Ref Score sheet'!B103=\"a\",'Ref Score sheet'!C103=\"p\")","v":false},{"$f":"AND('Ref Score sheet'!B103=\"a\",'Ref Score sheet'!C103=\"dg\")","v":false},0,0,0,0,0,0,0,null,{"$f":"AND('Ref Score sheet'!B103=\"a\",'Ref Score sheet'!C103=\"bl-off\")","v":false},{"$f":"AND('Ref Score sheet'!B103=\"a\",'Ref Score sheet'!C103=\"bl-on\")","v":false},{"$f":"AND('Ref Score sheet'!B103 = \"a\",'Ref Score sheet'!C103 = \"blr-off\")","v":false},{"$f":"AND('Ref Score sheet'!B103 = \"a\",'Ref Score sheet'!C103 = \"blr-on\")","v":false},{"$f":"AND('Ref Score sheet'!B103=\"a\",'Ref Score sheet'!C103=\"RI-off\")","v":false},{"$f":"AND('Ref Score sheet'!B103=\"a\",'Ref Score sheet'!C103=\"RI-on\")","v":false},{"$f":"AND('Ref Score sheet'!B103 = \"a\",'Ref Score sheet'!C103 = \"CON - OFF\")","v":false},{"$f":"AND('Ref Score sheet'!B103 = \"a\",'Ref Score sheet'!C103 = \"CON - ON\")","v":false},{"$f":"AND('Ref Score sheet'!B103=\"a\",'Ref Score sheet'!C103=\"RT-on\")","v":false},{"$f":"AND('Ref Score sheet'!B103=\"a\",'Ref Score sheet'!C103=\"RT-off\")","v":false},{"$f":"AND('Ref Score sheet'!$B103 = \"a\",'Ref Score sheet'!$C103 = \"rc\")","v":false},{"$f":"AND('Ref Score sheet'!$B103 = \"a\",'Ref Score sheet'!$C103 = \"rcr\")","v":false},{"$f":"AND('Ref Score sheet'!$B103 = \"a\",'Ref Score sheet'!$C103 = \"yc\")","v":false},{"$f":"AND('Ref Score sheet'!$B103 = \"a\",'Ref Score sheet'!$C103 = \"2nd yc\")","v":false},null,{"$f":"AND('Ref Score sheet'!B103 = \"\",'Ref Score sheet'!C103 = \"fh-e\")","v":false},""]
[null,{"$f":"AND('Ref Score sheet'!B104 = \"h\",'Ref Score sheet'!C104 = \"t\")","v":false},{"$f":"AND('Ref Score sheet'!B104 = \"h\",'Ref Score sheet'!C104 = \"pt\")","v":false},{"$f":"AND('Ref Score sheet'!B104 = \"h\",'Ref Score sheet'!C104 = \"c\")","v":false},{"$f":"AND('Ref Score sheet'!B104 = \"h\",'Ref Score sheet'!C104 = \"p\")","v":false},{"$f":"AND('Ref Score sheet'!B104 = \"h\",'Ref Score sheet'!C104 = \"dg\")","v":false},0,0,0,0,0,0,0,null,null,{"$f":"AND('Ref Score sheet'!B104 = \"h\",'Ref Score sheet'!C104 = \"bl-off\")","v":false},{"$f":"AND('Ref Score sheet'!B104 = \"h\",'Ref Score sheet'!C104 = \"bl-on\")","v":false},{"$f":"AND('Ref Score sheet'!B104 = \"h\",'Ref Score sheet'!C104 = \"blr-off\")","v":false},{"$f":"AND('Ref Score sheet'!B104 = \"h\",'Ref Score sheet'!C104 = \"blr-on\")","v":false},{"$f":"AND('Ref Score sheet'!B104 = \"h\",'Ref Score sheet'!C104 = \"RI-off\")","v":false},{"$f":"AND('Ref Score sheet'!B104 = \"h\",'Ref Score sheet'!C104 = \"RI-on\")","v":false},{"$f":"AND('Ref Score sheet'!B104 = \"h\",'Ref Score sheet'!C104 = \"CON-OFF\")","v":false},{"$f":"AND('Ref Score sheet'!B104 = \"h\",'Ref Score sheet'!C104 = \"CON-ON\")","v":false},{"$f":"AND('Ref Score sheet'!B104 = \"h\",'Ref Score sheet'!C104 = \"RT-on\")","v":false},{"$f":"AND('Ref Score sheet'!B104 = \"h\",'Ref Score sheet'!C104 = \"RT-off\")","v":false},{"$f":"AND('Ref Score sheet'!$B104 = \"h\",'Ref Score sheet'!$C104 = \"rc\")","v":false},{"$f":"AND('Ref Score sheet'!$B104 = \"h\",'Ref Score sheet'!$C104 = \"rcr\")","v":false},{"$f":"AND('Ref Score sheet'!$B104 = \"h\",'Ref Score sheet'!$C104 = \"yc\")","v":false},{"$f":"AND('Ref Score sheet'!$B104 = \"h\",'Ref Score sheet'!$C104 = \"2nd yc\")","v":false},null,{"$f":"AND('Ref Score sheet'!B104 = \"\",'Ref Score sheet'!C104 = \"fh-e\")","v":false},"",null,null,{"$f":"AND('Ref Score sheet'!B104=\"a\",'Ref Score sheet'!C104=\"t\")","v":false},{"$f":"AND('Ref Score sheet'!B104=\"a\",'Ref Score sheet'!C104=\"pt\")","v":false},{"$f":"AND('Ref Score sheet'!B104=\"a\",'Ref Score sheet'!C104=\"c\")","v":false},{"$f":"AND('Ref Score sheet'!B104=\"a\",'Ref Score sheet'!C104=\"p\")","v":false},{"$f":"AND('Ref Score sheet'!B104=\"a\",'Ref Score sheet'!C104=\"dg\")","v":false},0,0,0,0,0,0,0,null,{"$f":"AND('Ref Score sheet'!B104=\"a\",'Ref Score sheet'!C104=\"bl-off\")","v":false},{"$f":"AND('Ref Score sheet'!B104=\"a\",'Ref Score sheet'!C104=\"bl-on\")","v":false},{"$f":"AND('Ref Score sheet'!B104 = \"a\",'Ref Score sheet'!C104 = \"blr-off\")","v":false},{"$f":"AND('Ref Score sheet'!B104 = \"a\",'Ref Score sheet'!C104 = \"blr-on\")","v":false},{"$f":"AND('Ref Score sheet'!B104=\"a\",'Ref Score sheet'!C104=\"RI-off\")","v":false},{"$f":"AND('Ref Score sheet'!B104=\"a\",'Ref Score sheet'!C104=\"RI-on\")","v":false},{"$f":"AND('Ref Score sheet'!B104 = \"a\",'Ref Score sheet'!C104 = \"CON - OFF\")","v":false},{"$f":"AND('Ref Score sheet'!B104 = \"a\",'Ref Score sheet'!C104 = \"CON - ON\")","v":false},{"$f":"AND('Ref Score sheet'!B104=\"a\",'Ref Score sheet'!C104=\"RT-on\")","v":false},{"$f":"AND('Ref Score sheet'!B104=\"a\",'Ref Score sheet'!C104=\"RT-off\")","v":false},{"$f":"AND('Ref Score sheet'!$B104 = \"a\",'Ref Score sheet'!$C104 = \"rc\")","v":false},{"$f":"AND('Ref Score sheet'!$B104 = \"a\",'Ref Score sheet'!$C104 = \"rcr\")","v":false},{"$f":"AND('Ref Score sheet'!$B104 = \"a\",'Ref Score sheet'!$C104 = \"yc\")","v":false},{"$f":"AND('Ref Score sheet'!$B104 = \"a\",'Ref Score sheet'!$C104 = \"2nd yc\")","v":false},null,{"$f":"AND('Ref Score sheet'!B104 = \"\",'Ref Score sheet'!C104 = \"fh-e\")","v":false},""]
[null,{"$f":"AND('Ref Score sheet'!B105 = \"h\",'Ref Score sheet'!C105 = \"t\")","v":false},{"$f":"AND('Ref Score sheet'!B105 = \"h\",'Ref Score sheet'!C105 = \"pt\")","v":false},{"$f":"AND('Ref Score sheet'!B105 = \"h\",'Ref Score sheet'!C105 = \"c\")","v":false},{"$f":"AND('Ref Score sheet'!B105 = \"h\",'Ref Score sheet'!C105 = \"p\")","v":false},{"$f":"AND('Ref Score sheet'!B105 = \"h\",'Ref Score sheet'!C105 = \"dg\")","v":false},0,0,0,0,0,0,0,null,null,{"$f":"AND('Ref Score sheet'!B105 = \"h\",'Ref Score sheet'!C105 = \"bl-off\")","v":false},{"$f":"AND('Ref Score sheet'!B105 = \"h\",'Ref Score sheet'!C105 = \"bl-on\")","v":false},{"$f":"AND('Ref Score sheet'!B105 = \"h\",'Ref Score sheet'!C105 = \"blr-off\")","v":false},{"$f":"AND('Ref Score sheet'!B105 = \"h\",'Ref Score sheet'!C105 = \"blr-on\")","v":false},{"$f":"AND('Ref Score sheet'!B105 = \"h\",'Ref Score sheet'!C105 = \"RI-off\")","v":false},{"$f":"AND('Ref Score sheet'!B105 = \"h\",'Ref Score sheet'!C105 = \"RI-on\")","v":false},{"$f":"AND('Ref Score sheet'!B105 = \"h\",'Ref Score sheet'!C105 = \"CON-OFF\")","v":false},{"$f":"AND('Ref Score sheet'!B105 = \"h\",'Ref Score sheet'!C105 = \"CON-ON\")","v":false},{"$f":"AND('Ref Score sheet'!B105 = \"h\",'Ref Score sheet'!C105 = \"RT-on\")","v":false},{"$f":"AND('Ref Score sheet'!B105 = \"h\",'Ref Score sheet'!C105 = \"RT-off\")","v":false},{"$f":"AND('Ref Score sheet'!$B105 = \"h\",'Ref Score sheet'!$C105 = \"rc\")","v":false},{"$f":"AND('Ref Score sheet'!$B105 = \"h\",'Ref Score sheet'!$C105 = \"rcr\")","v":false},{"$f":"AND('Ref Score sheet'!$B105 = \"h\",'Ref Score sheet'!$C105 = \"yc\")","v":false},{"$f":"AND('Ref Score sheet'!$B105 = \"h\",'Ref Score sheet'!$C105 = \"2nd yc\")","v":false},null,{"$f":"AND('Ref Score sheet'!B105 = \"\",'Ref Score sheet'!C105 = \"fh-e\")","v":false},"",null,null,{"$f":"AND('Ref Score sheet'!B105=\"a\",'Ref Score sheet'!C105=\"t\")","v":false},{"$f":"AND('Ref Score sheet'!B105=\"a\",'Ref Score sheet'!C105=\"pt\")","v":false},{"$f":"AND('Ref Score sheet'!B105=\"a\",'Ref Score sheet'!C105=\"c\")","v":false},{"$f":"AND('Ref Score sheet'!B105=\"a\",'Ref Score sheet'!C105=\"p\")","v":false},{"$f":"AND('Ref Score sheet'!B105=\"a\",'Ref Score sheet'!C105=\"dg\")","v":false},0,0,0,0,0,0,0,null,{"$f":"AND('Ref Score sheet'!B105=\"a\",'Ref Score sheet'!C105=\"bl-off\")","v":false},{"$f":"AND('Ref Score sheet'!B105=\"a\",'Ref Score sheet'!C105=\"bl-on\")","v":false},{"$f":"AND('Ref Score sheet'!B105 = \"a\",'Ref Score sheet'!C105 = \"blr-off\")","v":false},{"$f":"AND('Ref Score sheet'!B105 = \"a\",'Ref Score sheet'!C105 = \"blr-on\")","v":false},{"$f":"AND('Ref Score sheet'!B105=\"a\",'Ref Score sheet'!C105=\"RI-off\")","v":false},{"$f":"AND('Ref Score sheet'!B105=\"a\",'Ref Score sheet'!C105=\"RI-on\")","v":false},{"$f":"AND('Ref Score sheet'!B105 = \"a\",'Ref Score sheet'!C105 = \"CON - OFF\")","v":false},{"$f":"AND('Ref Score sheet'!B105 = \"a\",'Ref Score sheet'!C105 = \"CON - ON\")","v":false},{"$f":"AND('Ref Score sheet'!B105=\"a\",'Ref Score sheet'!C105=\"RT-on\")","v":false},{"$f":"AND('Ref Score sheet'!B105=\"a\",'Ref Score sheet'!C105=\"RT-off\")","v":false},{"$f":"AND('Ref Score sheet'!$B105 = \"a\",'Ref Score sheet'!$C105 = \"rc\")","v":false},{"$f":"AND('Ref Score sheet'!$B105 = \"a\",'Ref Score sheet'!$C105 = \"rcr\")","v":false},{"$f":"AND('Ref Score sheet'!$B105 = \"a\",'Ref Score sheet'!$C105 = \"yc\")","v":false},{"$f":"AND('Ref Score sheet'!$B105 = \"a\",'Ref Score sheet'!$C105 = \"2nd yc\")","v":false},null,{"$f":"AND('Ref Score sheet'!B105 = \"\",'Ref Score sheet'!C105 = \"fh-e\")","v":false},""]
[null,{"$f":"AND('Ref Score sheet'!B106 = \"h\",'Ref Score sheet'!C106 = \"t\")","v":false},{"$f":"AND('Ref Score sheet'!B106 = \"h\",'Ref Score sheet'!C106 = \"pt\")","v":false},{"$f":"AND('Ref Score sheet'!B106 = \"h\",'Ref Score sheet'!C106 = \"c\")","v":false},{"$f":"AND('Ref Score sheet'!B106 = \"h\",'Ref Score sheet'!C106 = \"p\")","v":false},{"$f":"AND('Ref Score sheet'!B106 = \"h\",'Ref Score sheet'!C106 = \"dg\")","v":false},0,0,0,0,0,0,0,null,null,{"$f":"AND('Ref Score sheet'!B106 = \"h\",'Ref Score sheet'!C106 = \"bl-off\")","v":false},{"$f":"AND('Ref Score sheet'!B106 = \"h\",'Ref Score sheet'!C106 = \"bl-on\")","v":false},{"$f":"AND('Ref Score sheet'!B106 = \"h\",'Ref Score sheet'!C106 = \"blr-off\")","v":false},{"$f":"AND('Ref Score sheet'!B106 = \"h\",'Ref Score sheet'!C106 = \"blr-on\")","v":false},{"$f":"AND('Ref Score sheet'!B106 = \"h\",'Ref Score sheet'!C106 = \"RI-off\")","v":false},{"$f":"AND('Ref Score sheet'!B106 = \"h\",'Ref Score sheet'!C106 = \"RI-on\")","v":false},{"$f":"AND('Ref Score sheet'!B106 = \"h\",'Ref Score sheet'!C106 = \"CON-OFF\")","v":false},{"$f":"AND('Ref Score sheet'!B106 = \"h\",'Ref Score sheet'!C106 = \"CON-ON\")","v":false},{"$f":"AND('Ref Score sheet'!B106 = \"h\",'Ref Score sheet'!C106 = \"RT-on\")","v":false},{"$f":"AND('Ref Score sheet'!B106 = \"h\",'Ref Score sheet'!C106 = \"RT-off\")","v":false},{"$f":"AND('Ref Score sheet'!$B106 = \"h\",'Ref Score sheet'!$C106 = \"rc\")","v":false},{"$f":"AND('Ref Score sheet'!$B106 = \"h\",'Ref Score sheet'!$C106 = \"rcr\")","v":false},{"$f":"AND('Ref Score sheet'!$B106 = \"h\",'Ref Score sheet'!$C106 = \"yc\")","v":false},{"$f":"AND('Ref Score sheet'!$B106 = \"h\",'Ref Score sheet'!$C106 = \"2nd yc\")","v":false},null,{"$f":"AND('Ref Score sheet'!B106 = \"\",'Ref Score sheet'!C106 = \"fh-e\")","v":false},"",null,null,{"$f":"AND('Ref Score sheet'!B106=\"a\",'Ref Score sheet'!C106=\"t\")","v":false},{"$f":"AND('Ref Score sheet'!B106=\"a\",'Ref Score sheet'!C106=\"pt\")","v":false},{"$f":"AND('Ref Score sheet'!B106=\"a\",'Ref Score sheet'!C106=\"c\")","v":false},{"$f":"AND('Ref Score sheet'!B106=\"a\",'Ref Score sheet'!C106=\"p\")","v":false},{"$f":"AND('Ref Score sheet'!B106=\"a\",'Ref Score sheet'!C106=\"dg\")","v":false},0,0,0,0,0,0,0,null,{"$f":"AND('Ref Score sheet'!B106=\"a\",'Ref Score sheet'!C106=\"bl-off\")","v":false},{"$f":"AND('Ref Score sheet'!B106=\"a\",'Ref Score sheet'!C106=\"bl-on\")","v":false},{"$f":"AND('Ref Score sheet'!B106 = \"a\",'Ref Score sheet'!C106 = \"blr-off\")","v":false},{"$f":"AND('Ref Score sheet'!B106 = \"a\",'Ref Score sheet'!C106 = \"blr-on\")","v":false},{"$f":"AND('Ref Score sheet'!B106=\"a\",'Ref Score sheet'!C106=\"RI-off\")","v":false},{"$f":"AND('Ref Score sheet'!B106=\"a\",'Ref Score sheet'!C106=\"RI-on\")","v":false},{"$f":"AND('Ref Score sheet'!B106 = \"a\",'Ref Score sheet'!C106 = \"CON - OFF\")","v":false},{"$f":"AND('Ref Score sheet'!B106 = \"a\",'Ref Score sheet'!C106 = \"CON - ON\")","v":false},{"$f":"AND('Ref Score sheet'!B106=\"a\",'Ref Score sheet'!C106=\"RT-on\")","v":false},{"$f":"AND('Ref Score sheet'!B106=\"a\",'Ref Score sheet'!C106=\"RT-off\")","v":false},{"$f":"AND('Ref Score sheet'!$B106 = \"a\",'Ref Score sheet'!$C106 = \"rc\")","v":false},{"$f":"AND('Ref Score sheet'!$B106 = \"a\",'Ref Score sheet'!$C106 = \"rcr\")","v":false},{"$f":"AND('Ref Score sheet'!$B106 = \"a\",'Ref Score sheet'!$C106 = \"yc\")","v":false},{"$f":"AND('Ref Score sheet'!$B106 = \"a\",'Ref Score sheet'!$C106 = \"2nd yc\")","v":false},null,{"$f":"AND('Ref Score sheet'!B106 = \"\",'Ref Score sheet'!C106 = \"fh-e\")","v":false},""]
[null,{"$f":"AND('Ref Score sheet'!B107 = \"h\",'Ref Score sheet'!C107 = \"t\")","v":false},{"$f":"AND('Ref Score sheet'!B107 = \"h\",'Ref Score sheet'!C107 = \"pt\")","v":false},{"$f":"AND('Ref Score sheet'!B107 = \"h\",'Ref Score sheet'!C107 = \"c\")","v":false},{"$f":"AND('Ref Score sheet'!B107 = \"h\",'Ref Score sheet'!C107 = \"p\")","v":false},{"$f":"AND('Ref Score sheet'!B107 = \"h\",'Ref Score sheet'!C107 = \"dg\")","v":false},0,0,0,0,0,0,0,null,null,{"$f":"AND('Ref Score sheet'!B107 = \"h\",'Ref Score sheet'!C107 = \"bl-off\")","v":false},{"$f":"AND('Ref Score sheet'!B107 = \"h\",'Ref Score sheet'!C107 = \"bl-on\")","v":false},{"$f":"AND('Ref Score sheet'!B107 = \"h\",'Ref Score sheet'!C107 = \"blr-off\")","v":false},{"$f":"AND('Ref Score sheet'!B107 = \"h\",'Ref Score sheet'!C107 = \"blr-on\")","v":false},{"$f":"AND('Ref Score sheet'!B107 = \"h\",'Ref Score sheet'!C107 = \"RI-off\")","v":false},{"$f":"AND('Ref Score sheet'!B107 = \"h\",'Ref Score sheet'!C107 = \"RI-on\")","v":false},{"$f":"AND('Ref Score sheet'!B107 = \"h\",'Ref Score sheet'!C107 = \"CON-OFF\")","v":false},{"$f":"AND('Ref Score sheet'!B107 = \"h\",'Ref Score sheet'!C107 = \"CON-ON\")","v":false},{"$f":"AND('Ref Score sheet'!B107 = \"h\",'Ref Score sheet'!C107 = \"RT-on\")","v":false},{"$f":"AND('Ref Score sheet'!B107 = \"h\",'Ref Score sheet'!C107 = \"RT-off\")","v":false},{"$f":"AND('Ref Score sheet'!$B107 = \"h\",'Ref Score sheet'!$C107 = \"rc\")","v":false},{"$f":"AND('Ref Score sheet'!$B107 = \"h\",'Ref Score sheet'!$C107 = \"rcr\")","v":false},{"$f":"AND('Ref Score sheet'!$B107 = \"h\",'Ref Score sheet'!$C107 = \"yc\")","v":false},{"$f":"AND('Ref Score sheet'!$B107 = \"h\",'Ref Score sheet'!$C107 = \"2nd yc\")","v":false},null,{"$f":"AND('Ref Score sheet'!B107 = \"\",'Ref Score sheet'!C107 = \"fh-e\")","v":false},"",null,null,{"$f":"AND('Ref Score sheet'!B107=\"a\",'Ref Score sheet'!C107=\"t\")","v":false},{"$f":"AND('Ref Score sheet'!B107=\"a\",'Ref Score sheet'!C107=\"pt\")","v":false},{"$f":"AND('Ref Score sheet'!B107=\"a\",'Ref Score sheet'!C107=\"c\")","v":false},{"$f":"AND('Ref Score sheet'!B107=\"a\",'Ref Score sheet'!C107=\"p\")","v":false},{"$f":"AND('Ref Score sheet'!B107=\"a\",'Ref Score sheet'!C107=\"dg\")","v":false},0,0,0,0,0,0,0,null,{"$f":"AND('Ref Score sheet'!B107=\"a\",'Ref Score sheet'!C107=\"bl-off\")","v":false},{"$f":"AND('Ref Score sheet'!B107=\"a\",'Ref Score sheet'!C107=\"bl-on\")","v":false},{"$f":"AND('Ref Score sheet'!B107 = \"a\",'Ref Score sheet'!C107 = \"blr-off\")","v":false},{"$f":"AND('Ref Score sheet'!B107 = \"a\",'Ref Score sheet'!C107 = \"blr-on\")","v":false},{"$f":"AND('Ref Score sheet'!B107=\"a\",'Ref Score sheet'!C107=\"RI-off\")","v":false},{"$f":"AND('Ref Score sheet'!B107=\"a\",'Ref Score sheet'!C107=\"RI-on\")","v":false},{"$f":"AND('Ref Score sheet'!B107 = \"a\",'Ref Score sheet'!C107 = \"CON - OFF\")","v":false},{"$f":"AND('Ref Score sheet'!B107 = \"a\",'Ref Score sheet'!C107 = \"CON - ON\")","v":false},{"$f":"AND('Ref Score sheet'!B107=\"a\",'Ref Score sheet'!C107=\"RT-on\")","v":false},{"$f":"AND('Ref Score sheet'!B107=\"a\",'Ref Score sheet'!C107=\"RT-off\")","v":false},{"$f":"AND('Ref Score sheet'!$B107 = \"a\",'Ref Score sheet'!$C107 = \"rc\")","v":false},{"$f":"AND('Ref Score sheet'!$B107 = \"a\",'Ref Score sheet'!$C107 = \"rcr\")","v":false},{"$f":"AND('Ref Score sheet'!$B107 = \"a\",'Ref Score sheet'!$C107 = \"yc\")","v":false},{"$f":"AND('Ref Score sheet'!$B107 = \"a\",'Ref Score sheet'!$C107 = \"2nd yc\")","v":false},null,{"$f":"AND('Ref Score sheet'!B107 = \"\",'Ref Score sheet'!C107 = \"fh-e\")","v":false},""]
[null,{"$f":"AND('Ref Score sheet'!B108 = \"h\",'Ref Score sheet'!C108 = \"t\")","v":false},{"$f":"AND('Ref Score sheet'!B108 = \"h\",'Ref Score sheet'!C108 = \"pt\")","v":false},{"$f":"AND('Ref Score sheet'!B108 = \"h\",'Ref Score sheet'!C108 = \"c\")","v":false},{"$f":"AND('Ref Score sheet'!B108 = \"h\",'Ref Score sheet'!C108 = \"p\")","v":false},{"$f":"AND('Ref Score sheet'!B108 = \"h\",'Ref Score sheet'!C108 = \"dg\")","v":false},0,0,0,0,0,0,0,null,null,{"$f":"AND('Ref Score sheet'!B108 = \"h\",'Ref Score sheet'!C108 = \"bl-off\")","v":false},{"$f":"AND('Ref Score sheet'!B108 = \"h\",'Ref Score sheet'!C108 = \"bl-on\")","v":false},{"$f":"AND('Ref Score sheet'!B108 = \"h\",'Ref Score sheet'!C108 = \"blr-off\")","v":false},{"$f":"AND('Ref Score sheet'!B108 = \"h\",'Ref Score sheet'!C108 = \"blr-on\")","v":false},{"$f":"AND('Ref Score sheet'!B108 = \"h\",'Ref Score sheet'!C108 = \"RI-off\")","v":false},{"$f":"AND('Ref Score sheet'!B108 = \"h\",'Ref Score sheet'!C108 = \"RI-on\")","v":false},{"$f":"AND('Ref Score sheet'!B108 = \"h\",'Ref Score sheet'!C108 = \"CON-OFF\")","v":false},{"$f":"AND('Ref Score sheet'!B108 = \"h\",'Ref Score sheet'!C108 = \"CON-ON\")","v":false},{"$f":"AND('Ref Score sheet'!B108 = \"h\",'Ref Score sheet'!C108 = \"RT-on\")","v":false},{"$f":"AND('Ref Score sheet'!B108 = \"h\",'Ref Score sheet'!C108 = \"RT-off\")","v":false},{"$f":"AND('Ref Score sheet'!$B108 = \"h\",'Ref Score sheet'!$C108 = \"rc\")","v":false},{"$f":"AND('Ref Score sheet'!$B108 = \"h\",'Ref Score sheet'!$C108 = \"rcr\")","v":false},{"$f":"AND('Ref Score sheet'!$B108 = \"h\",'Ref Score sheet'!$C108 = \"yc\")","v":false},{"$f":"AND('Ref Score sheet'!$B108 = \"h\",'Ref Score sheet'!$C108 = \"2nd yc\")","v":false},null,{"$f":"AND('Ref Score sheet'!B108 = \"\",'Ref Score sheet'!C108 = \"fh-e\")","v":false},"",null,null,{"$f":"AND('Ref Score sheet'!B108=\"a\",'Ref Score sheet'!C108=\"t\")","v":false},{"$f":"AND('Ref Score sheet'!B108=\"a\",'Ref Score sheet'!C108=\"pt\")","v":false},{"$f":"AND('Ref Score sheet'!B108=\"a\",'Ref Score sheet'!C108=\"c\")","v":false},{"$f":"AND('Ref Score sheet'!B108=\"a\",'Ref Score sheet'!C108=\"p\")","v":false},{"$f":"AND('Ref Score sheet'!B108=\"a\",'Ref Score sheet'!C108=\"dg\")","v":false},0,0,0,0,0,0,0,null,{"$f":"AND('Ref Score sheet'!B108=\"a\",'Ref Score sheet'!C108=\"bl-off\")","v":false},{"$f":"AND('Ref Score sheet'!B108=\"a\",'Ref Score sheet'!C108=\"bl-on\")","v":false},{"$f":"AND('Ref Score sheet'!B108 = \"a\",'Ref Score sheet'!C108 = \"blr-off\")","v":false},{"$f":"AND('Ref Score sheet'!B108 = \"a\",'Ref Score sheet'!C108 = \"blr-on\")","v":false},{"$f":"AND('Ref Score sheet'!B108=\"a\",'Ref Score sheet'!C108=\"RI-off\")","v":false},{"$f":"AND('Ref Score sheet'!B108=\"a\",'Ref Score sheet'!C108=\"RI-on\")","v":false},{"$f":"AND('Ref Score sheet'!B108 = \"a\",'Ref Score sheet'!C108 = \"CON - OFF\")","v":false},{"$f":"AND('Ref Score sheet'!B108 = \"a\",'Ref Score sheet'!C108 = \"CON - ON\")","v":false},{"$f":"AND('Ref Score sheet'!B108=\"a\",'Ref Score sheet'!C108=\"RT-on\")","v":false},{"$f":"AND('Ref Score sheet'!B108=\"a\",'Ref Score sheet'!C108=\"RT-off\")","v":false},{"$f":"AND('Ref Score sheet'!$B108 = \"a\",'Ref Score sheet'!$C108 = \"rc\")","v":false},{"$f":"AND('Ref Score sheet'!$B108 = \"a\",'Ref Score sheet'!$C108 = \"rcr\")","v":false},{"$f":"AND('Ref Score sheet'!$B108 = \"a\",'Ref Score sheet'!$C108 = \"yc\")","v":false},{"$f":"AND('Ref Score sheet'!$B108 = \"a\",'Ref Score sheet'!$C108 = \"2nd yc\")","v":false},null,{"$f":"AND('Ref Score sheet'!B108 = \"\",'Ref Score sheet'!C108 = \"fh-e\")","v":false},""]
[null,{"$f":"AND('Ref Score sheet'!B109 = \"h\",'Ref Score sheet'!C109 = \"t\")","v":false},{"$f":"AND('Ref Score sheet'!B109 = \"h\",'Ref Score sheet'!C109 = \"pt\")","v":false},{"$f":"AND('Ref Score sheet'!B109 = \"h\",'Ref Score sheet'!C109 = \"c\")","v":false},{"$f":"AND('Ref Score sheet'!B109 = \"h\",'Ref Score sheet'!C109 = \"p\")","v":false},{"$f":"AND('Ref Score sheet'!B109 = \"h\",'Ref Score sheet'!C109 = \"dg\")","v":false},0,0,0,0,0,0,0,null,null,{"$f":"AND('Ref Score sheet'!B109 = \"h\",'Ref Score sheet'!C109 = \"bl-off\")","v":false},{"$f":"AND('Ref Score sheet'!B109 = \"h\",'Ref Score sheet'!C109 = \"bl-on\")","v":false},{"$f":"AND('Ref Score sheet'!B109 = \"h\",'Ref Score sheet'!C109 = \"blr-off\")","v":false},{"$f":"AND('Ref Score sheet'!B109 = \"h\",'Ref Score sheet'!C109 = \"blr-on\")","v":false},{"$f":"AND('Ref Score sheet'!B109 = \"h\",'Ref Score sheet'!C109 = \"RI-off\")","v":false},{"$f":"AND('Ref Score sheet'!B109 = \"h\",'Ref Score sheet'!C109 = \"RI-on\")","v":false},{"$f":"AND('Ref Score sheet'!B109 = \"h\",'Ref Score sheet'!C109 = \"CON-OFF\")","v":false},{"$f":"AND('Ref Score sheet'!B109 = \"h\",'Ref Score sheet'!C109 = \"CON-ON\")","v":false},{"$f":"AND('Ref Score sheet'!B109 = \"h\",'Ref Score sheet'!C109 = \"RT-on\")","v":false},{"$f":"AND('Ref Score sheet'!B109 = \"h\",'Ref Score sheet'!C109 = \"RT-off\")","v":false},{"$f":"AND('Ref Score sheet'!$B109 = \"h\",'Ref Score sheet'!$C109 = \"rc\")","v":false},{"$f":"AND('Ref Score sheet'!$B109 = \"h\",'Ref Score sheet'!$C109 = \"rcr\")","v":false},{"$f":"AND('Ref Score sheet'!$B109 = \"h\",'Ref Score sheet'!$C109 = \"yc\")","v":false},{"$f":"AND('Ref Score sheet'!$B109 = \"h\",'Ref Score sheet'!$C109 = \"2nd yc\")","v":false},null,{"$f":"AND('Ref Score sheet'!B109 = \"\",'Ref Score sheet'!C109 = \"fh-e\")","v":false},"",null,null,{"$f":"AND('Ref Score sheet'!B109=\"a\",'Ref Score sheet'!C109=\"t\")","v":false},{"$f":"AND('Ref Score sheet'!B109=\"a\",'Ref Score sheet'!C109=\"pt\")","v":false},{"$f":"AND('Ref Score sheet'!B109=\"a\",'Ref Score sheet'!C109=\"c\")","v":false},{"$f":"AND('Ref Score sheet'!B109=\"a\",'Ref Score sheet'!C109=\"p\")","v":false},{"$f":"AND('Ref Score sheet'!B109=\"a\",'Ref Score sheet'!C109=\"dg\")","v":false},0,0,0,0,0,0,0,null,{"$f":"AND('Ref Score sheet'!B109=\"a\",'Ref Score sheet'!C109=\"bl-off\")","v":false},{"$f":"AND('Ref Score sheet'!B109=\"a\",'Ref Score sheet'!C109=\"bl-on\")","v":false},{"$f":"AND('Ref Score sheet'!B109 = \"a\",'Ref Score sheet'!C109 = \"blr-off\")","v":false},{"$f":"AND('Ref Score sheet'!B109 = \"a\",'Ref Score sheet'!C109 = \"blr-on\")","v":false},{"$f":"AND('Ref Score sheet'!B109=\"a\",'Ref Score sheet'!C109=\"RI-off\")","v":false},{"$f":"AND('Ref Score sheet'!B109=\"a\",'Ref Score sheet'!C109=\"RI-on\")","v":false},{"$f":"AND('Ref Score sheet'!B109 = \"a\",'Ref Score sheet'!C109 = \"CON - OFF\")","v":false},{"$f":"AND('Ref Score sheet'!B109 = \"a\",'Ref Score sheet'!C109 = \"CON - ON\")","v":false},{"$f":"AND('Ref Score sheet'!B109=\"a\",'Ref Score sheet'!C109=\"RT-on\")","v":false},{"$f":"AND('Ref Score sheet'!B109=\"a\",'Ref Score sheet'!C109=\"RT-off\")","v":false},{"$f":"AND('Ref Score sheet'!$B109 = \"a\",'Ref Score sheet'!$C109 = \"rc\")","v":false},{"$f":"AND('Ref Score sheet'!$B109 = \"a\",'Ref Score sheet'!$C109 = \"rcr\")","v":false},{"$f":"AND('Ref Score sheet'!$B109 = \"a\",'Ref Score sheet'!$C109 = \"yc\")","v":false},{"$f":"AND('Ref Score sheet'!$B109 = \"a\",'Ref Score sheet'!$C109 = \"2nd yc\")","v":false},null,{"$f":"AND('Ref Score sheet'!B109 = \"\",'Ref Score sheet'!C109 = \"fh-e\")","v":false},""]
[null,{"$f":"AND('Ref Score sheet'!B110 = \"h\",'Ref Score sheet'!C110 = \"t\")","v":false},{"$f":"AND('Ref Score sheet'!B110 = \"h\",'Ref Score sheet'!C110 = \"pt\")","v":false},{"$f":"AND('Ref Score sheet'!B110 = \"h\",'Ref Score sheet'!C110 = \"c\")","v":false},{"$f":"AND('Ref Score sheet'!B110 = \"h\",'Ref Score sheet'!C110 = \"p\")","v":false},{"$f":"AND('Ref Score sheet'!B110 = \"h\",'Ref Score sheet'!C110 = \"dg\")","v":false},0,0,0,0,0,0,0,null,null,{"$f":"AND('Ref Score sheet'!B110 = \"h\",'Ref Score sheet'!C110 = \"bl-off\")","v":false},{"$f":"AND('Ref Score sheet'!B110 = \"h\",'Ref Score sheet'!C110 = \"bl-on\")","v":false},{"$f":"AND('Ref Score sheet'!B110 = \"h\",'Ref Score sheet'!C110 = \"blr-off\")","v":false},{"$f":"AND('Ref Score sheet'!B110 = \"h\",'Ref Score sheet'!C110 = \"blr-on\")","v":false},{"$f":"AND('Ref Score sheet'!B110 = \"h\",'Ref Score sheet'!C110 = \"RI-off\")","v":false},{"$f":"AND('Ref Score sheet'!B110 = \"h\",'Ref Score sheet'!C110 = \"RI-on\")","v":false},{"$f":"AND('Ref Score sheet'!B110 = \"h\",'Ref Score sheet'!C110 = \"CON-OFF\")","v":false},{"$f":"AND('Ref Score sheet'!B110 = \"h\",'Ref Score sheet'!C110 = \"CON-ON\")","v":false},{"$f":"AND('Ref Score sheet'!B110 = \"h\",'Ref Score sheet'!C110 = \"RT-on\")","v":false},{"$f":"AND('Ref Score sheet'!B110 = \"h\",'Ref Score sheet'!C110 = \"RT-off\")","v":false},{"$f":"AND('Ref Score sheet'!$B110 = \"h\",'Ref Score sheet'!$C110 = \"rc\")","v":false},{"$f":"AND('Ref Score sheet'!$B110 = \"h\",'Ref Score sheet'!$C110 = \"rcr\")","v":false},{"$f":"AND('Ref Score sheet'!$B110 = \"h\",'Ref Score sheet'!$C110 = \"yc\")","v":false},{"$f":"AND('Ref Score sheet'!$B110 = \"h\",'Ref Score sheet'!$C110 = \"2nd yc\")","v":false},null,{"$f":"AND('Ref Score sheet'!B110 = \"\",'Ref Score sheet'!C110 = \"fh-e\")","v":false},"",null,null,{"$f":"AND('Ref Score sheet'!B110=\"a\",'Ref Score sheet'!C110=\"t\")","v":false},{"$f":"AND('Ref Score sheet'!B110=\"a\",'Ref Score sheet'!C110=\"pt\")","v":false},{"$f":"AND('Ref Score sheet'!B110=\"a\",'Ref Score sheet'!C110=\"c\")","v":false},{"$f":"AND('Ref Score sheet'!B110=\"a\",'Ref Score sheet'!C110=\"p\")","v":false},{"$f":"AND('Ref Score sheet'!B110=\"a\",'Ref Score sheet'!C110=\"dg\")","v":false},0,0,0,0,0,0,0,null,{"$f":"AND('Ref Score sheet'!B110=\"a\",'Ref Score sheet'!C110=\"bl-off\")","v":false},{"$f":"AND('Ref Score sheet'!B110=\"a\",'Ref Score sheet'!C110=\"bl-on\")","v":false},{"$f":"AND('Ref Score sheet'!B110 = \"a\",'Ref Score sheet'!C110 = \"blr-off\")","v":false},{"$f":"AND('Ref Score sheet'!B110 = \"a\",'Ref Score sheet'!C110 = \"blr-on\")","v":false},{"$f":"AND('Ref Score sheet'!B110=\"a\",'Ref Score sheet'!C110=\"RI-off\")","v":false},{"$f":"AND('Ref Score sheet'!B110=\"a\",'Ref Score sheet'!C110=\"RI-on\")","v":false},{"$f":"AND('Ref Score sheet'!B110 = \"a\",'Ref Score sheet'!C110 = \"CON - OFF\")","v":false},{"$f":"AND('Ref Score sheet'!B110 = \"a\",'Ref Score sheet'!C110 = \"CON - ON\")","v":false},{"$f":"AND('Ref Score sheet'!B110=\"a\",'Ref Score sheet'!C110=\"RT-on\")","v":false},{"$f":"AND('Ref Score sheet'!B110=\"a\",'Ref Score sheet'!C110=\"RT-off\")","v":false},{"$f":"AND('Ref Score sheet'!$B110 = \"a\",'Ref Score sheet'!$C110 = \"rc\")","v":false},{"$f":"AND('Ref Score sheet'!$B110 = \"a\",'Ref Score sheet'!$C110 = \"rcr\")","v":false},{"$f":"AND('Ref Score sheet'!$B110 = \"a\",'Ref Score sheet'!$C110 = \"yc\")","v":false},{"$f":"AND('Ref Score sheet'!$B110 = \"a\",'Ref Score sheet'!$C110 = \"2nd yc\")","v":false},null,{"$f":"AND('Ref Score sheet'!B110 = \"\",'Ref Score sheet'!C110 = \"fh-e\")","v":false},""]
[null,{"$f":"AND('Ref Score sheet'!B111 = \"h\",'Ref Score sheet'!C111 = \"t\")","v":false},{"$f":"AND('Ref Score sheet'!B111 = \"h\",'Ref Score sheet'!C111 = \"pt\")","v":false},{"$f":"AND('Ref Score sheet'!B111 = \"h\",'Ref Score sheet'!C111 = \"c\")","v":false},{"$f":"AND('Ref Score sheet'!B111 = \"h\",'Ref Score sheet'!C111 = \"p\")","v":false},{"$f":"AND('Ref Score sheet'!B111 = \"h\",'Ref Score sheet'!C111 = \"dg\")","v":false},0,0,0,0,0,0,0,null,null,{"$f":"AND('Ref Score sheet'!B111 = \"h\",'Ref Score sheet'!C111 = \"bl-off\")","v":false},{"$f":"AND('Ref Score sheet'!B111 = \"h\",'Ref Score sheet'!C111 = \"bl-on\")","v":false},{"$f":"AND('Ref Score sheet'!B111 = \"h\",'Ref Score sheet'!C111 = \"blr-off\")","v":false},{"$f":"AND('Ref Score sheet'!B111 = \"h\",'Ref Score sheet'!C111 = \"blr-on\")","v":false},{"$f":"AND('Ref Score sheet'!B111 = \"h\",'Ref Score sheet'!C111 = \"RI-off\")","v":false},{"$f":"AND('Ref Score sheet'!B111 = \"h\",'Ref Score sheet'!C111 = \"RI-on\")","v":false},{"$f":"AND('Ref Score sheet'!B111 = \"h\",'Ref Score sheet'!C111 = \"CON-OFF\")","v":false},{"$f":"AND('Ref Score sheet'!B111 = \"h\",'Ref Score sheet'!C111 = \"CON-ON\")","v":false},{"$f":"AND('Ref Score sheet'!B111 = \"h\",'Ref Score sheet'!C111 = \"RT-on\")","v":false},{"$f":"AND('Ref Score sheet'!B111 = \"h\",'Ref Score sheet'!C111 = \"RT-off\")","v":false},{"$f":"AND('Ref Score sheet'!$B111 = \"h\",'Ref Score sheet'!$C111 = \"rc\")","v":false},{"$f":"AND('Ref Score sheet'!$B111 = \"h\",'Ref Score sheet'!$C111 = \"rcr\")","v":false},{"$f":"AND('Ref Score sheet'!$B111 = \"h\",'Ref Score sheet'!$C111 = \"yc\")","v":false},{"$f":"AND('Ref Score sheet'!$B111 = \"h\",'Ref Score sheet'!$C111 = \"2nd yc\")","v":false},null,{"$f":"AND('Ref Score sheet'!B111 = \"\",'Ref Score sheet'!C111 = \"fh-e\")","v":false},"",null,null,{"$f":"AND('Ref Score sheet'!B111=\"a\",'Ref Score sheet'!C111=\"t\")","v":false},{"$f":"AND('Ref Score sheet'!B111=\"a\",'Ref Score sheet'!C111=\"pt\")","v":false},{"$f":"AND('Ref Score sheet'!B111=\"a\",'Ref Score sheet'!C111=\"c\")","v":false},{"$f":"AND('Ref Score sheet'!B111=\"a\",'Ref Score sheet'!C111=\"p\")","v":false},{"$f":"AND('Ref Score sheet'!B111=\"a\",'Ref Score sheet'!C111=\"dg\")","v":false},0,0,0,0,0,0,0,null,{"$f":"AND('Ref Score sheet'!B111=\"a\",'Ref Score sheet'!C111=\"bl-off\")","v":false},{"$f":"AND('Ref Score sheet'!B111=\"a\",'Ref Score sheet'!C111=\"bl-on\")","v":false},{"$f":"AND('Ref Score sheet'!B111 = \"a\",'Ref Score sheet'!C111 = \"blr-off\")","v":false},{"$f":"AND('Ref Score sheet'!B111 = \"a\",'Ref Score sheet'!C111 = \"blr-on\")","v":false},{"$f":"AND('Ref Score sheet'!B111=\"a\",'Ref Score sheet'!C111=\"RI-off\")","v":false},{"$f":"AND('Ref Score sheet'!B111=\"a\",'Ref Score sheet'!C111=\"RI-on\")","v":false},{"$f":"AND('Ref Score sheet'!B111 = \"a\",'Ref Score sheet'!C111 = \"CON - OFF\")","v":false},{"$f":"AND('Ref Score sheet'!B111 = \"a\",'Ref Score sheet'!C111 = \"CON - ON\")","v":false},{"$f":"AND('Ref Score sheet'!B111=\"a\",'Ref Score sheet'!C111=\"RT-on\")","v":false},{"$f":"AND('Ref Score sheet'!B111=\"a\",'Ref Score sheet'!C111=\"RT-off\")","v":false},{"$f":"AND('Ref Score sheet'!$B111 = \"a\",'Ref Score sheet'!$C111 = \"rc\")","v":false},{"$f":"AND('Ref Score sheet'!$B111 = \"a\",'Ref Score sheet'!$C111 = \"rcr\")","v":false},{"$f":"AND('Ref Score sheet'!$B111 = \"a\",'Ref Score sheet'!$C111 = \"yc\")","v":false},{"$f":"AND('Ref Score sheet'!$B111 = \"a\",'Ref Score sheet'!$C111 = \"2nd yc\")","v":false},null,{"$f":"AND('Ref Score sheet'!B111 = \"\",'Ref Score sheet'!C111 = \"fh-e\")","v":false},""]
[null,{"$f":"AND('Ref Score sheet'!B112 = \"h\",'Ref Score sheet'!C112 = \"t\")","v":false},{"$f":"AND('Ref Score sheet'!B112 = \"h\",'Ref Score sheet'!C112 = \"pt\")","v":false},{"$f":"AND('Ref Score sheet'!B112 = \"h\",'Ref Score sheet'!C112 = \"c\")","v":false},{"$f":"AND('Ref Score sheet'!B112 = \"h\",'Ref Score sheet'!C112 = \"p\")","v":false},{"$f":"AND('Ref Score sheet'!B112 = \"h\",'Ref Score sheet'!C112 = \"dg\")","v":false},0,0,0,0,0,0,0,null,null,{"$f":"AND('Ref Score sheet'!B112 = \"h\",'Ref Score sheet'!C112 = \"bl-off\")","v":false},{"$f":"AND('Ref Score sheet'!B112 = \"h\",'Ref Score sheet'!C112 = \"bl-on\")","v":false},{"$f":"AND('Ref Score sheet'!B112 = \"h\",'Ref Score sheet'!C112 = \"blr-off\")","v":false},{"$f":"AND('Ref Score sheet'!B112 = \"h\",'Ref Score sheet'!C112 = \"blr-on\")","v":false},{"$f":"AND('Ref Score sheet'!B112 = \"h\",'Ref Score sheet'!C112 = \"RI-off\")","v":false},{"$f":"AND('Ref Score sheet'!B112 = \"h\",'Ref Score sheet'!C112 = \"RI-on\")","v":false},{"$f":"AND('Ref Score sheet'!B112 = \"h\",'Ref Score sheet'!C112 = \"CON-OFF\")","v":false},{"$f":"AND('Ref Score sheet'!B112 = \"h\",'Ref Score sheet'!C112 = \"CON-ON\")","v":false},{"$f":"AND('Ref Score sheet'!B112 = \"h\",'Ref Score sheet'!C112 = \"RT-on\")","v":false},{"$f":"AND('Ref Score sheet'!B112 = \"h\",'Ref Score sheet'!C112 = \"RT-off\")","v":false},{"$f":"AND('Ref Score sheet'!$B112 = \"h\",'Ref Score sheet'!$C112 = \"rc\")","v":false},{"$f":"AND('Ref Score sheet'!$B112 = \"h\",'Ref Score sheet'!$C112 = \"rcr\")","v":false},{"$f":"AND('Ref Score sheet'!$B112 = \"h\",'Ref Score sheet'!$C112 = \"yc\")","v":false},{"$f":"AND('Ref Score sheet'!$B112 = \"h\",'Ref Score sheet'!$C112 = \"2nd yc\")","v":false},null,{"$f":"AND('Ref Score sheet'!B112 = \"\",'Ref Score sheet'!C112 = \"fh-e\")","v":false},"",null,null,{"$f":"AND('Ref Score sheet'!B112=\"a\",'Ref Score sheet'!C112=\"t\")","v":false},{"$f":"AND('Ref Score sheet'!B112=\"a\",'Ref Score sheet'!C112=\"pt\")","v":false},{"$f":"AND('Ref Score sheet'!B112=\"a\",'Ref Score sheet'!C112=\"c\")","v":false},{"$f":"AND('Ref Score sheet'!B112=\"a\",'Ref Score sheet'!C112=\"p\")","v":false},{"$f":"AND('Ref Score sheet'!B112=\"a\",'Ref Score sheet'!C112=\"dg\")","v":false},0,0,0,0,0,0,0,null,{"$f":"AND('Ref Score sheet'!B112=\"a\",'Ref Score sheet'!C112=\"bl-off\")","v":false},{"$f":"AND('Ref Score sheet'!B112=\"a\",'Ref Score sheet'!C112=\"bl-on\")","v":false},{"$f":"AND('Ref Score sheet'!B112 = \"a\",'Ref Score sheet'!C112 = \"blr-off\")","v":false},{"$f":"AND('Ref Score sheet'!B112 = \"a\",'Ref Score sheet'!C112 = \"blr-on\")","v":false},{"$f":"AND('Ref Score sheet'!B112=\"a\",'Ref Score sheet'!C112=\"RI-off\")","v":false},{"$f":"AND('Ref Score sheet'!B112=\"a\",'Ref Score sheet'!C112=\"RI-on\")","v":false},{"$f":"AND('Ref Score sheet'!B112 = \"a\",'Ref Score sheet'!C112 = \"CON - OFF\")","v":false},{"$f":"AND('Ref Score sheet'!B112 = \"a\",'Ref Score sheet'!C112 = \"CON - ON\")","v":false},{"$f":"AND('Ref Score sheet'!B112=\"a\",'Ref Score sheet'!C112=\"RT-on\")","v":false},{"$f":"AND('Ref Score sheet'!B112=\"a\",'Ref Score sheet'!C112=\"RT-off\")","v":false},{"$f":"AND('Ref Score sheet'!$B112 = \"a\",'Ref Score sheet'!$C112 = \"rc\")","v":false},{"$f":"AND('Ref Score sheet'!$B112 = \"a\",'Ref Score sheet'!$C112 = \"rcr\")","v":false},{"$f":"AND('Ref Score sheet'!$B112 = \"a\",'Ref Score sheet'!$C112 = \"yc\")","v":false},{"$f":"AND('Ref Score sheet'!$B112 = \"a\",'Ref Score sheet'!$C112 = \"2nd yc\")","v":false},null,{"$f":"AND('Ref Score sheet'!B112 = \"\",'Ref Score sheet'!C112 = \"fh-e\")","v":false},""]
[null,{"$f":"AND('Ref Score sheet'!B113 = \"h\",'Ref Score sheet'!C113 = \"t\")","v":false},{"$f":"AND('Ref Score sheet'!B113 = \"h\",'Ref Score sheet'!C113 = \"pt\")","v":false},{"$f":"AND('Ref Score sheet'!B113 = \"h\",'Ref Score sheet'!C113 = \"c\")","v":false},{"$f":"AND('Ref Score sheet'!B113 = \"h\",'Ref Score sheet'!C113 = \"p\")","v":false},{"$f":"AND('Ref Score sheet'!B113 = \"h\",'Ref Score sheet'!C113 = \"dg\")","v":false},{"$f":"IF(B108 = TRUE,5,0)","v":0},{"$f":"IF(C108 = TRUE,7,0)","v":0},{"$f":"IF(D108 = TRUE,2,0)","v":0},{"$f":"IF(E108 = TRUE,3,0)","v":0},{"$f":"IF(F108 = TRUE,3,0)","v":0},{"$f":"SUM(G108:K108)","v":0},0,null,null,{"$f":"AND('Ref Score sheet'!B113 = \"h\",'Ref Score sheet'!C113 = \"bl-off\")","v":false},{"$f":"AND('Ref Score sheet'!B113 = \"h\",'Ref Score sheet'!C113 = \"bl-on\")","v":false},{"$f":"AND('Ref Score sheet'!B113 = \"h\",'Ref Score sheet'!C113 = \"blr-off\")","v":false},{"$f":"AND('Ref Score sheet'!B113 = \"h\",'Ref Score sheet'!C113 = \"blr-on\")","v":false},{"$f":"AND('Ref Score sheet'!B113 = \"h\",'Ref Score sheet'!C113 = \"RI-off\")","v":false},{"$f":"AND('Ref Score sheet'!B113 = \"h\",'Ref Score sheet'!C113 = \"RI-on\")","v":false},{"$f":"AND('Ref Score sheet'!B113 = \"h\",'Ref Score sheet'!C113 = \"CON-OFF\")","v":false},{"$f":"AND('Ref Score sheet'!B113 = \"h\",'Ref Score sheet'!C113 = \"CON-ON\")","v":false},{"$f":"AND('Ref Score sheet'!B113 = \"h\",'Ref Score sheet'!C113 = \"RT-on\")","v":false},{"$f":"AND('Ref Score sheet'!B113 = \"h\",'Ref Score sheet'!C113 = \"RT-off\")","v":false},{"$f":"AND('Ref Score sheet'!$B113 = \"h\",'Ref Score sheet'!$C113 = \"rc\")","v":false},{"$f":"AND('Ref Score sheet'!$B113 = \"h\",'Ref Score sheet'!$C113 = \"rcr\")","v":false},{"$f":"AND('Ref Score sheet'!$B113 = \"h\",'Ref Score sheet'!$C113 = \"yc\")","v":false},{"$f":"AND('Ref Score sheet'!$B113 = \"h\",'Ref Score sheet'!$C113 = \"2nd yc\")","v":false},null,{"$f":"AND('Ref Score sheet'!B113 = \"\",'Ref Score sheet'!C113 = \"fh-e\")","v":false},"",null,null,{"$f":"AND('Ref Score sheet'!B113=\"a\",'Ref Score sheet'!C113=\"t\")","v":false},{"$f":"AND('Ref Score sheet'!B113=\"a\",'Ref Score sheet'!C113=\"pt\")","v":false},{"$f":"AND('Ref Score sheet'!B113=\"a\",'Ref Score sheet'!C113=\"c\")","v":false},{"$f":"AND('Ref Score sheet'!B113=\"a\",'Ref Score sheet'!C113=\"p\")","v":false},{"$f":"AND('Ref Score sheet'!B113=\"a\",'Ref Score sheet'!C113=\"dg\")","v":false},{"$f":"IF(AI108 = TRUE,5,0)","v":0},{"$f":"IF(AJ108 = TRUE,7,0)","v":0},{"$f":"IF(AK108 = TRUE,2,0)","v":0},{"$f":"IF(AL108 = TRUE,3,0)","v":0},{"$f":"IF(AM108 = TRUE,3,0)","v":0},{"$f":"SUM(AN108:AR108)","v":0},0,null,{"$f":"AND('Ref Score sheet'!B113=\"a\",'Ref Score sheet'!C113=\"bl-off\")","v":false},{"$f":"AND('Ref Score sheet'!B113=\"a\",'Ref Score sheet'!C113=\"bl-on\")","v":false},{"$f":"AND('Ref Score sheet'!B113 = \"a\",'Ref Score sheet'!C113 = \"blr-off\")","v":false},{"$f":"AND('Ref Score sheet'!B113 = \"a\",'Ref Score sheet'!C113 = \"blr-on\")","v":false},{"$f":"AND('Ref Score sheet'!B113=\"a\",'Ref Score sheet'!C113=\"RI-off\")","v":false},{"$f":"AND('Ref Score sheet'!B113=\"a\",'Ref Score sheet'!C113=\"RI-on\")","v":false},{"$f":"AND('Ref Score sheet'!B113 = \"a\",'Ref Score sheet'!C113 = \"CON - OFF\")","v":false},{"$f":"AND('Ref Score sheet'!B113 = \"a\",'Ref Score sheet'!C113 = \"CON - ON\")","v":false},{"$f":"AND('Ref Score sheet'!B113=\"a\",'Ref Score sheet'!C113=\"RT-on\")","v":false},{"$f":"AND('Ref Score sheet'!B113=\"a\",'Ref Score sheet'!C113=\"RT-off\")","v":false},{"$f":"AND('Ref Score sheet'!$B113 = \"a\",'Ref Score sheet'!$C113 = \"rc\")","v":false},{"$f":"AND('Ref Score sheet'!$B113 = \"a\",'Ref Score sheet'!$C113 = \"rcr\")","v":false},{"$f":"AND('Ref Score sheet'!$B113 = \"a\",'Ref Score sheet'!$C113 = \"yc\")","v":false},{"$f":"AND('Ref Score sheet'!$B113 = \"a\",'Ref Score sheet'!$C113 = \"2nd yc\")","v":false},null,{"$f":"AND('Ref Score sheet'!B113 = \"\",'Ref Score sheet'!C113 = \"fh-e\")","v":false},""]
[null,{"$f":"AND('Ref Score sheet'!B114 = \"h\",'Ref Score sheet'!C114 = \"t\")","v":false},{"$f":"AND('Ref Score sheet'!B114 = \"h\",'Ref Score sheet'!C114 = \"pt\")","v":false},{"$f":"AND('Ref Score sheet'!B114 = \"h\",'Ref Score sheet'!C114 = \"c\")","v":false},{"$f":"AND('Ref Score sheet'!B114 = \"h\",'Ref Score sheet'!C114 = \"p\")","v":false},{"$f":"AND('Ref Score sheet'!B114 = \"h\",'Ref Score sheet'!C114 = \"dg\")","v":false},0,0,0,0,0,0,0,null,null,{"$f":"AND('Ref Score sheet'!B114 = \"h\",'Ref Score sheet'!C114 = \"bl-off\")","v":false},{"$f":"AND('Ref Score sheet'!B114 = \"h\",'Ref Score sheet'!C114 = \"bl-on\")","v":false},{"$f":"AND('Ref Score sheet'!B114 = \"h\",'Ref Score sheet'!C114 = \"blr-off\")","v":false},{"$f":"AND('Ref Score sheet'!B114 = \"h\",'Ref Score sheet'!C114 = \"blr-on\")","v":false},{"$f":"AND('Ref Score sheet'!B114 = \"h\",'Ref Score sheet'!C114 = \"RI-off\")","v":false},{"$f":"AND('Ref Score sheet'!B114 = \"h\",'Ref Score sheet'!C114 = \"RI-on\")","v":false},{"$f":"AND('Ref Score sheet'!B114 = \"h\",'Ref Score sheet'!C114 = \"CON-OFF\")","v":false},{"$f":"AND('Ref Score sheet'!B114 = \"h\",'Ref Score sheet'!C114 = \"CON-ON\")","v":false},{"$f":"AND('Ref Score sheet'!B114 = \"h\",'Ref Score sheet'!C114 = \"RT-on\")","v":false},{"$f":"AND('Ref Score sheet'!B114 = \"h\",'Ref Score sheet'!C114 = \"RT-off\")","v":false},{"$f":"AND('Ref Score sheet'!$B114 = \"h\",'Ref Score sheet'!$C114 = \"rc\")","v":false},{"$f":"AND('Ref Score sheet'!$B114 = \"h\",'Ref Score sheet'!$C114 = \"rcr\")","v":false},{"$f":"AND('Ref Score sheet'!$B114 = \"h\",'Ref Score sheet'!$C114 = \"yc\")","v":false},{"$f":"AND('Ref Score sheet'!$B114 = \"h\",'Ref Score sheet'!$C114 = \"2nd yc\")","v":false},null,{"$f":"AND('Ref Score sheet'!B114 = \"\",'Ref Score sheet'!C114 = \"fh-e\")","v":false},"",null,null,{"$f":"AND('Ref Score sheet'!B114=\"a\",'Ref Score sheet'!C114=\"t\")","v":false},{"$f":"AND('Ref Score sheet'!B114=\"a\",'Ref Score sheet'!C114=\"pt\")","v":false},{"$f":"AND('Ref Score sheet'!B114=\"a\",'Ref Score sheet'!C114=\"c\")","v":false},{"$f":"AND('Ref Score sheet'!B114=\"a\",'Ref Score sheet'!C114=\"p\")","v":false},{"$f":"AND('Ref Score sheet'!B114=\"a\",'Ref Score sheet'!C114=\"dg\")","v":false},0,0,0,0,0,0,0,null,{"$f":"AND('Ref Score sheet'!B114=\"a\",'Ref Score sheet'!C114=\"bl-off\")","v":false},{"$f":"AND('Ref Score sheet'!B114=\"a\",'Ref Score sheet'!C114=\"bl-on\")","v":false},{"$f":"AND('Ref Score sheet'!B114 = \"a\",'Ref Score sheet'!C114 = \"blr-off\")","v":false},{"$f":"AND('Ref Score sheet'!B114 = \"a\",'Ref Score sheet'!C114 = \"blr-on\")","v":false},{"$f":"AND('Ref Score sheet'!B114=\"a\",'Ref Score sheet'!C114=\"RI-off\")","v":false},{"$f":"AND('Ref Score sheet'!B114=\"a\",'Ref Score sheet'!C114=\"RI-on\")","v":false},{"$f":"AND('Ref Score sheet'!B114 = \"a\",'Ref Score sheet'!C114 = \"CON - OFF\")","v":false},{"$f":"AND('Ref Score sheet'!B114 = \"a\",'Ref Score sheet'!C114 = \"CON - ON\")","v":false},{"$f":"AND('Ref Score sheet'!B114=\"a\",'Ref Score sheet'!C114=\"RT-on\")","v":false},{"$f":"AND('Ref Score sheet'!B114=\"a\",'Ref Score sheet'!C114=\"RT-off\")","v":false},{"$f":"AND('Ref Score sheet'!$B114 = \"a\",'Ref Score sheet'!$C114 = \"rc\")","v":false},{"$f":"AND('Ref Score sheet'!$B114 = \"a\",'Ref Score sheet'!$C114 = \"rcr\")","v":false},{"$f":"AND('Ref Score sheet'!$B114 = \"a\",'Ref Score sheet'!$C114 = \"yc\")","v":false},{"$f":"AND('Ref Score sheet'!$B114 = \"a\",'Ref Score sheet'!$C114 = \"2nd yc\")","v":false},null,{"$f":"AND('Ref Score sheet'!B114 = \"\",'Ref Score sheet'!C114 = \"fh-e\")","v":false},""]
[null,{"$f":"AND('Ref Score sheet'!B115 = \"h\",'Ref Score sheet'!C115 = \"t\")","v":false},{"$f":"AND('Ref Score sheet'!B115 = \"h\",'Ref Score sheet'!C115 = \"pt\")","v":false},{"$f":"AND('Ref Score sheet'!B115 = \"h\",'Ref Score sheet'!C115 = \"c\")","v":false},{"$f":"AND('Ref Score sheet'!B115 = \"h\",'Ref Score sheet'!C115 = \"p\")","v":false},{"$f":"AND('Ref Score sheet'!B115 = \"h\",'Ref Score sheet'!C115 = \"dg\")","v":false},0,0,0,0,0,0,0,null,null,{"$f":"AND('Ref Score sheet'!B115 = \"h\",'Ref Score sheet'!C115 = \"bl-off\")","v":false},{"$f":"AND('Ref Score sheet'!B115 = \"h\",'Ref Score sheet'!C115 = \"bl-on\")","v":false},{"$f":"AND('Ref Score sheet'!B115 = \"h\",'Ref Score sheet'!C115 = \"blr-off\")","v":false},{"$f":"AND('Ref Score sheet'!B115 = \"h\",'Ref Score sheet'!C115 = \"blr-on\")","v":false},{"$f":"AND('Ref Score sheet'!B115 = \"h\",'Ref Score sheet'!C115 = \"RI-off\")","v":false},{"$f":"AND('Ref Score sheet'!B115 = \"h\",'Ref Score sheet'!C115 = \"RI-on\")","v":false},{"$f":"AND('Ref Score sheet'!B115 = \"h\",'Ref Score sheet'!C115 = \"CON-OFF\")","v":false},{"$f":"AND('Ref Score sheet'!B115 = \"h\",'Ref Score sheet'!C115 = \"CON-ON\")","v":false},{"$f":"AND('Ref Score sheet'!B115 = \"h\",'Ref Score sheet'!C115 = \"RT-on\")","v":false},{"$f":"AND('Ref Score sheet'!B115 = \"h\",'Ref Score sheet'!C115 = \"RT-off\")","v":false},{"$f":"AND('Ref Score sheet'!$B115 = \"h\",'Ref Score sheet'!$C115 = \"rc\")","v":false},{"$f":"AND('Ref Score sheet'!$B115 = \"h\",'Ref Score sheet'!$C115 = \"rcr\")","v":false},{"$f":"AND('Ref Score sheet'!$B115 = \"h\",'Ref Score sheet'!$C115 = \"yc\")","v":false},{"$f":"AND('Ref Score sheet'!$B115 = \"h\",'Ref Score sheet'!$C115 = \"2nd yc\")","v":false},null,{"$f":"AND('Ref Score sheet'!B115 = \"\",'Ref Score sheet'!C115 = \"fh-e\")","v":false},"",null,null,{"$f":"AND('Ref Score sheet'!B115=\"a\",'Ref Score sheet'!C115=\"t\")","v":false},{"$f":"AND('Ref Score sheet'!B115=\"a\",'Ref Score sheet'!C115=\"pt\")","v":false},{"$f":"AND('Ref Score sheet'!B115=\"a\",'Ref Score sheet'!C115=\"c\")","v":false},{"$f":"AND('Ref Score sheet'!B115=\"a\",'Ref Score sheet'!C115=\"p\")","v":false},{"$f":"AND('Ref Score sheet'!B115=\"a\",'Ref Score sheet'!C115=\"dg\")","v":false},0,0,0,0,0,0,0,null,{"$f":"AND('Ref Score sheet'!B115=\"a\",'Ref Score sheet'!C115=\"bl-off\")","v":false},{"$f":"AND('Ref Score sheet'!B115=\"a\",'Ref Score sheet'!C115=\"bl-on\")","v":false},{"$f":"AND('Ref Score sheet'!B115 = \"a\",'Ref Score sheet'!C115 = \"blr-off\")","v":false},{"$f":"AND('Ref Score sheet'!B115 = \"a\",'Ref Score sheet'!C115 = \"blr-on\")","v":false},{"$f":"AND('Ref Score sheet'!B115=\"a\",'Ref Score sheet'!C115=\"RI-off\")","v":false},{"$f":"AND('Ref Score sheet'!B115=\"a\",'Ref Score sheet'!C115=\"RI-on\")","v":false},{"$f":"AND('Ref Score sheet'!B115 = \"a\",'Ref Score sheet'!C115 = \"CON - OFF\")","v":false},{"$f":"AND('Ref Score sheet'!B115 = \"a\",'Ref Score sheet'!C115 = \"CON - ON\")","v":false},{"$f":"AND('Ref Score sheet'!B115=\"a\",'Ref Score sheet'!C115=\"RT-on\")","v":false},{"$f":"AND('Ref Score sheet'!B115=\"a\",'Ref Score sheet'!C115=\"RT-off\")","v":false},{"$f":"AND('Ref Score sheet'!$B115 = \"a\",'Ref Score sheet'!$C115 = \"rc\")","v":false},{"$f":"AND('Ref Score sheet'!$B115 = \"a\",'Ref Score sheet'!$C115 = \"rcr\")","v":false},{"$f":"AND('Ref Score sheet'!$B115 = \"a\",'Ref Score sheet'!$C115 = \"yc\")","v":false},{"$f":"AND('Ref Score sheet'!$B115 = \"a\",'Ref Score sheet'!$C115 = \"2nd yc\")","v":false},null,{"$f":"AND('Ref Score sheet'!B115 = \"\",'Ref Score sheet'!C115 = \"fh-e\")","v":false},""]
[null,{"$f":"AND('Ref Score sheet'!B116 = \"h\",'Ref Score sheet'!C116 = \"t\")","v":false},{"$f":"AND('Ref Score sheet'!B116 = \"h\",'Ref Score sheet'!C116 = \"pt\")","v":false},{"$f":"AND('Ref Score sheet'!B116 = \"h\",'Ref Score sheet'!C116 = \"c\")","v":false},{"$f":"AND('Ref Score sheet'!B116 = \"h\",'Ref Score sheet'!C116 = \"p\")","v":false},{"$f":"AND('Ref Score sheet'!B116 = \"h\",'Ref Score sheet'!C116 = \"dg\")","v":false},0,0,0,0,0,0,0,null,null,{"$f":"AND('Ref Score sheet'!B116 = \"h\",'Ref Score sheet'!C116 = \"bl-off\")","v":false},{"$f":"AND('Ref Score sheet'!B116 = \"h\",'Ref Score sheet'!C116 = \"bl-on\")","v":false},{"$f":"AND('Ref Score sheet'!B116 = \"h\",'Ref Score sheet'!C116 = \"blr-off\")","v":false},{"$f":"AND('Ref Score sheet'!B116 = \"h\",'Ref Score sheet'!C116 = \"blr-on\")","v":false},{"$f":"AND('Ref Score sheet'!B116 = \"h\",'Ref Score sheet'!C116 = \"RI-off\")","v":false},{"$f":"AND('Ref Score sheet'!B116 = \"h\",'Ref Score sheet'!C116 = \"RI-on\")","v":false},{"$f":"AND('Ref Score sheet'!B116 = \"h\",'Ref Score sheet'!C116 = \"CON-OFF\")","v":false},{"$f":"AND('Ref Score sheet'!B116 = \"h\",'Ref Score sheet'!C116 = \"CON-ON\")","v":false},{"$f":"AND('Ref Score sheet'!B116 = \"h\",'Ref Score sheet'!C116 = \"RT-on\")","v":false},{"$f":"AND('Ref Score sheet'!B116 = \"h\",'Ref Score sheet'!C116 = \"RT-off\")","v":false},{"$f":"AND('Ref Score sheet'!$B116 = \"h\",'Ref Score sheet'!$C116 = \"rc\")","v":false},{"$f":"AND('Ref Score sheet'!$B116 = \"h\",'Ref Score sheet'!$C116 = \"rcr\")","v":false},{"$f":"AND('Ref Score sheet'!$B116 = \"h\",'Ref Score sheet'!$C116 = \"yc\")","v":false},{"$f":"AND('Ref Score sheet'!$B116 = \"h\",'Ref Score sheet'!$C116 = \"2nd yc\")","v":false},null,{"$f":"AND('Ref Score sheet'!B116 = \"\",'Ref Score sheet'!C116 = \"fh-e\")","v":false},"",null,null,{"$f":"AND('Ref Score sheet'!B116=\"a\",'Ref Score sheet'!C116=\"t\")","v":false},{"$f":"AND('Ref Score sheet'!B116=\"a\",'Ref Score sheet'!C116=\"pt\")","v":false},{"$f":"AND('Ref Score sheet'!B116=\"a\",'Ref Score sheet'!C116=\"c\")","v":false},{"$f":"AND('Ref Score sheet'!B116=\"a\",'Ref Score sheet'!C116=\"p\")","v":false},{"$f":"AND('Ref Score sheet'!B116=\"a\",'Ref Score sheet'!C116=\"dg\")","v":false},0,0,0,0,0,0,0,null,{"$f":"AND('Ref Score sheet'!B116=\"a\",'Ref Score sheet'!C116=\"bl-off\")","v":false},{"$f":"AND('Ref Score sheet'!B116=\"a\",'Ref Score sheet'!C116=\"bl-on\")","v":false},{"$f":"AND('Ref Score sheet'!B116 = \"a\",'Ref Score sheet'!C116 = \"blr-off\")","v":false},{"$f":"AND('Ref Score sheet'!B116 = \"a\",'Ref Score sheet'!C116 = \"blr-on\")","v":false},{"$f":"AND('Ref Score sheet'!B116=\"a\",'Ref Score sheet'!C116=\"RI-off\")","v":false},{"$f":"AND('Ref Score sheet'!B116=\"a\",'Ref Score sheet'!C116=\"RI-on\")","v":false},{"$f":"AND('Ref Score sheet'!B116 = \"a\",'Ref Score sheet'!C116 = \"CON - OFF\")","v":false},{"$f":"AND('Ref Score sheet'!B116 = \"a\",'Ref Score sheet'!C116 = \"CON - ON\")","v":false},{"$f":"AND('Ref Score sheet'!B116=\"a\",'Ref Score sheet'!C116=\"RT-on\")","v":false},{"$f":"AND('Ref Score sheet'!B116=\"a\",'Ref Score sheet'!C116=\"RT-off\")","v":false},{"$f":"AND('Ref Score sheet'!$B116 = \"a\",'Ref Score sheet'!$C116 = \"rc\")","v":false},{"$f":"AND('Ref Score sheet'!$B116 = \"a\",'Ref Score sheet'!$C116 = \"rcr\")","v":false},{"$f":"AND('Ref Score sheet'!$B116 = \"a\",'Ref Score sheet'!$C116 = \"yc\")","v":false},{"$f":"AND('Ref Score sheet'!$B116 = \"a\",'Ref Score sheet'!$C116 = \"2nd yc\")","v":false},null,{"$f":"AND('Ref Score sheet'!B116 = \"\",'Ref Score sheet'!C116 = \"fh-e\")","v":false},""]
[null,{"$f":"AND('Ref Score sheet'!B117 = \"h\",'Ref Score sheet'!C117 = \"t\")","v":false},{"$f":"AND('Ref Score sheet'!B117 = \"h\",'Ref Score sheet'!C117 = \"pt\")","v":false},{"$f":"AND('Ref Score sheet'!B117 = \"h\",'Ref Score sheet'!C117 = \"c\")","v":false},{"$f":"AND('Ref Score sheet'!B117 = \"h\",'Ref Score sheet'!C117 = \"p\")","v":false},{"$f":"AND('Ref Score sheet'!B117 = \"h\",'Ref Score sheet'!C117 = \"dg\")","v":false},0,0,0,0,0,0,0,null,null,{"$f":"AND('Ref Score sheet'!B117 = \"h\",'Ref Score sheet'!C117 = \"bl-off\")","v":false},{"$f":"AND('Ref Score sheet'!B117 = \"h\",'Ref Score sheet'!C117 = \"bl-on\")","v":false},{"$f":"AND('Ref Score sheet'!B117 = \"h\",'Ref Score sheet'!C117 = \"blr-off\")","v":false},{"$f":"AND('Ref Score sheet'!B117 = \"h\",'Ref Score sheet'!C117 = \"blr-on\")","v":false},{"$f":"AND('Ref Score sheet'!B117 = \"h\",'Ref Score sheet'!C117 = \"RI-off\")","v":false},{"$f":"AND('Ref Score sheet'!B117 = \"h\",'Ref Score sheet'!C117 = \"RI-on\")","v":false},{"$f":"AND('Ref Score sheet'!B117 = \"h\",'Ref Score sheet'!C117 = \"CON-OFF\")","v":false},{"$f":"AND('Ref Score sheet'!B117 = \"h\",'Ref Score sheet'!C117 = \"CON-ON\")","v":false},{"$f":"AND('Ref Score sheet'!B117 = \"h\",'Ref Score sheet'!C117 = \"RT-on\")","v":false},{"$f":"AND('Ref Score sheet'!B117 = \"h\",'Ref Score sheet'!C117 = \"RT-off\")","v":false},{"$f":"AND('Ref Score sheet'!$B117 = \"h\",'Ref Score sheet'!$C117 = \"rc\")","v":false},{"$f":"AND('Ref Score sheet'!$B117 = \"h\",'Ref Score sheet'!$C117 = \"rcr\")","v":false},{"$f":"AND('Ref Score sheet'!$B117 = \"h\",'Ref Score sheet'!$C117 = \"yc\")","v":false},{"$f":"AND('Ref Score sheet'!$B117 = \"h\",'Ref Score sheet'!$C117 = \"2nd yc\")","v":false},null,{"$f":"AND('Ref Score sheet'!B117 = \"\",'Ref Score sheet'!C117 = \"fh-e\")","v":false},"",null,null,{"$f":"AND('Ref Score sheet'!B117=\"a\",'Ref Score sheet'!C117=\"t\")","v":false},{"$f":"AND('Ref Score sheet'!B117=\"a\",'Ref Score sheet'!C117=\"pt\")","v":false},{"$f":"AND('Ref Score sheet'!B117=\"a\",'Ref Score sheet'!C117=\"c\")","v":false},{"$f":"AND('Ref Score sheet'!B117=\"a\",'Ref Score sheet'!C117=\"p\")","v":false},{"$f":"AND('Ref Score sheet'!B117=\"a\",'Ref Score sheet'!C117=\"dg\")","v":false},0,0,0,0,0,0,0,null,{"$f":"AND('Ref Score sheet'!B117=\"a\",'Ref Score sheet'!C117=\"bl-off\")","v":false},{"$f":"AND('Ref Score sheet'!B117=\"a\",'Ref Score sheet'!C117=\"bl-on\")","v":false},{"$f":"AND('Ref Score sheet'!B117 = \"a\",'Ref Score sheet'!C117 = \"blr-off\")","v":false},{"$f":"AND('Ref Score sheet'!B117 = \"a\",'Ref Score sheet'!C117 = \"blr-on\")","v":false},{"$f":"AND('Ref Score sheet'!B117=\"a\",'Ref Score sheet'!C117=\"RI-off\")","v":false},{"$f":"AND('Ref Score sheet'!B117=\"a\",'Ref Score sheet'!C117=\"RI-on\")","v":false},{"$f":"AND('Ref Score sheet'!B117 = \"a\",'Ref Score sheet'!C117 = \"CON - OFF\")","v":false},{"$f":"AND('Ref Score sheet'!B117 = \"a\",'Ref Score sheet'!C117 = \"CON - ON\")","v":false},{"$f":"AND('Ref Score sheet'!B117=\"a\",'Ref Score sheet'!C117=\"RT-on\")","v":false},{"$f":"AND('Ref Score sheet'!B117=\"a\",'Ref Score sheet'!C117=\"RT-off\")","v":false},{"$f":"AND('Ref Score sheet'!$B117 = \"a\",'Ref Score sheet'!$C117 = \"rc\")","v":false},{"$f":"AND('Ref Score sheet'!$B117 = \"a\",'Ref Score sheet'!$C117 = \"rcr\")","v":false},{"$f":"AND('Ref Score sheet'!$B117 = \"a\",'Ref Score sheet'!$C117 = \"yc\")","v":false},{"$f":"AND('Ref Score sheet'!$B117 = \"a\",'Ref Score sheet'!$C117 = \"2nd yc\")","v":false},null,{"$f":"AND('Ref Score sheet'!B117 = \"\",'Ref Score sheet'!C117 = \"fh-e\")","v":false},""]
[null,{"$f":"AND('Ref Score sheet'!B118 = \"h\",'Ref Score sheet'!C118 = \"t\")","v":false},{"$f":"AND('Ref Score sheet'!B118 = \"h\",'Ref Score sheet'!C118 = \"pt\")","v":false},{"$f":"AND('Ref Score sheet'!B118 = \"h\",'Ref Score sheet'!C118 = \"c\")","v":false},{"$f":"AND('Ref Score sheet'!B118 = \"h\",'Ref Score sheet'!C118 = \"p\")","v":false},{"$f":"AND('Ref Score sheet'!B118 = \"h\",'Ref Score sheet'!C118 = \"dg\")","v":false},0,0,0,0,0,0,0,null,null,{"$f":"AND('Ref Score sheet'!B118 = \"h\",'Ref Score sheet'!C118 = \"bl-off\")","v":false},{"$f":"AND('Ref Score sheet'!B118 = \"h\",'Ref Score sheet'!C118 = \"bl-on\")","v":false},{"$f":"AND('Ref Score sheet'!B118 = \"h\",'Ref Score sheet'!C118 = \"blr-off\")","v":false},{"$f":"AND('Ref Score sheet'!B118 = \"h\",'Ref Score sheet'!C118 = \"blr-on\")","v":false},{"$f":"AND('Ref Score sheet'!B118 = \"h\",'Ref Score sheet'!C118 = \"RI-off\")","v":false},{"$f":"AND('Ref Score sheet'!B118 = \"h\",'Ref Score sheet'!C118 = \"RI-on\")","v":false},{"$f":"AND('Ref Score sheet'!B118 = \"h\",'Ref Score sheet'!C118 = \"CON-OFF\")","v":false},{"$f":"AND('Ref Score sheet'!B118 = \"h\",'Ref Score sheet'!C118 = \"CON-ON\")","v":false},{"$f":"AND('Ref Score sheet'!B118 = \"h\",'Ref Score sheet'!C118 = \"RT-on\")","v":false},{"$f":"AND('Ref Score sheet'!B118 = \"h\",'Ref Score sheet'!C118 = \"RT-off\")","v":false},{"$f":"AND('Ref Score sheet'!$B118 = \"h\",'Ref Score sheet'!$C118 = \"rc\")","v":false},{"$f":"AND('Ref Score sheet'!$B118 = \"h\",'Ref Score sheet'!$C118 = \"rcr\")","v":false},{"$f":"AND('Ref Score sheet'!$B118 = \"h\",'Ref Score sheet'!$C118 = \"yc\")","v":false},{"$f":"AND('Ref Score sheet'!$B118 = \"h\",'Ref Score sheet'!$C118 = \"2nd yc\")","v":false},null,{"$f":"AND('Ref Score sheet'!B118 = \"\",'Ref Score sheet'!C118 = \"fh-e\")","v":false},"",null,null,{"$f":"AND('Ref Score sheet'!B118=\"a\",'Ref Score sheet'!C118=\"t\")","v":false},{"$f":"AND('Ref Score sheet'!B118=\"a\",'Ref Score sheet'!C118=\"pt\")","v":false},{"$f":"AND('Ref Score sheet'!B118=\"a\",'Ref Score sheet'!C118=\"c\")","v":false},{"$f":"AND('Ref Score sheet'!B118=\"a\",'Ref Score sheet'!C118=\"p\")","v":false},{"$f":"AND('Ref Score sheet'!B118=\"a\",'Ref Score sheet'!C118=\"dg\")","v":false},0,0,0,0,0,0,0,null,{"$f":"AND('Ref Score sheet'!B118=\"a\",'Ref Score sheet'!C118=\"bl-off\")","v":false},{"$f":"AND('Ref Score sheet'!B118=\"a\",'Ref Score sheet'!C118=\"bl-on\")","v":false},{"$f":"AND('Ref Score sheet'!B118 = \"a\",'Ref Score sheet'!C118 = \"blr-off\")","v":false},{"$f":"AND('Ref Score sheet'!B118 = \"a\",'Ref Score sheet'!C118 = \"blr-on\")","v":false},{"$f":"AND('Ref Score sheet'!B118=\"a\",'Ref Score sheet'!C118=\"RI-off\")","v":false},{"$f":"AND('Ref Score sheet'!B118=\"a\",'Ref Score sheet'!C118=\"RI-on\")","v":false},{"$f":"AND('Ref Score sheet'!B118 = \"a\",'Ref Score sheet'!C118 = \"CON - OFF\")","v":false},{"$f":"AND('Ref Score sheet'!B118 = \"a\",'Ref Score sheet'!C118 = \"CON - ON\")","v":false},{"$f":"AND('Ref Score sheet'!B118=\"a\",'Ref Score sheet'!C118=\"RT-on\")","v":false},{"$f":"AND('Ref Score sheet'!B118=\"a\",'Ref Score sheet'!C118=\"RT-off\")","v":false},{"$f":"AND('Ref Score sheet'!$B118 = \"a\",'Ref Score sheet'!$C118 = \"rc\")","v":false},{"$f":"AND('Ref Score sheet'!$B118 = \"a\",'Ref Score sheet'!$C118 = \"rcr\")","v":false},{"$f":"AND('Ref Score sheet'!$B118 = \"a\",'Ref Score sheet'!$C118 = \"yc\")","v":false},{"$f":"AND('Ref Score sheet'!$B118 = \"a\",'Ref Score sheet'!$C118 = \"2nd yc\")","v":false},null,{"$f":"AND('Ref Score sheet'!B118 = \"\",'Ref Score sheet'!C118 = \"fh-e\")","v":false},""]
[null,{"$f":"AND('Ref Score sheet'!B119 = \"h\",'Ref Score sheet'!C119 = \"t\")","v":false},{"$f":"AND('Ref Score sheet'!B119 = \"h\",'Ref Score sheet'!C119 = \"pt\")","v":false},{"$f":"AND('Ref Score sheet'!B119 = \"h\",'Ref Score sheet'!C119 = \"c\")","v":false},{"$f":"AND('Ref Score sheet'!B119 = \"h\",'Ref Score sheet'!C119 = \"p\")","v":false},{"$f":"AND('Ref Score sheet'!B119 = \"h\",'Ref Score sheet'!C119 = \"dg\")","v":false},0,0,0,0,0,0,0,null,null,{"$f":"AND('Ref Score sheet'!B119 = \"h\",'Ref Score sheet'!C119 = \"bl-off\")","v":false},{"$f":"AND('Ref Score sheet'!B119 = \"h\",'Ref Score sheet'!C119 = \"bl-on\")","v":false},{"$f":"AND('Ref Score sheet'!B119 = \"h\",'Ref Score sheet'!C119 = \"blr-off\")","v":false},{"$f":"AND('Ref Score sheet'!B119 = \"h\",'Ref Score sheet'!C119 = \"blr-on\")","v":false},{"$f":"AND('Ref Score sheet'!B119 = \"h\",'Ref Score sheet'!C119 = \"RI-off\")","v":false},{"$f":"AND('Ref Score sheet'!B119 = \"h\",'Ref Score sheet'!C119 = \"RI-on\")","v":false},{"$f":"AND('Ref Score sheet'!B119 = \"h\",'Ref Score sheet'!C119 = \"CON-OFF\")","v":false},{"$f":"AND('Ref Score sheet'!B119 = \"h\",'Ref Score sheet'!C119 = \"CON-ON\")","v":false},{"$f":"AND('Ref Score sheet'!B119 = \"h\",'Ref Score sheet'!C119 = \"RT-on\")","v":false},{"$f":"AND('Ref Score sheet'!B119 = \"h\",'Ref Score sheet'!C119 = \"RT-off\")","v":false},{"$f":"AND('Ref Score sheet'!$B119 = \"h\",'Ref Score sheet'!$C119 = \"rc\")","v":false},{"$f":"AND('Ref Score sheet'!$B119 = \"h\",'Ref Score sheet'!$C119 = \"rcr\")","v":false},{"$f":"AND('Ref Score sheet'!$B119 = \"h\",'Ref Score sheet'!$C119 = \"yc\")","v":false},{"$f":"AND('Ref Score sheet'!$B119 = \"h\",'Ref Score sheet'!$C119 = \"2nd yc\")","v":false},null,{"$f":"AND('Ref Score sheet'!B119 = \"\",'Ref Score sheet'!C119 = \"fh-e\")","v":false},"",null,null,{"$f":"AND('Ref Score sheet'!B119=\"a\",'Ref Score sheet'!C119=\"t\")","v":false},{"$f":"AND('Ref Score sheet'!B119=\"a\",'Ref Score sheet'!C119=\"pt\")","v":false},{"$f":"AND('Ref Score sheet'!B119=\"a\",'Ref Score sheet'!C119=\"c\")","v":false},{"$f":"AND('Ref Score sheet'!B119=\"a\",'Ref Score sheet'!C119=\"p\")","v":false},{"$f":"AND('Ref Score sheet'!B119=\"a\",'Ref Score sheet'!C119=\"dg\")","v":false},0,0,0,0,0,0,0,null,{"$f":"AND('Ref Score sheet'!B119=\"a\",'Ref Score sheet'!C119=\"bl-off\")","v":false},{"$f":"AND('Ref Score sheet'!B119=\"a\",'Ref Score sheet'!C119=\"bl-on\")","v":false},{"$f":"AND('Ref Score sheet'!B119 = \"a\",'Ref Score sheet'!C119 = \"blr-off\")","v":false},{"$f":"AND('Ref Score sheet'!B119 = \"a\",'Ref Score sheet'!C119 = \"blr-on\")","v":false},{"$f":"AND('Ref Score sheet'!B119=\"a\",'Ref Score sheet'!C119=\"RI-off\")","v":false},{"$f":"AND('Ref Score sheet'!B119=\"a\",'Ref Score sheet'!C119=\"RI-on\")","v":false},{"$f":"AND('Ref Score sheet'!B119 = \"a\",'Ref Score sheet'!C119 = \"CON - OFF\")","v":false},{"$f":"AND('Ref Score sheet'!B119 = \"a\",'Ref Score sheet'!C119 = \"CON - ON\")","v":false},{"$f":"AND('Ref Score sheet'!B119=\"a\",'Ref Score sheet'!C119=\"RT-on\")","v":false},{"$f":"AND('Ref Score sheet'!B119=\"a\",'Ref Score sheet'!C119=\"RT-off\")","v":false},{"$f":"AND('Ref Score sheet'!$B119 = \"a\",'Ref Score sheet'!$C119 = \"rc\")","v":false},{"$f":"AND('Ref Score sheet'!$B119 = \"a\",'Ref Score sheet'!$C119 = \"rcr\")","v":false},{"$f":"AND('Ref Score sheet'!$B119 = \"a\",'Ref Score sheet'!$C119 = \"yc\")","v":false},{"$f":"AND('Ref Score sheet'!$B119 = \"a\",'Ref Score sheet'!$C119 = \"2nd yc\")","v":false},null,{"$f":"AND('Ref Score sheet'!B119 = \"\",'Ref Score sheet'!C119 = \"fh-e\")","v":false},""]
[null,{"$f":"AND('Ref Score sheet'!B120 = \"h\",'Ref Score sheet'!C120 = \"t\")","v":false},{"$f":"AND('Ref Score sheet'!B120 = \"h\",'Ref Score sheet'!C120 = \"pt\")","v":false},{"$f":"AND('Ref Score sheet'!B120 = \"h\",'Ref Score sheet'!C120 = \"c\")","v":false},{"$f":"AND('Ref Score sheet'!B120 = \"h\",'Ref Score sheet'!C120 = \"p\")","v":false},{"$f":"AND('Ref Score sheet'!B120 = \"h\",'Ref Score sheet'!C120 = \"dg\")","v":false},0,0,0,0,0,0,0,null,null,{"$f":"AND('Ref Score sheet'!B120 = \"h\",'Ref Score sheet'!C120 = \"bl-off\")","v":false},{"$f":"AND('Ref Score sheet'!B120 = \"h\",'Ref Score sheet'!C120 = \"bl-on\")","v":false},{"$f":"AND('Ref Score sheet'!B120 = \"h\",'Ref Score sheet'!C120 = \"blr-off\")","v":false},{"$f":"AND('Ref Score sheet'!B120 = \"h\",'Ref Score sheet'!C120 = \"blr-on\")","v":false},{"$f":"AND('Ref Score sheet'!B120 = \"h\",'Ref Score sheet'!C120 = \"RI-off\")","v":false},{"$f":"AND('Ref Score sheet'!B120 = \"h\",'Ref Score sheet'!C120 = \"RI-on\")","v":false},{"$f":"AND('Ref Score sheet'!B120 = \"h\",'Ref Score sheet'!C120 = \"CON-OFF\")","v":false},{"$f":"AND('Ref Score sheet'!B120 = \"h\",'Ref Score sheet'!C120 = \"CON-ON\")","v":false},{"$f":"AND('Ref Score sheet'!B120 = \"h\",'Ref Score sheet'!C120 = \"RT-on\")","v":false},{"$f":"AND('Ref Score sheet'!B120 = \"h\",'Ref Score sheet'!C120 = \"RT-off\")","v":false},{"$f":"AND('Ref Score sheet'!$B120 = \"h\",'Ref Score sheet'!$C120 = \"rc\")","v":false},{"$f":"AND('Ref Score sheet'!$B120 = \"h\",'Ref Score sheet'!$C120 = \"rcr\")","v":false},{"$f":"AND('Ref Score sheet'!$B120 = \"h\",'Ref Score sheet'!$C120 = \"yc\")","v":false},{"$f":"AND('Ref Score sheet'!$B120 = \"h\",'Ref Score sheet'!$C120 = \"2nd yc\")","v":false},null,{"$f":"AND('Ref Score sheet'!B120 = \"\",'Ref Score sheet'!C120 = \"fh-e\")","v":false},"",null,null,{"$f":"AND('Ref Score sheet'!B120=\"a\",'Ref Score sheet'!C120=\"t\")","v":false},{"$f":"AND('Ref Score sheet'!B120=\"a\",'Ref Score sheet'!C120=\"pt\")","v":false},{"$f":"AND('Ref Score sheet'!B120=\"a\",'Ref Score sheet'!C120=\"c\")","v":false},{"$f":"AND('Ref Score sheet'!B120=\"a\",'Ref Score sheet'!C120=\"p\")","v":false},{"$f":"AND('Ref Score sheet'!B120=\"a\",'Ref Score sheet'!C120=\"dg\")","v":false},0,0,0,0,0,0,0,null,{"$f":"AND('Ref Score sheet'!B120=\"a\",'Ref Score sheet'!C120=\"bl-off\")","v":false},{"$f":"AND('Ref Score sheet'!B120=\"a\",'Ref Score sheet'!C120=\"bl-on\")","v":false},{"$f":"AND('Ref Score sheet'!B120 = \"a\",'Ref Score sheet'!C120 = \"blr-off\")","v":false},{"$f":"AND('Ref Score sheet'!B120 = \"a\",'Ref Score sheet'!C120 = \"blr-on\")","v":false},{"$f":"AND('Ref Score sheet'!B120=\"a\",'Ref Score sheet'!C120=\"RI-off\")","v":false},{"$f":"AND('Ref Score sheet'!B120=\"a\",'Ref Score sheet'!C120=\"RI-on\")","v":false},{"$f":"AND('Ref Score sheet'!B120 = \"a\",'Ref Score sheet'!C120 = \"CON - OFF\")","v":false},{"$f":"AND('Ref Score sheet'!B120 = \"a\",'Ref Score sheet'!C120 = \"CON - ON\")","v":false},{"$f":"AND('Ref Score sheet'!B120=\"a\",'Ref Score sheet'!C120=\"RT-on\")","v":false},{"$f":"AND('Ref Score sheet'!B120=\"a\",'Ref Score sheet'!C120=\"RT-off\")","v":false},{"$f":"AND('Ref Score sheet'!$B120 = \"a\",'Ref Score sheet'!$C120 = \"rc\")","v":false},{"$f":"AND('Ref Score sheet'!$B120 = \"a\",'Ref Score sheet'!$C120 = \"rcr\")","v":false},{"$f":"AND('Ref Score sheet'!$B120 = \"a\",'Ref Score sheet'!$C120 = \"yc\")","v":false},{"$f":"AND('Ref Score sheet'!$B120 = \"a\",'Ref Score sheet'!$C120 = \"2nd yc\")","v":false},null,{"$f":"AND('Ref Score sheet'!B120 = \"\",'Ref Score sheet'!C120 = \"fh-e\")","v":false},""]
[null,{"$f":"AND('Ref Score sheet'!B121 = \"h\",'Ref Score sheet'!C121 = \"t\")","v":false},{"$f":"AND('Ref Score sheet'!B121 = \"h\",'Ref Score sheet'!C121 = \"pt\")","v":false},{"$f":"AND('Ref Score sheet'!B121 = \"h\",'Ref Score sheet'!C121 = \"c\")","v":false},{"$f":"AND('Ref Score sheet'!B121 = \"h\",'Ref Score sheet'!C121 = \"p\")","v":false},{"$f":"AND('Ref Score sheet'!B121 = \"h\",'Ref Score sheet'!C121 = \"dg\")","v":false},0,0,0,0,0,0,0,null,null,{"$f":"AND('Ref Score sheet'!B121 = \"h\",'Ref Score sheet'!C121 = \"bl-off\")","v":false},{"$f":"AND('Ref Score sheet'!B121 = \"h\",'Ref Score sheet'!C121 = \"bl-on\")","v":false},{"$f":"AND('Ref Score sheet'!B121 = \"h\",'Ref Score sheet'!C121 = \"blr-off\")","v":false},{"$f":"AND('Ref Score sheet'!B121 = \"h\",'Ref Score sheet'!C121 = \"blr-on\")","v":false},{"$f":"AND('Ref Score sheet'!B121 = \"h\",'Ref Score sheet'!C121 = \"RI-off\")","v":false},{"$f":"AND('Ref Score sheet'!B121 = \"h\",'Ref Score sheet'!C121 = \"RI-on\")","v":false},{"$f":"AND('Ref Score sheet'!B121 = \"h\",'Ref Score sheet'!C121 = \"CON-OFF\")","v":false},{"$f":"AND('Ref Score sheet'!B121 = \"h\",'Ref Score sheet'!C121 = \"CON-ON\")","v":false},{"$f":"AND('Ref Score sheet'!B121 = \"h\",'Ref Score sheet'!C121 = \"RT-on\")","v":false},{"$f":"AND('Ref Score sheet'!B121 = \"h\",'Ref Score sheet'!C121 = \"RT-off\")","v":false},{"$f":"AND('Ref Score sheet'!$B121 = \"h\",'Ref Score sheet'!$C121 = \"rc\")","v":false},{"$f":"AND('Ref Score sheet'!$B121 = \"h\",'Ref Score sheet'!$C121 = \"rcr\")","v":false},{"$f":"AND('Ref Score sheet'!$B121 = \"h\",'Ref Score sheet'!$C121 = \"yc\")","v":false},{"$f":"AND('Ref Score sheet'!$B121 = \"h\",'Ref Score sheet'!$C121 = \"2nd yc\")","v":false},null,{"$f":"AND('Ref Score sheet'!B121 = \"\",'Ref Score sheet'!C121 = \"fh-e\")","v":false},"",null,null,{"$f":"AND('Ref Score sheet'!B121=\"a\",'Ref Score sheet'!C121=\"t\")","v":false},{"$f":"AND('Ref Score sheet'!B121=\"a\",'Ref Score sheet'!C121=\"pt\")","v":false},{"$f":"AND('Ref Score sheet'!B121=\"a\",'Ref Score sheet'!C121=\"c\")","v":false},{"$f":"AND('Ref Score sheet'!B121=\"a\",'Ref Score sheet'!C121=\"p\")","v":false},{"$f":"AND('Ref Score sheet'!B121=\"a\",'Ref Score sheet'!C121=\"dg\")","v":false},0,0,0,0,0,0,0,null,{"$f":"AND('Ref Score sheet'!B121=\"a\",'Ref Score sheet'!C121=\"bl-off\")","v":false},{"$f":"AND('Ref Score sheet'!B121=\"a\",'Ref Score sheet'!C121=\"bl-on\")","v":false},{"$f":"AND('Ref Score sheet'!B121 = \"a\",'Ref Score sheet'!C121 = \"blr-off\")","v":false},{"$f":"AND('Ref Score sheet'!B121 = \"a\",'Ref Score sheet'!C121 = \"blr-on\")","v":false},{"$f":"AND('Ref Score sheet'!B121=\"a\",'Ref Score sheet'!C121=\"RI-off\")","v":false},{"$f":"AND('Ref Score sheet'!B121=\"a\",'Ref Score sheet'!C121=\"RI-on\")","v":false},{"$f":"AND('Ref Score sheet'!B121 = \"a\",'Ref Score sheet'!C121 = \"CON - OFF\")","v":false},{"$f":"AND('Ref Score sheet'!B121 = \"a\",'Ref Score sheet'!C121 = \"CON - ON\")","v":false},{"$f":"AND('Ref Score sheet'!B121=\"a\",'Ref Score sheet'!C121=\"RT-on\")","v":false},{"$f":"AND('Ref Score sheet'!B121=\"a\",'Ref Score sheet'!C121=\"RT-off\")","v":false},{"$f":"AND('Ref Score sheet'!$B121 = \"a\",'Ref Score sheet'!$C121 = \"rc\")","v":false},{"$f":"AND('Ref Score sheet'!$B121 = \"a\",'Ref Score sheet'!$C121 = \"rcr\")","v":false},{"$f":"AND('Ref Score sheet'!$B121 = \"a\",'Ref Score sheet'!$C121 = \"yc\")","v":false},{"$f":"AND('Ref Score sheet'!$B121 = \"a\",'Ref Score sheet'!$C121 = \"2nd yc\")","v":false},null,{"$f":"AND('Ref Score sheet'!B121 = \"\",'Ref Score sheet'!C121 = \"fh-e\")","v":false},""]
[null,{"$f":"AND('Ref Score sheet'!B122 = \"h\",'Ref Score sheet'!C122 = \"t\")","v":false},{"$f":"AND('Ref Score sheet'!B122 = \"h\",'Ref Score sheet'!C122 = \"pt\")","v":false},{"$f":"AND('Ref Score sheet'!B122 = \"h\",'Ref Score sheet'!C122 = \"c\")","v":false},{"$f":"AND('Ref Score sheet'!B122 = \"h\",'Ref Score sheet'!C122 = \"p\")","v":false},{"$f":"AND('Ref Score sheet'!B122 = \"h\",'Ref Score sheet'!C122 = \"dg\")","v":false},0,0,0,0,0,0,0,null,null,{"$f":"AND('Ref Score sheet'!B122 = \"h\",'Ref Score sheet'!C122 = \"bl-off\")","v":false},{"$f":"AND('Ref Score sheet'!B122 = \"h\",'Ref Score sheet'!C122 = \"bl-on\")","v":false},{"$f":"AND('Ref Score sheet'!B122 = \"h\",'Ref Score sheet'!C122 = \"blr-off\")","v":false},{"$f":"AND('Ref Score sheet'!B122 = \"h\",'Ref Score sheet'!C122 = \"blr-on\")","v":false},{"$f":"AND('Ref Score sheet'!B122 = \"h\",'Ref Score sheet'!C122 = \"RI-off\")","v":false},{"$f":"AND('Ref Score sheet'!B122 = \"h\",'Ref Score sheet'!C122 = \"RI-on\")","v":false},{"$f":"AND('Ref Score sheet'!B122 = \"h\",'Ref Score sheet'!C122 = \"CON-OFF\")","v":false},{"$f":"AND('Ref Score sheet'!B122 = \"h\",'Ref Score sheet'!C122 = \"CON-ON\")","v":false},{"$f":"AND('Ref Score sheet'!B122 = \"h\",'Ref Score sheet'!C122 = \"RT-on\")","v":false},{"$f":"AND('Ref Score sheet'!B122 = \"h\",'Ref Score sheet'!C122 = \"RT-off\")","v":false},{"$f":"AND('Ref Score sheet'!$B122 = \"h\",'Ref Score sheet'!$C122 = \"rc\")","v":false},{"$f":"AND('Ref Score sheet'!$B122 = \"h\",'Ref Score sheet'!$C122 = \"rcr\")","v":false},{"$f":"AND('Ref Score sheet'!$B122 = \"h\",'Ref Score sheet'!$C122 = \"yc\")","v":false},{"$f":"AND('Ref Score sheet'!$B122 = \"h\",'Ref Score sheet'!$C122 = \"2nd yc\")","v":false},null,{"$f":"AND('Ref Score sheet'!B122 = \"\",'Ref Score sheet'!C122 = \"fh-e\")","v":false},"",null,null,{"$f":"AND('Ref Score sheet'!B122=\"a\",'Ref Score sheet'!C122=\"t\")","v":false},{"$f":"AND('Ref Score sheet'!B122=\"a\",'Ref Score sheet'!C122=\"pt\")","v":false},{"$f":"AND('Ref Score sheet'!B122=\"a\",'Ref Score sheet'!C122=\"c\")","v":false},{"$f":"AND('Ref Score sheet'!B122=\"a\",'Ref Score sheet'!C122=\"p\")","v":false},{"$f":"AND('Ref Score sheet'!B122=\"a\",'Ref Score sheet'!C122=\"dg\")","v":false},0,0,0,0,0,0,0,null,{"$f":"AND('Ref Score sheet'!B122=\"a\",'Ref Score sheet'!C122=\"bl-off\")","v":false},{"$f":"AND('Ref Score sheet'!B122=\"a\",'Ref Score sheet'!C122=\"bl-on\")","v":false},{"$f":"AND('Ref Score sheet'!B122 = \"a\",'Ref Score sheet'!C122 = \"blr-off\")","v":false},{"$f":"AND('Ref Score sheet'!B122 = \"a\",'Ref Score sheet'!C122 = \"blr-on\")","v":false},{"$f":"AND('Ref Score sheet'!B122=\"a\",'Ref Score sheet'!C122=\"RI-off\")","v":false},{"$f":"AND('Ref Score sheet'!B122=\"a\",'Ref Score sheet'!C122=\"RI-on\")","v":false},{"$f":"AND('Ref Score sheet'!B122 = \"a\",'Ref Score sheet'!C122 = \"CON - OFF\")","v":false},{"$f":"AND('Ref Score sheet'!B122 = \"a\",'Ref Score sheet'!C122 = \"CON - ON\")","v":false},{"$f":"AND('Ref Score sheet'!B122=\"a\",'Ref Score sheet'!C122=\"RT-on\")","v":false},{"$f":"AND('Ref Score sheet'!B122=\"a\",'Ref Score sheet'!C122=\"RT-off\")","v":false},{"$f":"AND('Ref Score sheet'!$B122 = \"a\",'Ref Score sheet'!$C122 = \"rc\")","v":false},{"$f":"AND('Ref Score sheet'!$B122 = \"a\",'Ref Score sheet'!$C122 = \"rcr\")","v":false},{"$f":"AND('Ref Score sheet'!$B122 = \"a\",'Ref Score sheet'!$C122 = \"yc\")","v":false},{"$f":"AND('Ref Score sheet'!$B122 = \"a\",'Ref Score sheet'!$C122 = \"2nd yc\")","v":false},null,{"$f":"AND('Ref Score sheet'!B122 = \"\",'Ref Score sheet'!C122 = \"fh-e\")","v":false},""]
[null,{"$f":"AND('Ref Score sheet'!B123 = \"h\",'Ref Score sheet'!C123 = \"t\")","v":false},{"$f":"AND('Ref Score sheet'!B123 = \"h\",'Ref Score sheet'!C123 = \"pt\")","v":false},{"$f":"AND('Ref Score sheet'!B123 = \"h\",'Ref Score sheet'!C123 = \"c\")","v":false},{"$f":"AND('Ref Score sheet'!B123 = \"h\",'Ref Score sheet'!C123 = \"p\")","v":false},{"$f":"AND('Ref Score sheet'!B123 = \"h\",'Ref Score sheet'!C123 = \"dg\")","v":false},0,0,0,0,0,0,0,null,null,{"$f":"AND('Ref Score sheet'!B123 = \"h\",'Ref Score sheet'!C123 = \"bl-off\")","v":false},{"$f":"AND('Ref Score sheet'!B123 = \"h\",'Ref Score sheet'!C123 = \"bl-on\")","v":false},{"$f":"AND('Ref Score sheet'!B123 = \"h\",'Ref Score sheet'!C123 = \"blr-off\")","v":false},{"$f":"AND('Ref Score sheet'!B123 = \"h\",'Ref Score sheet'!C123 = \"blr-on\")","v":false},{"$f":"AND('Ref Score sheet'!B123 = \"h\",'Ref Score sheet'!C123 = \"RI-off\")","v":false},{"$f":"AND('Ref Score sheet'!B123 = \"h\",'Ref Score sheet'!C123 = \"RI-on\")","v":false},{"$f":"AND('Ref Score sheet'!B123 = \"h\",'Ref Score sheet'!C123 = \"CON-OFF\")","v":false},{"$f":"AND('Ref Score sheet'!B123 = \"h\",'Ref Score sheet'!C123 = \"CON-ON\")","v":false},{"$f":"AND('Ref Score sheet'!B123 = \"h\",'Ref Score sheet'!C123 = \"RT-on\")","v":false},{"$f":"AND('Ref Score sheet'!B123 = \"h\",'Ref Score sheet'!C123 = \"RT-off\")","v":false},{"$f":"AND('Ref Score sheet'!$B123 = \"h\",'Ref Score sheet'!$C123 = \"rc\")","v":false},{"$f":"AND('Ref Score sheet'!$B123 = \"h\",'Ref Score sheet'!$C123 = \"rcr\")","v":false},{"$f":"AND('Ref Score sheet'!$B123 = \"h\",'Ref Score sheet'!$C123 = \"yc\")","v":false},{"$f":"AND('Ref Score sheet'!$B123 = \"h\",'Ref Score sheet'!$C123 = \"2nd yc\")","v":false},null,{"$f":"AND('Ref Score sheet'!B123 = \"\",'Ref Score sheet'!C123 = \"fh-e\")","v":false},"",null,null,{"$f":"AND('Ref Score sheet'!B123=\"a\",'Ref Score sheet'!C123=\"t\")","v":false},{"$f":"AND('Ref Score sheet'!B123=\"a\",'Ref Score sheet'!C123=\"pt\")","v":false},{"$f":"AND('Ref Score sheet'!B123=\"a\",'Ref Score sheet'!C123=\"c\")","v":false},{"$f":"AND('Ref Score sheet'!B123=\"a\",'Ref Score sheet'!C123=\"p\")","v":false},{"$f":"AND('Ref Score sheet'!B123=\"a\",'Ref Score sheet'!C123=\"dg\")","v":false},0,0,0,0,0,0,0,null,{"$f":"AND('Ref Score sheet'!B123=\"a\",'Ref Score sheet'!C123=\"bl-off\")","v":false},{"$f":"AND('Ref Score sheet'!B123=\"a\",'Ref Score sheet'!C123=\"bl-on\")","v":false},{"$f":"AND('Ref Score sheet'!B123 = \"a\",'Ref Score sheet'!C123 = \"blr-off\")","v":false},{"$f":"AND('Ref Score sheet'!B123 = \"a\",'Ref Score sheet'!C123 = \"blr-on\")","v":false},{"$f":"AND('Ref Score sheet'!B123=\"a\",'Ref Score sheet'!C123=\"RI-off\")","v":false},{"$f":"AND('Ref Score sheet'!B123=\"a\",'Ref Score sheet'!C123=\"RI-on\")","v":false},{"$f":"AND('Ref Score sheet'!B123 = \"a\",'Ref Score sheet'!C123 = \"CON - OFF\")","v":false},{"$f":"AND('Ref Score sheet'!B123 = \"a\",'Ref Score sheet'!C123 = \"CON - ON\")","v":false},{"$f":"AND('Ref Score sheet'!B123=\"a\",'Ref Score sheet'!C123=\"RT-on\")","v":false},{"$f":"AND('Ref Score sheet'!B123=\"a\",'Ref Score sheet'!C123=\"RT-off\")","v":false},{"$f":"AND('Ref Score sheet'!$B123 = \"a\",'Ref Score sheet'!$C123 = \"rc\")","v":false},{"$f":"AND('Ref Score sheet'!$B123 = \"a\",'Ref Score sheet'!$C123 = \"rcr\")","v":false},{"$f":"AND('Ref Score sheet'!$B123 = \"a\",'Ref Score sheet'!$C123 = \"yc\")","v":false},{"$f":"AND('Ref Score sheet'!$B123 = \"a\",'Ref Score sheet'!$C123 = \"2nd yc\")","v":false},null,{"$f":"AND('Ref Score sheet'!B123 = \"\",'Ref Score sheet'!C123 = \"fh-e\")","v":false},""]
[null,{"$f":"AND('Ref Score sheet'!B124 = \"h\",'Ref Score sheet'!C124 = \"t\")","v":false},{"$f":"AND('Ref Score sheet'!B124 = \"h\",'Ref Score sheet'!C124 = \"pt\")","v":false},{"$f":"AND('Ref Score sheet'!B124 = \"h\",'Ref Score sheet'!C124 = \"c\")","v":false},{"$f":"AND('Ref Score sheet'!B124 = \"h\",'Ref Score sheet'!C124 = \"p\")","v":false},{"$f":"AND('Ref Score sheet'!B124 = \"h\",'Ref Score sheet'!C124 = \"dg\")","v":false},0,0,0,0,0,0,0,null,null,{"$f":"AND('Ref Score sheet'!B124 = \"h\",'Ref Score sheet'!C124 = \"bl-off\")","v":false},{"$f":"AND('Ref Score sheet'!B124 = \"h\",'Ref Score sheet'!C124 = \"bl-on\")","v":false},{"$f":"AND('Ref Score sheet'!B124 = \"h\",'Ref Score sheet'!C124 = \"blr-off\")","v":false},{"$f":"AND('Ref Score sheet'!B124 = \"h\",'Ref Score sheet'!C124 = \"blr-on\")","v":false},{"$f":"AND('Ref Score sheet'!B124 = \"h\",'Ref Score sheet'!C124 = \"RI-off\")","v":false},{"$f":"AND('Ref Score sheet'!B124 = \"h\",'Ref Score sheet'!C124 = \"RI-on\")","v":false},{"$f":"AND('Ref Score sheet'!B124 = \"h\",'Ref Score sheet'!C124 = \"CON-OFF\")","v":false},{"$f":"AND('Ref Score sheet'!B124 = \"h\",'Ref Score sheet'!C124 = \"CON-ON\")","v":false},{"$f":"AND('Ref Score sheet'!B124 = \"h\",'Ref Score sheet'!C124 = \"RT-on\")","v":false},{"$f":"AND('Ref Score sheet'!B124 = \"h\",'Ref Score sheet'!C124 = \"RT-off\")","v":false},{"$f":"AND('Ref Score sheet'!$B124 = \"h\",'Ref Score sheet'!$C124 = \"rc\")","v":false},{"$f":"AND('Ref Score sheet'!$B124 = \"h\",'Ref Score sheet'!$C124 = \"rcr\")","v":false},{"$f":"AND('Ref Score sheet'!$B124 = \"h\",'Ref Score sheet'!$C124 = \"yc\")","v":false},{"$f":"AND('Ref Score sheet'!$B124 = \"h\",'Ref Score sheet'!$C124 = \"2nd yc\")","v":false},null,{"$f":"AND('Ref Score sheet'!B124 = \"\",'Ref Score sheet'!C124 = \"fh-e\")","v":false},"",null,null,{"$f":"AND('Ref Score sheet'!B124=\"a\",'Ref Score sheet'!C124=\"t\")","v":false},{"$f":"AND('Ref Score sheet'!B124=\"a\",'Ref Score sheet'!C124=\"pt\")","v":false},{"$f":"AND('Ref Score sheet'!B124=\"a\",'Ref Score sheet'!C124=\"c\")","v":false},{"$f":"AND('Ref Score sheet'!B124=\"a\",'Ref Score sheet'!C124=\"p\")","v":false},{"$f":"AND('Ref Score sheet'!B124=\"a\",'Ref Score sheet'!C124=\"dg\")","v":false},0,0,0,0,0,0,0,null,{"$f":"AND('Ref Score sheet'!B124=\"a\",'Ref Score sheet'!C124=\"bl-off\")","v":false},{"$f":"AND('Ref Score sheet'!B124=\"a\",'Ref Score sheet'!C124=\"bl-on\")","v":false},{"$f":"AND('Ref Score sheet'!B124 = \"a\",'Ref Score sheet'!C124 = \"blr-off\")","v":false},{"$f":"AND('Ref Score sheet'!B124 = \"a\",'Ref Score sheet'!C124 = \"blr-on\")","v":false},{"$f":"AND('Ref Score sheet'!B124=\"a\",'Ref Score sheet'!C124=\"RI-off\")","v":false},{"$f":"AND('Ref Score sheet'!B124=\"a\",'Ref Score sheet'!C124=\"RI-on\")","v":false},{"$f":"AND('Ref Score sheet'!B124 = \"a\",'Ref Score sheet'!C124 = \"CON - OFF\")","v":false},{"$f":"AND('Ref Score sheet'!B124 = \"a\",'Ref Score sheet'!C124 = \"CON - ON\")","v":false},{"$f":"AND('Ref Score sheet'!B124=\"a\",'Ref Score sheet'!C124=\"RT-on\")","v":false},{"$f":"AND('Ref Score sheet'!B124=\"a\",'Ref Score sheet'!C124=\"RT-off\")","v":false},{"$f":"AND('Ref Score sheet'!$B124 = \"a\",'Ref Score sheet'!$C124 = \"rc\")","v":false},{"$f":"AND('Ref Score sheet'!$B124 = \"a\",'Ref Score sheet'!$C124 = \"rcr\")","v":false},{"$f":"AND('Ref Score sheet'!$B124 = \"a\",'Ref Score sheet'!$C124 = \"yc\")","v":false},{"$f":"AND('Ref Score sheet'!$B124 = \"a\",'Ref Score sheet'!$C124 = \"2nd yc\")","v":false},null,{"$f":"AND('Ref Score sheet'!B124 = \"\",'Ref Score sheet'!C124 = \"fh-e\")","v":false},""]
[null,{"$f":"COUNTIF(B12:B119,TRUE)","v":0},{"$f":"COUNTIF(C12:C119,TRUE)","v":0},{"$f":"COUNTIF(D12:D119,TRUE)","v":0},{"$f":"COUNTIF(E12:E119,TRUE)","v":0},{"$f":"COUNTIF(F12:F119,TRUE)","v":0},null,null,null,null,null,"Final Score",{"$f":"M119","v":0},null,null,{"$f":"COUNTIF(P12:P119,TRUE)","v":0},0,0,0,0,0,0,0,0,0,0,0,0,0,"Halftime Score",null,{"$f":"MAX(AF12:AF119)","v":0},null,null,{"$f":"COUNTIF(AI12:AI119,TRUE)","v":0},{"$f":"COUNTIF(AJ12:AJ119,TRUE)","v":0},{"$f":"COUNTIF(AK12:AK119,TRUE)","v":0},{"$f":"COUNTIF(AL12:AL119,TRUE)","v":0},{"$f":"COUNTIF(AM12:AM119,TRUE)","v":0},null,null,null,null,null,"Final Score",{"$f":"AT119","v":0},null,{"$f":"COUNTIF(AV11:AV119,TRUE)","v":0},0,0,0,0,0,0,0,{"$f":"COUNTIF(BD11:BD119,TRUE)","v":0},0,0,0,0,0,"Halftime Score",null,{"$f":"MAX(BL12:BL119)","v":0}]

{"sheet":"Codes","index":7,"n_rows":40,"n_cols":4,"rows_kept":40,"cut":false,"hidden":true,"merged":[]}
["T","H","Currie Cup Premier Division","RT-OFF"]
["PT","A","Currie Cup 1st Division","CON-Off"]
["C",null,"SA Cup","RI-OFF"]
["MC",null,"U19 SA Rugby Championship"]
["P",null,"U20 SA Rugby Championship"]
["MP",null,"U21 SA Rugby Championship"]
["DG",null,"Women SA Rugby Premier Division"]
["MDG",null,"Women SA Rugby First Division"]
["BL-Off"]
["BL-On"]
["BLR-Off"]
["BLR-On"]
["RT-OFF"]
["RT-ON"]
["RI-Off"]
["RI-On"]
["FP-Off"]
["FP-On"]
["FRC-Off"]
["FRC-On"]
["FRCR-Off"]
["FRCR-On"]
["UCS-Off"]
["UCS-On"]
["HIA-Off"]
["HIA-On"]
["HIAR"]
["HIAR-Off"]
["CON-Off"]
["CON-On"]
["TCO"]
["RC"]
["RC-R"]
["YC"]
["YC-R"]
["2nd YC"]
["FH-S"]
["FH-E"]
["SH-S"]
["SH-E"]